BEGIN:VCALENDAR
VERSION:2.0
PRODID:-// - ECPv6.15.15//NONSGML v1.0//EN
CALSCALE:GREGORIAN
METHOD:PUBLISH
X-ORIGINAL-URL:https://downtowntomsriver.com
X-WR-CALDESC:Events for 
REFRESH-INTERVAL;VALUE=DURATION:PT1H
X-Robots-Tag:noindex
X-PUBLISHED-TTL:PT1H
BEGIN:VTIMEZONE
TZID:America/New_York
BEGIN:DAYLIGHT
TZOFFSETFROM:-0500
TZOFFSETTO:-0400
TZNAME:EDT
DTSTART:20210314T070000
END:DAYLIGHT
BEGIN:STANDARD
TZOFFSETFROM:-0400
TZOFFSETTO:-0500
TZNAME:EST
DTSTART:20211107T060000
END:STANDARD
BEGIN:DAYLIGHT
TZOFFSETFROM:-0500
TZOFFSETTO:-0400
TZNAME:EDT
DTSTART:20220313T070000
END:DAYLIGHT
BEGIN:STANDARD
TZOFFSETFROM:-0400
TZOFFSETTO:-0500
TZNAME:EST
DTSTART:20221106T060000
END:STANDARD
BEGIN:DAYLIGHT
TZOFFSETFROM:-0500
TZOFFSETTO:-0400
TZNAME:EDT
DTSTART:20230312T070000
END:DAYLIGHT
BEGIN:STANDARD
TZOFFSETFROM:-0400
TZOFFSETTO:-0500
TZNAME:EST
DTSTART:20231105T060000
END:STANDARD
BEGIN:DAYLIGHT
TZOFFSETFROM:-0500
TZOFFSETTO:-0400
TZNAME:EDT
DTSTART:20240310T070000
END:DAYLIGHT
BEGIN:STANDARD
TZOFFSETFROM:-0400
TZOFFSETTO:-0500
TZNAME:EST
DTSTART:20241103T060000
END:STANDARD
END:VTIMEZONE
BEGIN:VEVENT
DTSTART;TZID=America/New_York:20230617T170000
DTEND;TZID=America/New_York:20230617T210000
DTSTAMP:20260423T152044
CREATED:20230505T190541Z
LAST-MODIFIED:20230505T190933Z
UID:10000785-1687021200-1687035600@downtowntomsriver.com
SUMMARY:Downtown Night Out
DESCRIPTION:Enjoy outdoor dining with the Downtown Districts restaurants\, distillery\, brewery and small businesses!
URL:https://downtowntomsriver.com/event/downtown-night-out-4/2023-06-17/
LOCATION:Washington Street\, Toms River NJ\, 33 Washington St.\, Toms River\, 08753\, United States
CATEGORIES:Downtown Toms River Events
ATTACH;FMTTYPE=image/jpeg:https://downtowntomsriver.com/wp-content/uploads/2023/05/340879431_148515614589249_9157111285139196440_n.jpg
ORGANIZER;CN="Downtown Toms River BID":MAILTO:info@downtowntomsriver.com
END:VEVENT
BEGIN:VEVENT
DTSTART;TZID=America/New_York:20230616T170000
DTEND;TZID=America/New_York:20230616T210000
DTSTAMP:20260423T152044
CREATED:20230505T190541Z
LAST-MODIFIED:20230505T190933Z
UID:10000784-1686934800-1686949200@downtowntomsriver.com
SUMMARY:Downtown Night Out
DESCRIPTION:Enjoy outdoor dining with the Downtown Districts restaurants\, distillery\, brewery and small businesses!
URL:https://downtowntomsriver.com/event/downtown-night-out-4/2023-06-16/
LOCATION:Washington Street\, Toms River NJ\, 33 Washington St.\, Toms River\, 08753\, United States
CATEGORIES:Downtown Toms River Events
ATTACH;FMTTYPE=image/jpeg:https://downtowntomsriver.com/wp-content/uploads/2023/05/340879431_148515614589249_9157111285139196440_n.jpg
ORGANIZER;CN="Downtown Toms River BID":MAILTO:info@downtowntomsriver.com
END:VEVENT
BEGIN:VEVENT
DTSTART;TZID=America/New_York:20230614T180000
DTEND;TZID=America/New_York:20230614T210000
DTSTAMP:20260423T152044
CREATED:20230609T154527Z
LAST-MODIFIED:20230609T173912Z
UID:10000866-1686765600-1686776400@downtowntomsriver.com
SUMMARY:Cruisin' Downtown
DESCRIPTION:Join The Downtown Toms River Business Improvement District and The Vintage Automobile Club of Ocean County for Cruisin’ Downtown sponsored by Celebrity Ford.\nEnjoy a street lined with classic cars\, live entertainment and DJ. Downtown restaurants and businesses will be open. Head downtown for a fun family friendly event. Parking is free after 5pm in downtown.
URL:https://downtowntomsriver.com/event/cruisin-downtown-3/
LOCATION:Washington Street\, Toms River NJ\, 33 Washington St.\, Toms River\, 08753\, United States
ATTACH;FMTTYPE=image/jpeg:https://downtowntomsriver.com/wp-content/uploads/2023/06/278151658_10160160607559083_5654201436801246960_n-1.jpg
END:VEVENT
BEGIN:VEVENT
DTSTART;TZID=America/New_York:20230610T170000
DTEND;TZID=America/New_York:20230610T210000
DTSTAMP:20260423T152044
CREATED:20230505T190541Z
LAST-MODIFIED:20230505T190933Z
UID:10000783-1686416400-1686430800@downtowntomsriver.com
SUMMARY:Downtown Night Out
DESCRIPTION:Enjoy outdoor dining with the Downtown Districts restaurants\, distillery\, brewery and small businesses!
URL:https://downtowntomsriver.com/event/downtown-night-out-4/2023-06-10/
LOCATION:Washington Street\, Toms River NJ\, 33 Washington St.\, Toms River\, 08753\, United States
CATEGORIES:Downtown Toms River Events
ATTACH;FMTTYPE=image/jpeg:https://downtowntomsriver.com/wp-content/uploads/2023/05/340879431_148515614589249_9157111285139196440_n.jpg
ORGANIZER;CN="Downtown Toms River BID":MAILTO:info@downtowntomsriver.com
END:VEVENT
BEGIN:VEVENT
DTSTART;TZID=America/New_York:20230609T170000
DTEND;TZID=America/New_York:20230609T210000
DTSTAMP:20260423T152044
CREATED:20230505T190541Z
LAST-MODIFIED:20230505T190933Z
UID:10000782-1686330000-1686344400@downtowntomsriver.com
SUMMARY:Downtown Night Out
DESCRIPTION:Enjoy outdoor dining with the Downtown Districts restaurants\, distillery\, brewery and small businesses!
URL:https://downtowntomsriver.com/event/downtown-night-out-4/2023-06-09/
LOCATION:Washington Street\, Toms River NJ\, 33 Washington St.\, Toms River\, 08753\, United States
CATEGORIES:Downtown Toms River Events
ATTACH;FMTTYPE=image/jpeg:https://downtowntomsriver.com/wp-content/uploads/2023/05/340879431_148515614589249_9157111285139196440_n.jpg
ORGANIZER;CN="Downtown Toms River BID":MAILTO:info@downtowntomsriver.com
END:VEVENT
BEGIN:VEVENT
DTSTART;TZID=America/New_York:20230609T170000
DTEND;TZID=America/New_York:20230609T210000
DTSTAMP:20260423T152044
CREATED:20230417T191708Z
LAST-MODIFIED:20230515T131954Z
UID:10000760-1686330000-1686344400@downtowntomsriver.com
SUMMARY:Country Line Dancing in the Street!
DESCRIPTION:Enjoy Country Line Dancing with Fancy Feet Line Dancing from 5pm – 9pm. Grab a drink and some good eats and dance the night away!
URL:https://downtowntomsriver.com/event/country-line-dancing-in-the-street/
LOCATION:Washington Street\, Toms River NJ\, 33 Washington St.\, Toms River\, 08753\, United States
CATEGORIES:Arts & Cluture
ATTACH;FMTTYPE=image/png:https://downtowntomsriver.com/wp-content/uploads/2023/04/Line-Dancing-2.png
END:VEVENT
BEGIN:VEVENT
DTSTART;TZID=America/New_York:20230603T170000
DTEND;TZID=America/New_York:20230603T210000
DTSTAMP:20260423T152044
CREATED:20230505T190541Z
LAST-MODIFIED:20230505T190933Z
UID:10000781-1685811600-1685826000@downtowntomsriver.com
SUMMARY:Downtown Night Out
DESCRIPTION:Enjoy outdoor dining with the Downtown Districts restaurants\, distillery\, brewery and small businesses!
URL:https://downtowntomsriver.com/event/downtown-night-out-4/2023-06-03/
LOCATION:Washington Street\, Toms River NJ\, 33 Washington St.\, Toms River\, 08753\, United States
CATEGORIES:Downtown Toms River Events
ATTACH;FMTTYPE=image/jpeg:https://downtowntomsriver.com/wp-content/uploads/2023/05/340879431_148515614589249_9157111285139196440_n.jpg
ORGANIZER;CN="Downtown Toms River BID":MAILTO:info@downtowntomsriver.com
END:VEVENT
BEGIN:VEVENT
DTSTART;TZID=America/New_York:20230602T170000
DTEND;TZID=America/New_York:20230602T210000
DTSTAMP:20260423T152044
CREATED:20230505T190541Z
LAST-MODIFIED:20230505T190933Z
UID:10000780-1685725200-1685739600@downtowntomsriver.com
SUMMARY:Downtown Night Out
DESCRIPTION:Enjoy outdoor dining with the Downtown Districts restaurants\, distillery\, brewery and small businesses!
URL:https://downtowntomsriver.com/event/downtown-night-out-4/2023-06-02/
LOCATION:Washington Street\, Toms River NJ\, 33 Washington St.\, Toms River\, 08753\, United States
CATEGORIES:Downtown Toms River Events
ATTACH;FMTTYPE=image/jpeg:https://downtowntomsriver.com/wp-content/uploads/2023/05/340879431_148515614589249_9157111285139196440_n.jpg
ORGANIZER;CN="Downtown Toms River BID":MAILTO:info@downtowntomsriver.com
END:VEVENT
BEGIN:VEVENT
DTSTART;TZID=America/New_York:20230527T170000
DTEND;TZID=America/New_York:20230527T210000
DTSTAMP:20260423T152044
CREATED:20230505T190541Z
LAST-MODIFIED:20230505T190933Z
UID:10000779-1685206800-1685221200@downtowntomsriver.com
SUMMARY:Downtown Night Out
DESCRIPTION:Enjoy outdoor dining with the Downtown Districts restaurants\, distillery\, brewery and small businesses!
URL:https://downtowntomsriver.com/event/downtown-night-out-4/2023-05-27/
LOCATION:Washington Street\, Toms River NJ\, 33 Washington St.\, Toms River\, 08753\, United States
CATEGORIES:Downtown Toms River Events
ATTACH;FMTTYPE=image/jpeg:https://downtowntomsriver.com/wp-content/uploads/2023/05/340879431_148515614589249_9157111285139196440_n.jpg
ORGANIZER;CN="Downtown Toms River BID":MAILTO:info@downtowntomsriver.com
END:VEVENT
BEGIN:VEVENT
DTSTART;TZID=America/New_York:20230526T170000
DTEND;TZID=America/New_York:20230526T210000
DTSTAMP:20260423T152044
CREATED:20230505T190541Z
LAST-MODIFIED:20230505T190933Z
UID:10000778-1685120400-1685134800@downtowntomsriver.com
SUMMARY:Downtown Night Out
DESCRIPTION:Enjoy outdoor dining with the Downtown Districts restaurants\, distillery\, brewery and small businesses!
URL:https://downtowntomsriver.com/event/downtown-night-out-4/2023-05-26/
LOCATION:Washington Street\, Toms River NJ\, 33 Washington St.\, Toms River\, 08753\, United States
CATEGORIES:Downtown Toms River Events
ATTACH;FMTTYPE=image/jpeg:https://downtowntomsriver.com/wp-content/uploads/2023/05/340879431_148515614589249_9157111285139196440_n.jpg
ORGANIZER;CN="Downtown Toms River BID":MAILTO:info@downtowntomsriver.com
END:VEVENT
BEGIN:VEVENT
DTSTART;TZID=America/New_York:20230520T170000
DTEND;TZID=America/New_York:20230520T210000
DTSTAMP:20260423T152044
CREATED:20230505T190541Z
LAST-MODIFIED:20230505T190933Z
UID:10000777-1684602000-1684616400@downtowntomsriver.com
SUMMARY:Downtown Night Out
DESCRIPTION:Enjoy outdoor dining with the Downtown Districts restaurants\, distillery\, brewery and small businesses!
URL:https://downtowntomsriver.com/event/downtown-night-out-4/2023-05-20/
LOCATION:Washington Street\, Toms River NJ\, 33 Washington St.\, Toms River\, 08753\, United States
CATEGORIES:Downtown Toms River Events
ATTACH;FMTTYPE=image/jpeg:https://downtowntomsriver.com/wp-content/uploads/2023/05/340879431_148515614589249_9157111285139196440_n.jpg
ORGANIZER;CN="Downtown Toms River BID":MAILTO:info@downtowntomsriver.com
END:VEVENT
BEGIN:VEVENT
DTSTART;TZID=America/New_York:20230519T170000
DTEND;TZID=America/New_York:20230519T210000
DTSTAMP:20260423T152044
CREATED:20230505T190541Z
LAST-MODIFIED:20230505T190933Z
UID:10000776-1684515600-1684530000@downtowntomsriver.com
SUMMARY:Downtown Night Out
DESCRIPTION:Enjoy outdoor dining with the Downtown Districts restaurants\, distillery\, brewery and small businesses!
URL:https://downtowntomsriver.com/event/downtown-night-out-4/2023-05-19/
LOCATION:Washington Street\, Toms River NJ\, 33 Washington St.\, Toms River\, 08753\, United States
CATEGORIES:Downtown Toms River Events
ATTACH;FMTTYPE=image/jpeg:https://downtowntomsriver.com/wp-content/uploads/2023/05/340879431_148515614589249_9157111285139196440_n.jpg
ORGANIZER;CN="Downtown Toms River BID":MAILTO:info@downtowntomsriver.com
END:VEVENT
BEGIN:VEVENT
DTSTART;TZID=America/New_York:20230513T170000
DTEND;TZID=America/New_York:20230513T210000
DTSTAMP:20260423T152044
CREATED:20230505T190541Z
LAST-MODIFIED:20230505T190933Z
UID:10000775-1683997200-1684011600@downtowntomsriver.com
SUMMARY:Downtown Night Out
DESCRIPTION:Enjoy outdoor dining with the Downtown Districts restaurants\, distillery\, brewery and small businesses!
URL:https://downtowntomsriver.com/event/downtown-night-out-4/2023-05-13/
LOCATION:Washington Street\, Toms River NJ\, 33 Washington St.\, Toms River\, 08753\, United States
CATEGORIES:Downtown Toms River Events
ATTACH;FMTTYPE=image/jpeg:https://downtowntomsriver.com/wp-content/uploads/2023/05/340879431_148515614589249_9157111285139196440_n.jpg
ORGANIZER;CN="Downtown Toms River BID":MAILTO:info@downtowntomsriver.com
END:VEVENT
BEGIN:VEVENT
DTSTART;TZID=America/New_York:20230512T170000
DTEND;TZID=America/New_York:20230512T210000
DTSTAMP:20260423T152044
CREATED:20230505T190541Z
LAST-MODIFIED:20230505T190933Z
UID:10000774-1683910800-1683925200@downtowntomsriver.com
SUMMARY:Downtown Night Out
DESCRIPTION:Enjoy outdoor dining with the Downtown Districts restaurants\, distillery\, brewery and small businesses!
URL:https://downtowntomsriver.com/event/downtown-night-out-4/2023-05-12/
LOCATION:Washington Street\, Toms River NJ\, 33 Washington St.\, Toms River\, 08753\, United States
CATEGORIES:Downtown Toms River Events
ATTACH;FMTTYPE=image/jpeg:https://downtowntomsriver.com/wp-content/uploads/2023/05/340879431_148515614589249_9157111285139196440_n.jpg
ORGANIZER;CN="Downtown Toms River BID":MAILTO:info@downtowntomsriver.com
END:VEVENT
BEGIN:VEVENT
DTSTART;TZID=America/New_York:20230506T170000
DTEND;TZID=America/New_York:20230506T210000
DTSTAMP:20260423T152044
CREATED:20230505T190541Z
LAST-MODIFIED:20230505T190933Z
UID:10000773-1683392400-1683406800@downtowntomsriver.com
SUMMARY:Downtown Night Out
DESCRIPTION:Enjoy outdoor dining with the Downtown Districts restaurants\, distillery\, brewery and small businesses!
URL:https://downtowntomsriver.com/event/downtown-night-out-4/2023-05-06/
LOCATION:Washington Street\, Toms River NJ\, 33 Washington St.\, Toms River\, 08753\, United States
CATEGORIES:Downtown Toms River Events
ATTACH;FMTTYPE=image/jpeg:https://downtowntomsriver.com/wp-content/uploads/2023/05/340879431_148515614589249_9157111285139196440_n.jpg
ORGANIZER;CN="Downtown Toms River BID":MAILTO:info@downtowntomsriver.com
END:VEVENT
BEGIN:VEVENT
DTSTART;TZID=America/New_York:20230506T120000
DTEND;TZID=America/New_York:20230506T120000
DTSTAMP:20260423T152044
CREATED:20230316T201358Z
LAST-MODIFIED:20230316T201358Z
UID:10000725-1683374400-1683374400@downtowntomsriver.com
SUMMARY:Cinco de Mayo Festival
DESCRIPTION:Join us for a Cinco de Mayo celebration on 5/6/2023! \n12pm – 6pm Located on Washington Street between Main & Robbins. \nLive Mariachi\, handcraft vendors\, and all local businesses will be open to enjoy!
URL:https://downtowntomsriver.com/event/cinco-de-mayo-festival/
LOCATION:Washington Street\, Toms River NJ\, 33 Washington St.\, Toms River\, 08753\, United States
ORGANIZER;CN="Downtown Toms River BID":MAILTO:info@downtowntomsriver.com
END:VEVENT
BEGIN:VEVENT
DTSTART;TZID=America/New_York:20230505T170000
DTEND;TZID=America/New_York:20230505T210000
DTSTAMP:20260423T152044
CREATED:20230505T190541Z
LAST-MODIFIED:20230505T190933Z
UID:10000772-1683306000-1683320400@downtowntomsriver.com
SUMMARY:Downtown Night Out
DESCRIPTION:Enjoy outdoor dining with the Downtown Districts restaurants\, distillery\, brewery and small businesses!
URL:https://downtowntomsriver.com/event/downtown-night-out-4/2023-05-05/
LOCATION:Washington Street\, Toms River NJ\, 33 Washington St.\, Toms River\, 08753\, United States
CATEGORIES:Downtown Toms River Events
ATTACH;FMTTYPE=image/jpeg:https://downtowntomsriver.com/wp-content/uploads/2023/05/340879431_148515614589249_9157111285139196440_n.jpg
ORGANIZER;CN="Downtown Toms River BID":MAILTO:info@downtowntomsriver.com
END:VEVENT
BEGIN:VEVENT
DTSTART;TZID=America/New_York:20221029T170000
DTEND;TZID=America/New_York:20221029T220000
DTSTAMP:20260423T152044
CREATED:20220308T191721Z
LAST-MODIFIED:20220318T173510Z
UID:10000210-1667062800-1667080800@downtowntomsriver.com
SUMMARY:Downtown Night Out
DESCRIPTION:Join The Downtown Toms River Business Improvement District every Friday and Saturday night for Downtown Night Out.  Downtown Toms River comes alive when businesses throughout the district will be open and a section of Washington St. will be closed for outdoor dining\, live entertainment and more.  Please visit our website for participating businesses. \nDowntown Night Out is proudly sponsored by Down’s Ford.
URL:https://downtowntomsriver.com/event/downtown-night-out-3/2022-10-29/
LOCATION:Washington Street\, Toms River NJ\, 33 Washington St.\, Toms River\, 08753\, United States
ORGANIZER;CN="Downtown Toms River BID":MAILTO:info@downtowntomsriver.com
END:VEVENT
BEGIN:VEVENT
DTSTART;TZID=America/New_York:20221028T170000
DTEND;TZID=America/New_York:20221028T220000
DTSTAMP:20260423T152044
CREATED:20220308T191721Z
LAST-MODIFIED:20220318T173510Z
UID:10000209-1666976400-1666994400@downtowntomsriver.com
SUMMARY:Downtown Night Out
DESCRIPTION:Join The Downtown Toms River Business Improvement District every Friday and Saturday night for Downtown Night Out.  Downtown Toms River comes alive when businesses throughout the district will be open and a section of Washington St. will be closed for outdoor dining\, live entertainment and more.  Please visit our website for participating businesses. \nDowntown Night Out is proudly sponsored by Down’s Ford.
URL:https://downtowntomsriver.com/event/downtown-night-out-3/2022-10-28/
LOCATION:Washington Street\, Toms River NJ\, 33 Washington St.\, Toms River\, 08753\, United States
ORGANIZER;CN="Downtown Toms River BID":MAILTO:info@downtowntomsriver.com
END:VEVENT
BEGIN:VEVENT
DTSTART;TZID=America/New_York:20221022T170000
DTEND;TZID=America/New_York:20221022T220000
DTSTAMP:20260423T152044
CREATED:20220308T191721Z
LAST-MODIFIED:20220318T173510Z
UID:10000208-1666458000-1666476000@downtowntomsriver.com
SUMMARY:Downtown Night Out
DESCRIPTION:Join The Downtown Toms River Business Improvement District every Friday and Saturday night for Downtown Night Out.  Downtown Toms River comes alive when businesses throughout the district will be open and a section of Washington St. will be closed for outdoor dining\, live entertainment and more.  Please visit our website for participating businesses. \nDowntown Night Out is proudly sponsored by Down’s Ford.
URL:https://downtowntomsriver.com/event/downtown-night-out-3/2022-10-22/
LOCATION:Washington Street\, Toms River NJ\, 33 Washington St.\, Toms River\, 08753\, United States
ORGANIZER;CN="Downtown Toms River BID":MAILTO:info@downtowntomsriver.com
END:VEVENT
BEGIN:VEVENT
DTSTART;TZID=America/New_York:20221021T170000
DTEND;TZID=America/New_York:20221021T220000
DTSTAMP:20260423T152044
CREATED:20220308T191721Z
LAST-MODIFIED:20220318T173510Z
UID:10000207-1666371600-1666389600@downtowntomsriver.com
SUMMARY:Downtown Night Out
DESCRIPTION:Join The Downtown Toms River Business Improvement District every Friday and Saturday night for Downtown Night Out.  Downtown Toms River comes alive when businesses throughout the district will be open and a section of Washington St. will be closed for outdoor dining\, live entertainment and more.  Please visit our website for participating businesses. \nDowntown Night Out is proudly sponsored by Down’s Ford.
URL:https://downtowntomsriver.com/event/downtown-night-out-3/2022-10-21/
LOCATION:Washington Street\, Toms River NJ\, 33 Washington St.\, Toms River\, 08753\, United States
ORGANIZER;CN="Downtown Toms River BID":MAILTO:info@downtowntomsriver.com
END:VEVENT
BEGIN:VEVENT
DTSTART;TZID=America/New_York:20221015T170000
DTEND;TZID=America/New_York:20221015T220000
DTSTAMP:20260423T152044
CREATED:20220308T191721Z
LAST-MODIFIED:20220318T173510Z
UID:10000206-1665853200-1665871200@downtowntomsriver.com
SUMMARY:Downtown Night Out
DESCRIPTION:Join The Downtown Toms River Business Improvement District every Friday and Saturday night for Downtown Night Out.  Downtown Toms River comes alive when businesses throughout the district will be open and a section of Washington St. will be closed for outdoor dining\, live entertainment and more.  Please visit our website for participating businesses. \nDowntown Night Out is proudly sponsored by Down’s Ford.
URL:https://downtowntomsriver.com/event/downtown-night-out-3/2022-10-15/
LOCATION:Washington Street\, Toms River NJ\, 33 Washington St.\, Toms River\, 08753\, United States
ORGANIZER;CN="Downtown Toms River BID":MAILTO:info@downtowntomsriver.com
END:VEVENT
BEGIN:VEVENT
DTSTART;TZID=America/New_York:20221015T110000
DTEND;TZID=America/New_York:20221015T170000
DTSTAMP:20260423T152044
CREATED:20220829T184903Z
LAST-MODIFIED:20220829T184903Z
UID:10000277-1665831600-1665853200@downtowntomsriver.com
SUMMARY:Harvest Arts Festival
DESCRIPTION:The Harvest Arts Festival is set for Saturday\, October 15th along Washington Street in Downtown Toms River. Washington St. will be filled with food trucks\, merchandise & handcraft vendors\, a beer & wine garden and local artists selling and displaying their works as part of a juried art show. There will be free pumpkin painting for the kids and other kids activities. Live entertainment from local bands throughout the day. Local businesses\, restaurants\, brewery and distillery will be open on the street as well. Free Admission & Free parking in downtown during the event.
URL:https://downtowntomsriver.com/event/harvest-arts-festival-2/
LOCATION:Washington Street\, Toms River NJ\, 33 Washington St.\, Toms River\, 08753\, United States
ORGANIZER;CN="Downtown Toms River BID":MAILTO:info@downtowntomsriver.com
END:VEVENT
BEGIN:VEVENT
DTSTART;TZID=America/New_York:20221014T170000
DTEND;TZID=America/New_York:20221014T220000
DTSTAMP:20260423T152044
CREATED:20220308T191721Z
LAST-MODIFIED:20220318T173510Z
UID:10000205-1665766800-1665784800@downtowntomsriver.com
SUMMARY:Downtown Night Out
DESCRIPTION:Join The Downtown Toms River Business Improvement District every Friday and Saturday night for Downtown Night Out.  Downtown Toms River comes alive when businesses throughout the district will be open and a section of Washington St. will be closed for outdoor dining\, live entertainment and more.  Please visit our website for participating businesses. \nDowntown Night Out is proudly sponsored by Down’s Ford.
URL:https://downtowntomsriver.com/event/downtown-night-out-3/2022-10-14/
LOCATION:Washington Street\, Toms River NJ\, 33 Washington St.\, Toms River\, 08753\, United States
ORGANIZER;CN="Downtown Toms River BID":MAILTO:info@downtowntomsriver.com
END:VEVENT
BEGIN:VEVENT
DTSTART;TZID=America/New_York:20221008T170000
DTEND;TZID=America/New_York:20221008T220000
DTSTAMP:20260423T152044
CREATED:20220308T191721Z
LAST-MODIFIED:20220318T173510Z
UID:10000204-1665248400-1665266400@downtowntomsriver.com
SUMMARY:Downtown Night Out
DESCRIPTION:Join The Downtown Toms River Business Improvement District every Friday and Saturday night for Downtown Night Out.  Downtown Toms River comes alive when businesses throughout the district will be open and a section of Washington St. will be closed for outdoor dining\, live entertainment and more.  Please visit our website for participating businesses. \nDowntown Night Out is proudly sponsored by Down’s Ford.
URL:https://downtowntomsriver.com/event/downtown-night-out-3/2022-10-08/
LOCATION:Washington Street\, Toms River NJ\, 33 Washington St.\, Toms River\, 08753\, United States
ORGANIZER;CN="Downtown Toms River BID":MAILTO:info@downtowntomsriver.com
END:VEVENT
BEGIN:VEVENT
DTSTART;TZID=America/New_York:20221007T170000
DTEND;TZID=America/New_York:20221007T220000
DTSTAMP:20260423T152044
CREATED:20220308T191721Z
LAST-MODIFIED:20220318T173510Z
UID:10000203-1665162000-1665180000@downtowntomsriver.com
SUMMARY:Downtown Night Out
DESCRIPTION:Join The Downtown Toms River Business Improvement District every Friday and Saturday night for Downtown Night Out.  Downtown Toms River comes alive when businesses throughout the district will be open and a section of Washington St. will be closed for outdoor dining\, live entertainment and more.  Please visit our website for participating businesses. \nDowntown Night Out is proudly sponsored by Down’s Ford.
URL:https://downtowntomsriver.com/event/downtown-night-out-3/2022-10-07/
LOCATION:Washington Street\, Toms River NJ\, 33 Washington St.\, Toms River\, 08753\, United States
ORGANIZER;CN="Downtown Toms River BID":MAILTO:info@downtowntomsriver.com
END:VEVENT
BEGIN:VEVENT
DTSTART;TZID=America/New_York:20221001T170000
DTEND;TZID=America/New_York:20221001T220000
DTSTAMP:20260423T152044
CREATED:20220308T191721Z
LAST-MODIFIED:20220318T173510Z
UID:10000202-1664643600-1664661600@downtowntomsriver.com
SUMMARY:Downtown Night Out
DESCRIPTION:Join The Downtown Toms River Business Improvement District every Friday and Saturday night for Downtown Night Out.  Downtown Toms River comes alive when businesses throughout the district will be open and a section of Washington St. will be closed for outdoor dining\, live entertainment and more.  Please visit our website for participating businesses. \nDowntown Night Out is proudly sponsored by Down’s Ford.
URL:https://downtowntomsriver.com/event/downtown-night-out-3/2022-10-01/
LOCATION:Washington Street\, Toms River NJ\, 33 Washington St.\, Toms River\, 08753\, United States
ORGANIZER;CN="Downtown Toms River BID":MAILTO:info@downtowntomsriver.com
END:VEVENT
BEGIN:VEVENT
DTSTART;TZID=America/New_York:20220930T170000
DTEND;TZID=America/New_York:20220930T220000
DTSTAMP:20260423T152044
CREATED:20220308T191721Z
LAST-MODIFIED:20220318T173510Z
UID:10000201-1664557200-1664575200@downtowntomsriver.com
SUMMARY:Downtown Night Out
DESCRIPTION:Join The Downtown Toms River Business Improvement District every Friday and Saturday night for Downtown Night Out.  Downtown Toms River comes alive when businesses throughout the district will be open and a section of Washington St. will be closed for outdoor dining\, live entertainment and more.  Please visit our website for participating businesses. \nDowntown Night Out is proudly sponsored by Down’s Ford.
URL:https://downtowntomsriver.com/event/downtown-night-out-3/2022-09-30/
LOCATION:Washington Street\, Toms River NJ\, 33 Washington St.\, Toms River\, 08753\, United States
ORGANIZER;CN="Downtown Toms River BID":MAILTO:info@downtowntomsriver.com
END:VEVENT
BEGIN:VEVENT
DTSTART;TZID=America/New_York:20220924T170000
DTEND;TZID=America/New_York:20220924T220000
DTSTAMP:20260423T152044
CREATED:20220308T191721Z
LAST-MODIFIED:20220318T173510Z
UID:10000200-1664038800-1664056800@downtowntomsriver.com
SUMMARY:Downtown Night Out
DESCRIPTION:Join The Downtown Toms River Business Improvement District every Friday and Saturday night for Downtown Night Out.  Downtown Toms River comes alive when businesses throughout the district will be open and a section of Washington St. will be closed for outdoor dining\, live entertainment and more.  Please visit our website for participating businesses. \nDowntown Night Out is proudly sponsored by Down’s Ford.
URL:https://downtowntomsriver.com/event/downtown-night-out-3/2022-09-24/
LOCATION:Washington Street\, Toms River NJ\, 33 Washington St.\, Toms River\, 08753\, United States
ORGANIZER;CN="Downtown Toms River BID":MAILTO:info@downtowntomsriver.com
END:VEVENT
BEGIN:VEVENT
DTSTART;TZID=America/New_York:20220923T170000
DTEND;TZID=America/New_York:20220923T220000
DTSTAMP:20260423T152044
CREATED:20220308T191721Z
LAST-MODIFIED:20220318T173510Z
UID:10000199-1663952400-1663970400@downtowntomsriver.com
SUMMARY:Downtown Night Out
DESCRIPTION:Join The Downtown Toms River Business Improvement District every Friday and Saturday night for Downtown Night Out.  Downtown Toms River comes alive when businesses throughout the district will be open and a section of Washington St. will be closed for outdoor dining\, live entertainment and more.  Please visit our website for participating businesses. \nDowntown Night Out is proudly sponsored by Down’s Ford.
URL:https://downtowntomsriver.com/event/downtown-night-out-3/2022-09-23/
LOCATION:Washington Street\, Toms River NJ\, 33 Washington St.\, Toms River\, 08753\, United States
ORGANIZER;CN="Downtown Toms River BID":MAILTO:info@downtowntomsriver.com
END:VEVENT
END:VCALENDAR