BEGIN:VCALENDAR
VERSION:2.0
PRODID:-// - ECPv6.15.15//NONSGML v1.0//EN
CALSCALE:GREGORIAN
METHOD:PUBLISH
X-ORIGINAL-URL:https://downtowntomsriver.com
X-WR-CALDESC:Events for 
REFRESH-INTERVAL;VALUE=DURATION:PT1H
X-Robots-Tag:noindex
X-PUBLISHED-TTL:PT1H
BEGIN:VTIMEZONE
TZID:America/New_York
BEGIN:DAYLIGHT
TZOFFSETFROM:-0500
TZOFFSETTO:-0400
TZNAME:EDT
DTSTART:20210314T070000
END:DAYLIGHT
BEGIN:STANDARD
TZOFFSETFROM:-0400
TZOFFSETTO:-0500
TZNAME:EST
DTSTART:20211107T060000
END:STANDARD
BEGIN:DAYLIGHT
TZOFFSETFROM:-0500
TZOFFSETTO:-0400
TZNAME:EDT
DTSTART:20220313T070000
END:DAYLIGHT
BEGIN:STANDARD
TZOFFSETFROM:-0400
TZOFFSETTO:-0500
TZNAME:EST
DTSTART:20221106T060000
END:STANDARD
BEGIN:DAYLIGHT
TZOFFSETFROM:-0500
TZOFFSETTO:-0400
TZNAME:EDT
DTSTART:20230312T070000
END:DAYLIGHT
BEGIN:STANDARD
TZOFFSETFROM:-0400
TZOFFSETTO:-0500
TZNAME:EST
DTSTART:20231105T060000
END:STANDARD
END:VTIMEZONE
BEGIN:VEVENT
DTSTART;TZID=America/New_York:20220521T100000
DTEND;TZID=America/New_York:20220521T160000
DTSTAMP:20260423T161132
CREATED:20220330T143605Z
LAST-MODIFIED:20220330T143605Z
UID:10000587-1653127200-1653148800@downtowntomsriver.com
SUMMARY:1st Annual WAKE UP TOMS RIVER - TRAC at the Toms River Seaport
DESCRIPTION:Spring has sprung and so has festival season!  Join TRAC at the Toms River Seaport for a great day of art outside and the historic Seaport Museum/gift shop inside.  Local artist and crafters will fill the grounds of the Seaport with handmade original pieces of art of all kinds.  We have also invited local crafters to join us in the colorful\, talent filled local event. \nWhen you are done with this event\, stay parked where you are and walk up Washington St to enjoy Downtown Night Out! \nThis is a free\, family friendly event
URL:https://downtowntomsriver.com/event/1st-annual-wake-up-toms-river-trac-at-the-toms-river-seaport/
LOCATION:Toms River Seaport\, 78 East Water St.\, Toms River\, New Jersey\, 08753
CATEGORIES:Arts & Crafts
ATTACH;FMTTYPE=image/jpeg:https://downtowntomsriver.com/wp-content/uploads/2022/03/TRAC-STICKER.jpg
ORGANIZER;CN="Toms River Artist Community":MAILTO:tomsriverartistcommunity732@gmail.com
END:VEVENT
END:VCALENDAR