BEGIN:VCALENDAR
VERSION:2.0
PRODID:-// - ECPv6.15.15//NONSGML v1.0//EN
CALSCALE:GREGORIAN
METHOD:PUBLISH
X-ORIGINAL-URL:https://downtowntomsriver.com
X-WR-CALDESC:Events for 
REFRESH-INTERVAL;VALUE=DURATION:PT1H
X-Robots-Tag:noindex
X-PUBLISHED-TTL:PT1H
BEGIN:VTIMEZONE
TZID:America/New_York
BEGIN:DAYLIGHT
TZOFFSETFROM:-0500
TZOFFSETTO:-0400
TZNAME:EDT
DTSTART:20190310T070000
END:DAYLIGHT
BEGIN:STANDARD
TZOFFSETFROM:-0400
TZOFFSETTO:-0500
TZNAME:EST
DTSTART:20191103T060000
END:STANDARD
BEGIN:DAYLIGHT
TZOFFSETFROM:-0500
TZOFFSETTO:-0400
TZNAME:EDT
DTSTART:20200308T070000
END:DAYLIGHT
BEGIN:STANDARD
TZOFFSETFROM:-0400
TZOFFSETTO:-0500
TZNAME:EST
DTSTART:20201101T060000
END:STANDARD
BEGIN:DAYLIGHT
TZOFFSETFROM:-0500
TZOFFSETTO:-0400
TZNAME:EDT
DTSTART:20210314T070000
END:DAYLIGHT
BEGIN:STANDARD
TZOFFSETFROM:-0400
TZOFFSETTO:-0500
TZNAME:EST
DTSTART:20211107T060000
END:STANDARD
BEGIN:DAYLIGHT
TZOFFSETFROM:-0500
TZOFFSETTO:-0400
TZNAME:EDT
DTSTART:20220313T070000
END:DAYLIGHT
BEGIN:STANDARD
TZOFFSETFROM:-0400
TZOFFSETTO:-0500
TZNAME:EST
DTSTART:20221106T060000
END:STANDARD
END:VTIMEZONE
BEGIN:VEVENT
DTSTART;TZID=America/New_York:20211206T190000
DTEND;TZID=America/New_York:20211206T200000
DTSTAMP:20260423T184844
CREATED:20211021T125310Z
LAST-MODIFIED:20211021T125310Z
UID:10000551-1638817200-1638820800@downtowntomsriver.com
SUMMARY:Elvistory: Christmas with "The King"
DESCRIPTION:It’s the holiday season and award-winning Elvis Tribute Artist and “Elvis-torian” Ruben Castillo takes you on a Yuletide journey with Elvis as your holiday tour guide! \nDuring this LIVE musical lecture\, you’ll learn about Elvis’s love of the holidays\, traditions and toys that were in fashion during Elvis’s career\, and sing along to some great holiday music made popular by The King himself\, with few tunes that may surprise you!
URL:https://downtowntomsriver.com/event/elvistory-christmas-with-the-king/
LOCATION:The Ocean County Library\, 101 Washington St\, Toms River\, NJ\, 08753\, United States
CATEGORIES:Entertainment
ATTACH;FMTTYPE=image/jpeg:https://downtowntomsriver.com/wp-content/uploads/2021/10/ElvisChristmaswithTheKing.jpg
END:VEVENT
BEGIN:VEVENT
DTSTART;TZID=America/New_York:20211129T190000
DTEND;TZID=America/New_York:20211129T200000
DTSTAMP:20260423T184844
CREATED:20211105T164855Z
LAST-MODIFIED:20211105T164855Z
UID:10000556-1638212400-1638216000@downtowntomsriver.com
SUMMARY:The Korean Conflict: America's Forgotten War
DESCRIPTION:Join presenter Paul Zigo to learn about the Korean War: America’s ‘Forgotten War’. Learn about its profound impact on East-West relations during the Cold War\, the aspects of the war\, and the armistice that brought it to a halt. Registration is required. This presentation will be hosted at the Toms River Branch of the Ocean County Library.  \nPaul E. Zigo\, a history professor\, author and military historian is the founder and director\, of the World War II Era Studies Institute. The institute is dedicated to furthering one’s knowledge and understanding of the WW II era and its impact on history. He is a graduate of Temple University and the United States Army War College. Mr. Paul E. Zigo is a 30 year veteran of the United States Army retiring as a Colonel and is a founding sponsor of the National Museum of the US Army.
URL:https://downtowntomsriver.com/event/the-korean-conflict-americas-forgotten-war/
LOCATION:The Ocean County Library\, 101 Washington St\, Toms River\, NJ\, 08753\, United States
ORGANIZER;CN="The Ocean County Library":MAILTO:programs@theoceancountylibrary.org
END:VEVENT
BEGIN:VEVENT
DTSTART;TZID=America/New_York:20211009T130000
DTEND;TZID=America/New_York:20211009T140000
DTSTAMP:20260423T184844
CREATED:20211004T164751Z
LAST-MODIFIED:20211004T164751Z
UID:10000550-1633784400-1633788000@downtowntomsriver.com
SUMMARY:Live Game Show
DESCRIPTION:Join us for an afternoon of fun and excitement with a live interactive game show complete with podiums\, digital scoring\, lighting\, sound effects\, and video projections. Presented by Brain Wash Games. \nSponsored by the Friends of the Ocean County Library – Toms River. \nPlease register at: https://tinyurl.com/OCLgameshow \n 
URL:https://downtowntomsriver.com/event/live-game-show/
LOCATION:The Ocean County Library\, 101 Washington St\, Toms River\, NJ\, 08753\, United States
CATEGORIES:Entertainment
ATTACH;FMTTYPE=image/jpeg:https://downtowntomsriver.com/wp-content/uploads/2021/10/brain_wash_flyer-1.jpg
ORGANIZER;CN="The Ocean County Library":MAILTO:programs@theoceancountylibrary.org
END:VEVENT
BEGIN:VEVENT
DTSTART;TZID=America/New_York:20200302T180000
DTEND;TZID=America/New_York:20200302T193000
DTSTAMP:20260423T184844
CREATED:20200306T182246Z
LAST-MODIFIED:20200306T182246Z
UID:10000286-1583172000-1583177400@downtowntomsriver.com
SUMMARY:There's a Physical Therapist for That?
DESCRIPTION:Join Dr. Jamie Scomak from Inner Dynamics Physical Therapy as she explains the scope\, diagnoses\, and practices of pelvic physical therapy.
URL:https://downtowntomsriver.com/event/theres-a-physical-therapist-for-that/
LOCATION:The Ocean County Library\, 101 Washington St\, Toms River\, NJ\, 08753\, United States
CATEGORIES:Other
ATTACH;FMTTYPE=image/jpeg:https://downtowntomsriver.com/wp-content/uploads/2020/02/Theres-a-Physical-Therapist-for-That.jpg
END:VEVENT
BEGIN:VEVENT
DTSTART;TZID=America/New_York:20200207T140000
DTEND;TZID=America/New_York:20200207T150000
DTSTAMP:20260423T184844
CREATED:20191220T181017Z
LAST-MODIFIED:20191220T181017Z
UID:10000307-1581084000-1581087600@downtowntomsriver.com
SUMMARY:Friday Film: This Beautiful Fantastic
DESCRIPTION:Come and enjoy an afternoon movie.This week's film is:<br />This Beautiful Fantastic</strong><br />A contemporary fairy tale revolving around the unlikely of friendship between a reclusive young woman with dreams of being a children&rsquo;s book author and a cantankerous widower\, set against the backdrop of a beautiful garden in the heart of London. (PG) 92min
URL:https://downtowntomsriver.com/event/friday-film-this-beautiful-fantastic/
LOCATION:The Ocean County Library\, 101 Washington St\, Toms River\, NJ\, 08753\, United States
ORGANIZER;CN="The Ocean County Library":MAILTO:programs@theoceancountylibrary.org
END:VEVENT
BEGIN:VEVENT
DTSTART;TZID=America/New_York:20200120T183000
DTEND;TZID=America/New_York:20200120T200000
DTSTAMP:20260423T184844
CREATED:20191220T181012Z
LAST-MODIFIED:20191220T181012Z
UID:10000296-1579545000-1579550400@downtowntomsriver.com
SUMMARY:Adult Writers' Group
DESCRIPTION:Are you an aspiring or published novelist\, poet\, screenwriter\, or playwright? Are you looking for motivation or feedback? Join our Adult Writers' Group as we discuss craft\, share work\, and receive constructive criticism! All levels of writing experience and genres are welcome.HOW IT WORKS: Register and come prepared to workshop your work-in-progress or ready to work on a new prompt. Bring your choice of preferred writing materials\, such as pencil and paper or a laptop. Sharing your work during the workshop is encouraged. However\, plagiarism and hate speech will not be tolerate
URL:https://downtowntomsriver.com/event/adult-writers-group/
LOCATION:The Ocean County Library\, 101 Washington St\, Toms River\, NJ\, 08753\, United States
ORGANIZER;CN="The Ocean County Library":MAILTO:programs@theoceancountylibrary.org
END:VEVENT
BEGIN:VEVENT
DTSTART;TZID=America/New_York:20200106T183000
DTEND;TZID=America/New_York:20200106T200000
DTSTAMP:20260423T184844
CREATED:20191220T181019Z
LAST-MODIFIED:20191220T181019Z
UID:10000309-1578335400-1578340800@downtowntomsriver.com
SUMMARY:Noraebang
DESCRIPTION:Start your year off with a fun evening of Korean-style karaoke (Noraebang). Choose from a list of popular American and KPop tunes and sing your heart out.
URL:https://downtowntomsriver.com/event/noraebang/
LOCATION:The Ocean County Library\, 101 Washington St\, Toms River\, NJ\, 08753\, United States
ORGANIZER;CN="The Ocean County Library":MAILTO:programs@theoceancountylibrary.org
END:VEVENT
BEGIN:VEVENT
DTSTART;TZID=America/New_York:20200103T140000
DTEND;TZID=America/New_York:20200103T150000
DTSTAMP:20260423T184844
CREATED:20191220T181015Z
LAST-MODIFIED:20191220T181015Z
UID:10000298-1578060000-1578063600@downtowntomsriver.com
SUMMARY:Friday Film: Battle Of The Exoplanets
DESCRIPTION:Come and enjoy an afternoon movie.This week's film is:<br /><em>Battle of the Exoplanets</strong></em><br />Discovery of the TRAPPIST-1 Solar system in 2015 was a game-changer; its red dwarf star is surrounded by seven Earth-sized planets\, making it a first-of-its-kind find. Battle of the Exoplanets examines this unusual system and asks what progress has been made in the search for life on other planets.<br />(NR) 52 min.</strong>
URL:https://downtowntomsriver.com/event/friday-film-battle-of-the-exoplanets/
LOCATION:The Ocean County Library\, 101 Washington St\, Toms River\, NJ\, 08753\, United States
ORGANIZER;CN="The Ocean County Library":MAILTO:programs@theoceancountylibrary.org
END:VEVENT
END:VCALENDAR