BEGIN:VCALENDAR
VERSION:2.0
PRODID:-// - ECPv6.15.15//NONSGML v1.0//EN
CALSCALE:GREGORIAN
METHOD:PUBLISH
X-ORIGINAL-URL:https://downtowntomsriver.com
X-WR-CALDESC:Events for 
REFRESH-INTERVAL;VALUE=DURATION:PT1H
X-Robots-Tag:noindex
X-PUBLISHED-TTL:PT1H
BEGIN:VTIMEZONE
TZID:America/New_York
BEGIN:DAYLIGHT
TZOFFSETFROM:-0500
TZOFFSETTO:-0400
TZNAME:EDT
DTSTART:20200308T070000
END:DAYLIGHT
BEGIN:STANDARD
TZOFFSETFROM:-0400
TZOFFSETTO:-0500
TZNAME:EST
DTSTART:20201101T060000
END:STANDARD
BEGIN:DAYLIGHT
TZOFFSETFROM:-0500
TZOFFSETTO:-0400
TZNAME:EDT
DTSTART:20210314T070000
END:DAYLIGHT
BEGIN:STANDARD
TZOFFSETFROM:-0400
TZOFFSETTO:-0500
TZNAME:EST
DTSTART:20211107T060000
END:STANDARD
BEGIN:DAYLIGHT
TZOFFSETFROM:-0500
TZOFFSETTO:-0400
TZNAME:EDT
DTSTART:20220313T070000
END:DAYLIGHT
BEGIN:STANDARD
TZOFFSETFROM:-0400
TZOFFSETTO:-0500
TZNAME:EST
DTSTART:20221106T060000
END:STANDARD
END:VTIMEZONE
BEGIN:VEVENT
DTSTART;TZID=America/New_York:20211217T170000
DTEND;TZID=America/New_York:20211217T190000
DTSTAMP:20260423T130035
CREATED:20210920T192820Z
LAST-MODIFIED:20210920T192820Z
UID:10000147-1639760400-1639767600@downtowntomsriver.com
SUMMARY:Kids Make and Take
DESCRIPTION:This is a paint and sip party for children.  We supply everything they need.  They will paint and 8×10 canvas and go home with a “goodie bag” of art supplies.  This will be held in the activity room at the TRAC Gallery.  Registration required. \nPS we might just have a guest star in a red suit! \nTomsriverartistcommunity732@gmail.com \nSeating is limited
URL:https://downtowntomsriver.com/event/kids-make-and-take-3/
LOCATION:The Downtown Shops\, 53 Main St\, Toms Rivet\, NJ\, 08723\, United States
CATEGORIES:Arts & Cluture
ATTACH;FMTTYPE=image/png:https://downtowntomsriver.com/wp-content/uploads/2021/09/white-logo-3.png
ORGANIZER;CN="Toms River Artist Community":MAILTO:tomsriverartistcommunity732@gmail.com
END:VEVENT
BEGIN:VEVENT
DTSTART;TZID=America/New_York:20211130T173000
DTEND;TZID=America/New_York:20211130T203000
DTSTAMP:20260423T130035
CREATED:20210920T184914Z
LAST-MODIFIED:20210920T184914Z
UID:10000114-1638293400-1638304200@downtowntomsriver.com
SUMMARY:Open Studio Night
DESCRIPTION:Join us for an Open Studio night! The last Tuesday of every month 5:30-8:30pm.  Bring your own supplies\, bring your own snacks/drinks.  Come out and paint\, draw\, sketch or whatever you want.  Hang out with your fellow artists\, ask for help if you’re stuck on something\, get new ideas from others and help spark your creativity!  A fun relaxing night to just chill and do some artin’ \nIn the Activity Room at The Downtown Shops @ 53 Main\, 53 Main St. Toms River. \nMembers are free\, non members are welcome to join for $5.00 a session
URL:https://downtowntomsriver.com/event/open-studio-night/2021-11-30/
LOCATION:The Downtown Shops\, 53 Main St\, Toms Rivet\, NJ\, 08723\, United States
CATEGORIES:Arts & Cluture
ATTACH;FMTTYPE=image/png:https://downtowntomsriver.com/wp-content/uploads/2021/09/white-logo-6.png
ORGANIZER;CN="Toms River Artist Community":MAILTO:tomsriverartistcommunity732@gmail.com
END:VEVENT
BEGIN:VEVENT
DTSTART;TZID=America/New_York:20211128T120000
DTEND;TZID=America/New_York:20211128T170000
DTSTAMP:20260423T130035
CREATED:20210927T165212Z
LAST-MODIFIED:20210927T165212Z
UID:10000547-1638100800-1638118800@downtowntomsriver.com
SUMMARY:TRAC – Holiday Bazaar
DESCRIPTION:Join Toms River Artist Community at our Annual Holiday Bazaar.  Held in the Community Room in the Downtown Shops. \nLocal artists selling local products\, small works\, large works\, and Holiday gifts.  Let’s keep our money local this year for the Holidays!
URL:https://downtowntomsriver.com/event/trac-holiday-bazaar-4/
LOCATION:The Downtown Shops\, 53 Main St\, Toms Rivet\, NJ\, 08723\, United States
ORGANIZER;CN="Toms River Artist Community":MAILTO:tomsriverartistcommunity732@gmail.com
END:VEVENT
BEGIN:VEVENT
DTSTART;TZID=America/New_York:20211127T100000
DTEND;TZID=America/New_York:20211127T180000
DTSTAMP:20260423T130035
CREATED:20211021T130249Z
LAST-MODIFIED:20211021T130249Z
UID:10000553-1638007200-1638036000@downtowntomsriver.com
SUMMARY:Small Business Saturday
DESCRIPTION:Show your love and support for small business and come out Saturday\, Nov. 27th for Small Business Saturday. The Downtown Toms River Business Improvement District will be hosting a kick-off breakfast at The Downtown Shops @ 53 Main\, 53 Main St. Toms River from 10am-12pm. Fuel up with some coffee and treats and then head out to tackle that holiday shopping list. Free 4 hour parking in the Irons Street lot\, located behind The Wells Fargo Bank! \nMore details to follow.
URL:https://downtowntomsriver.com/event/small-business-saturday-2/
LOCATION:The Downtown Shops\, 53 Main St\, Toms Rivet\, NJ\, 08723\, United States
END:VEVENT
BEGIN:VEVENT
DTSTART;TZID=America/New_York:20211126T120000
DTEND;TZID=America/New_York:20211127T180000
DTSTAMP:20260423T130035
CREATED:20210920T192536Z
LAST-MODIFIED:20210920T192536Z
UID:10000145-1637928000-1638036000@downtowntomsriver.com
SUMMARY:Black Friday and Small Business Sat art sale
DESCRIPTION:Join your favorite TRAC artists on Black Friday & Small Business Saturday. Get a jump on your Holiday  shopping. Give the gift of  art this year. Local art!!  Join us in the activity room\, The Trac Gallery and Small Town Arts\, Tom River studio. \nfamily friendly\, free event
URL:https://downtowntomsriver.com/event/black-friday-and-small-business-sat-art-sale/
LOCATION:The Downtown Shops\, 53 Main St\, Toms Rivet\, NJ\, 08723\, United States
CATEGORIES:Arts & Cluture
ATTACH;FMTTYPE=image/jpeg:https://downtowntomsriver.com/wp-content/uploads/2021/09/1A2552C0-A7F0-4890-8DA9-6A04002F80CB.jpeg
ORGANIZER;CN="Toms River Artist Community":MAILTO:tomsriverartistcommunity732@gmail.com
END:VEVENT
BEGIN:VEVENT
DTSTART;TZID=America/New_York:20211119T170000
DTEND;TZID=America/New_York:20211119T190000
DTSTAMP:20260423T130035
CREATED:20210920T191916Z
LAST-MODIFIED:20210920T191916Z
UID:10000144-1637341200-1637348400@downtowntomsriver.com
SUMMARY:Kids Make and Take
DESCRIPTION:This is a paint and sip party for children.  We supply everything they need.  They will paint and 8×10 canvas and go home with a “goodie bag” of art supplies.  This will be held in the community room at the TRAC Gallery.  Registration required. \nPS\, we just might have a surprise guest dressed in red! \nTomsriverartistcommunity732@gmail.com \nSeating is limited
URL:https://downtowntomsriver.com/event/kids-make-and-take-2/
LOCATION:The Downtown Shops\, 53 Main St\, Toms Rivet\, NJ\, 08723\, United States
CATEGORIES:Arts & Cluture
ATTACH;FMTTYPE=image/png:https://downtowntomsriver.com/wp-content/uploads/2021/09/white-logo-2.png
ORGANIZER;CN="Toms River Artist Community":MAILTO:tomsriverartistcommunity732@gmail.com
END:VEVENT
BEGIN:VEVENT
DTSTART;TZID=America/New_York:20211113T150000
DTEND;TZID=America/New_York:20211113T180000
DTSTAMP:20260423T130035
CREATED:20210929T124704Z
LAST-MODIFIED:20210929T124704Z
UID:10000548-1636815600-1636826400@downtowntomsriver.com
SUMMARY:Filipino-American Community Dev't Center Kids Show
DESCRIPTION:Join TRAC – Toms River Artist Community for the opening reception for our Nov show and the Filipino-American Kids show opening.   See what these talented children come up with for their 2nd show at TRAC! \nLights refreshments and drinks will be served
URL:https://downtowntomsriver.com/event/filipino-american-community-devt-center-kids-show/
LOCATION:The Downtown Shops\, 53 Main St\, Toms Rivet\, NJ\, 08723\, United States
CATEGORIES:Arts & Cluture
ATTACH;FMTTYPE=image/png:https://downtowntomsriver.com/wp-content/uploads/2021/09/white-logo-8.png
ORGANIZER;CN="Toms River Artist Community":MAILTO:tomsriverartistcommunity732@gmail.com
END:VEVENT
BEGIN:VEVENT
DTSTART;TZID=America/New_York:20211103T180000
DTEND;TZID=America/New_York:20211103T210000
DTSTAMP:20260423T130035
CREATED:20210920T191541Z
LAST-MODIFIED:20210920T192053Z
UID:10000143-1635962400-1635973200@downtowntomsriver.com
SUMMARY:Paint & Sip (adults)
DESCRIPTION:Come out and enjoy a fun night of easy painting with your friends.  BYOB\, we will supply light snacks and all your painting materials. Your TRAC artists will make sure you leave with a smile on your face and a great painting in your hands.  Lets relax together before the Holidays take over! \nClass is limited to 20 people.  To register please email Tomsriverartistcommunity732@gmail.com
URL:https://downtowntomsriver.com/event/paint-sip-adults/
LOCATION:The Downtown Shops\, 53 Main St\, Toms Rivet\, NJ\, 08723\, United States
CATEGORIES:Arts & Cluture
ATTACH;FMTTYPE=image/png:https://downtowntomsriver.com/wp-content/uploads/2021/09/white-logo-5.png
ORGANIZER;CN="Toms River Artist Community":MAILTO:tomsriverartistcommunity732@gmail.com
END:VEVENT
BEGIN:VEVENT
DTSTART;TZID=America/New_York:20211026T173000
DTEND;TZID=America/New_York:20211026T203000
DTSTAMP:20260423T130035
CREATED:20210920T184914Z
LAST-MODIFIED:20210920T184914Z
UID:10000113-1635269400-1635280200@downtowntomsriver.com
SUMMARY:Open Studio Night
DESCRIPTION:Join us for an Open Studio night! The last Tuesday of every month 5:30-8:30pm.  Bring your own supplies\, bring your own snacks/drinks.  Come out and paint\, draw\, sketch or whatever you want.  Hang out with your fellow artists\, ask for help if you’re stuck on something\, get new ideas from others and help spark your creativity!  A fun relaxing night to just chill and do some artin’ \nIn the Activity Room at The Downtown Shops @ 53 Main\, 53 Main St. Toms River. \nMembers are free\, non members are welcome to join for $5.00 a session
URL:https://downtowntomsriver.com/event/open-studio-night/2021-10-26/
LOCATION:The Downtown Shops\, 53 Main St\, Toms Rivet\, NJ\, 08723\, United States
CATEGORIES:Arts & Cluture
ATTACH;FMTTYPE=image/png:https://downtowntomsriver.com/wp-content/uploads/2021/09/white-logo-6.png
ORGANIZER;CN="Toms River Artist Community":MAILTO:tomsriverartistcommunity732@gmail.com
END:VEVENT
BEGIN:VEVENT
DTSTART;TZID=America/New_York:20211022T170000
DTEND;TZID=America/New_York:20211022T190000
DTSTAMP:20260423T130035
CREATED:20210920T191048Z
LAST-MODIFIED:20210920T191243Z
UID:10000142-1634922000-1634929200@downtowntomsriver.com
SUMMARY:Kids Make and Take
DESCRIPTION:This is a paint and sip party for children.  We supply everything they need.  They will paint an 8×10 canvas and go home with a “goodie bag” of art supplies.  This will be held in the activity room at the TRAC Gallery.  Registration required. \nTomsriverartistcommunity732@gmail.com \nSeating is limited
URL:https://downtowntomsriver.com/event/kids-make-and-take/
LOCATION:The Downtown Shops\, 53 Main St\, Toms Rivet\, NJ\, 08723\, United States
CATEGORIES:Arts & Cluture
ATTACH;FMTTYPE=image/png:https://downtowntomsriver.com/wp-content/uploads/2021/09/white-logo-1.png
ORGANIZER;CN="Toms River Artist Community":MAILTO:tomsriverartistcommunity732@gmail.com
END:VEVENT
END:VCALENDAR