BEGIN:VCALENDAR
VERSION:2.0
PRODID:-// - ECPv6.15.15//NONSGML v1.0//EN
CALSCALE:GREGORIAN
METHOD:PUBLISH
X-ORIGINAL-URL:https://downtowntomsriver.com
X-WR-CALDESC:Events for 
REFRESH-INTERVAL;VALUE=DURATION:PT1H
X-Robots-Tag:noindex
X-PUBLISHED-TTL:PT1H
BEGIN:VTIMEZONE
TZID:America/New_York
BEGIN:DAYLIGHT
TZOFFSETFROM:-0500
TZOFFSETTO:-0400
TZNAME:EDT
DTSTART:20240310T070000
END:DAYLIGHT
BEGIN:STANDARD
TZOFFSETFROM:-0400
TZOFFSETTO:-0500
TZNAME:EST
DTSTART:20241103T060000
END:STANDARD
BEGIN:DAYLIGHT
TZOFFSETFROM:-0500
TZOFFSETTO:-0400
TZNAME:EDT
DTSTART:20250309T070000
END:DAYLIGHT
BEGIN:STANDARD
TZOFFSETFROM:-0400
TZOFFSETTO:-0500
TZNAME:EST
DTSTART:20251102T060000
END:STANDARD
BEGIN:DAYLIGHT
TZOFFSETFROM:-0500
TZOFFSETTO:-0400
TZNAME:EDT
DTSTART:20260308T070000
END:DAYLIGHT
BEGIN:STANDARD
TZOFFSETFROM:-0400
TZOFFSETTO:-0500
TZNAME:EST
DTSTART:20261101T060000
END:STANDARD
END:VTIMEZONE
BEGIN:VEVENT
DTSTART;TZID=America/New_York:20250612T180000
DTEND;TZID=America/New_York:20250612T203000
DTSTAMP:20260423T125844
CREATED:20250605T184910Z
LAST-MODIFIED:20250605T184910Z
UID:10005507-1749751200-1749760200@downtowntomsriver.com
SUMMARY:Ocean County Artists' Guild Auction with Ocean's Harbor House
DESCRIPTION:$50 Per Person | Food by Heavenly Eats Catering | Beverages by The Wander Bar Co. | Artwork by The Youth of Ocean’s Harbor House\, Ocean and Monmouth County Artists | Performances by The Toms River Regional Orchestra | Purchase ticket in advance www.oceansharborhouse.org
URL:https://downtowntomsriver.com/event/ocean-county-artists-guild-auction-with-oceans-harbor-house/
LOCATION:Ocean County Artists Guild\, 22 Chestnut Avenue\, Island Heights\, NJ\, 08732\, United States
CATEGORIES:Arts & Cluture,Clubs & Organizations,Dining,Other
ATTACH;FMTTYPE=image/png:https://downtowntomsriver.com/wp-content/uploads/2025/06/starry-night-flyer.png
ORGANIZER;CN="Ocean County Artists Guild":MAILTO:info@ocartistsguild.org
END:VEVENT
BEGIN:VEVENT
DTSTART;TZID=America/New_York:20250603T190000
DTEND;TZID=America/New_York:20250603T210000
DTSTAMP:20260423T125844
CREATED:20250529T182448Z
LAST-MODIFIED:20250529T182448Z
UID:10004318-1748977200-1748984400@downtowntomsriver.com
SUMMARY:Tuesday Night Figure Drawing Long Pose 6/3
DESCRIPTION:OCAG Tuesday Night Long Pose \nUndraped Figure Drawing Session \n7:00 PM – 9:00 PM \n$20 for members \n$25 for non members \nAdults 18 and up are welcome
URL:https://downtowntomsriver.com/event/tuesday-night-figure-drawing-long-pose-6-3/
LOCATION:Ocean County Artists Guild\, 22 Chestnut Avenue\, Island Heights\, NJ\, 08732\, United States
CATEGORIES:Arts & Cluture,Arts & Crafts
ORGANIZER;CN="Ocean County Artists Guild":MAILTO:info@ocartistsguild.org
END:VEVENT
END:VCALENDAR