BEGIN:VCALENDAR
VERSION:2.0
PRODID:-// - ECPv6.15.15//NONSGML v1.0//EN
CALSCALE:GREGORIAN
METHOD:PUBLISH
X-ORIGINAL-URL:https://downtowntomsriver.com
X-WR-CALDESC:Events for 
REFRESH-INTERVAL;VALUE=DURATION:PT1H
X-Robots-Tag:noindex
X-PUBLISHED-TTL:PT1H
BEGIN:VTIMEZONE
TZID:America/New_York
BEGIN:DAYLIGHT
TZOFFSETFROM:-0500
TZOFFSETTO:-0400
TZNAME:EDT
DTSTART:20210314T070000
END:DAYLIGHT
BEGIN:STANDARD
TZOFFSETFROM:-0400
TZOFFSETTO:-0500
TZNAME:EST
DTSTART:20211107T060000
END:STANDARD
BEGIN:DAYLIGHT
TZOFFSETFROM:-0500
TZOFFSETTO:-0400
TZNAME:EDT
DTSTART:20220313T070000
END:DAYLIGHT
BEGIN:STANDARD
TZOFFSETFROM:-0400
TZOFFSETTO:-0500
TZNAME:EST
DTSTART:20221106T060000
END:STANDARD
BEGIN:DAYLIGHT
TZOFFSETFROM:-0500
TZOFFSETTO:-0400
TZNAME:EDT
DTSTART:20230312T070000
END:DAYLIGHT
BEGIN:STANDARD
TZOFFSETFROM:-0400
TZOFFSETTO:-0500
TZNAME:EST
DTSTART:20231105T060000
END:STANDARD
BEGIN:DAYLIGHT
TZOFFSETFROM:-0500
TZOFFSETTO:-0400
TZNAME:EDT
DTSTART:20240310T070000
END:DAYLIGHT
BEGIN:STANDARD
TZOFFSETFROM:-0400
TZOFFSETTO:-0500
TZNAME:EST
DTSTART:20241103T060000
END:STANDARD
END:VTIMEZONE
BEGIN:VEVENT
DTSTART;TZID=America/New_York:20230503T110000
DTEND;TZID=America/New_York:20230503T130000
DTSTAMP:20260423T152134
CREATED:20230317T203924Z
LAST-MODIFIED:20230317T203924Z
UID:10000726-1683111600-1683118800@downtowntomsriver.com
SUMMARY:Celebrate Spring with our Spring Victorian Tea at the Mathis House
DESCRIPTION:Celebrate Spring with our Spring Victorian Tea at the Mathis House \nBack by popular demand\, our Spring Victorian Tea will be offered on Wednesday\, May 3 at 11:00 AM at the Mathis House Tearoom at 600 Main Street in Toms River. Guests may look forward to the ever-delicious scones\, yummy tea sandwiches\, and scrumptious mini-desserts that accompany generous pots of fine tea as they chat with friends in the historical elegance of this stately home. The cost is $40 for members and $45 for non-members. \nBe sure to make your reservation starting at 10:00 AM on March 20 by calling 732-286-3693. Checks should be made out and mailed to Ocean County Historical Society\, 26 Hadley Avenue\, Toms River\, NJ 08753 within one week of phone reservation\, with Attention: Deb in the bottom left-hand corner of the envelope. \n 
URL:https://downtowntomsriver.com/event/celebrate-spring-with-our-spring-victorian-tea-at-the-mathis-house/
LOCATION:Mansion on Main Street\, 300 Main St\, Voorhees\, NJ\, 08043\, United States
CATEGORIES:Arts & Cluture
END:VEVENT
BEGIN:VEVENT
DTSTART;TZID=America/New_York:20221202T180000
DTEND;TZID=America/New_York:20221202T230000
DTSTAMP:20260423T152134
CREATED:20221117T185652Z
LAST-MODIFIED:20221117T185652Z
UID:10000606-1670004000-1670022000@downtowntomsriver.com
SUMMARY:Voorhees Animal Orphanage and AutoLenders’ First Annual Pit Ball
DESCRIPTION:On Friday\, December 2\, 2022\, AutoLenders\, New Jersey’s #1 pre-owned car dealership for over a decade\, and  the Voorhees Animal Orphanage’s are hosting the first annual Pit Ball Gala at the Mansion on Main Street in Voorhees\, New Jersey.  \nCommunity members are invited to celebrate a mutual love and compassion for animals while supporting the animal shelter for a fun night filled with food\, dancing and more. Serving 29 municipalities in Southern New Jersey\, the Voorhees Animal Orphanage is dedicated to providing shelter\, food and medical care to stray and unwanted animals until permanent homes are found and is excited to welcome the surrounding area to their first-ever gala event.   \nAttendees will be able to enjoy live music by BstreetBand\, participate in both silent and live auctions and enjoy a premium open bar and gourmet food. Tickets are $180 per person and those interested in attending are encouraged to visit https://www.vaonj.org/the-pit-ball/ to purchase tickets and for more information.  
URL:https://downtowntomsriver.com/event/voorhees-animal-orphanage-and-autolenders-first-annual-pit-ball/
LOCATION:Mansion on Main Street\, 300 Main St\, Voorhees\, NJ\, 08043\, United States
ORGANIZER;CN="AutoLenders":MAILTO:jules.schwenderman@tierneyagency.com
END:VEVENT
END:VCALENDAR