BEGIN:VCALENDAR
VERSION:2.0
PRODID:-// - ECPv6.15.15//NONSGML v1.0//EN
CALSCALE:GREGORIAN
METHOD:PUBLISH
X-ORIGINAL-URL:https://downtowntomsriver.com
X-WR-CALDESC:Events for 
REFRESH-INTERVAL;VALUE=DURATION:PT1H
X-Robots-Tag:noindex
X-PUBLISHED-TTL:PT1H
BEGIN:VTIMEZONE
TZID:America/New_York
BEGIN:DAYLIGHT
TZOFFSETFROM:-0500
TZOFFSETTO:-0400
TZNAME:EDT
DTSTART:20210314T070000
END:DAYLIGHT
BEGIN:STANDARD
TZOFFSETFROM:-0400
TZOFFSETTO:-0500
TZNAME:EST
DTSTART:20211107T060000
END:STANDARD
BEGIN:DAYLIGHT
TZOFFSETFROM:-0500
TZOFFSETTO:-0400
TZNAME:EDT
DTSTART:20220313T070000
END:DAYLIGHT
BEGIN:STANDARD
TZOFFSETFROM:-0400
TZOFFSETTO:-0500
TZNAME:EST
DTSTART:20221106T060000
END:STANDARD
BEGIN:DAYLIGHT
TZOFFSETFROM:-0500
TZOFFSETTO:-0400
TZNAME:EDT
DTSTART:20230312T070000
END:DAYLIGHT
BEGIN:STANDARD
TZOFFSETFROM:-0400
TZOFFSETTO:-0500
TZNAME:EST
DTSTART:20231105T060000
END:STANDARD
END:VTIMEZONE
BEGIN:VEVENT
DTSTART;TZID=America/New_York:20220629T110000
DTEND;TZID=America/New_York:20220629T160000
DTSTAMP:20260423T143249
CREATED:20220310T160537Z
LAST-MODIFIED:20220310T160537Z
UID:10000219-1656500400-1656518400@downtowntomsriver.com
SUMMARY:Downtown Toms River Farmers' Market - New Location
DESCRIPTION:Join The Downtown Toms River Business Improvement District in their new location for their weekly farmers’ market.  The market is returning to Huddy Park located on E. Water St.  Every Wednesday\, from June 1st – Oct. 26th from 11am-4pm.  Jersey farms\, produce\, flowers\, Specialty foods\, Italian items\, baked goods\, pickles & olives\, honey\, NJ winery\, distillery and smoothie truck.
URL:https://downtowntomsriver.com/event/downtown-toms-river-farmers-market-new-location/2022-06-29/
LOCATION:Huddy Park\, Toms River NJ\, 39 E. Water St.\, Toms River\, NJ\, 08753\, United States
ORGANIZER;CN="Downtown Toms River BID":MAILTO:info@downtowntomsriver.com
END:VEVENT
BEGIN:VEVENT
DTSTART;TZID=America/New_York:20220622T110000
DTEND;TZID=America/New_York:20220622T160000
DTSTAMP:20260423T143249
CREATED:20220310T160537Z
LAST-MODIFIED:20220310T160537Z
UID:10000218-1655895600-1655913600@downtowntomsriver.com
SUMMARY:Downtown Toms River Farmers' Market - New Location
DESCRIPTION:Join The Downtown Toms River Business Improvement District in their new location for their weekly farmers’ market.  The market is returning to Huddy Park located on E. Water St.  Every Wednesday\, from June 1st – Oct. 26th from 11am-4pm.  Jersey farms\, produce\, flowers\, Specialty foods\, Italian items\, baked goods\, pickles & olives\, honey\, NJ winery\, distillery and smoothie truck.
URL:https://downtowntomsriver.com/event/downtown-toms-river-farmers-market-new-location/2022-06-22/
LOCATION:Huddy Park\, Toms River NJ\, 39 E. Water St.\, Toms River\, NJ\, 08753\, United States
ORGANIZER;CN="Downtown Toms River BID":MAILTO:info@downtowntomsriver.com
END:VEVENT
BEGIN:VEVENT
DTSTART;TZID=America/New_York:20220615T110000
DTEND;TZID=America/New_York:20220615T160000
DTSTAMP:20260423T143249
CREATED:20220310T160537Z
LAST-MODIFIED:20220310T160537Z
UID:10000217-1655290800-1655308800@downtowntomsriver.com
SUMMARY:Downtown Toms River Farmers' Market - New Location
DESCRIPTION:Join The Downtown Toms River Business Improvement District in their new location for their weekly farmers’ market.  The market is returning to Huddy Park located on E. Water St.  Every Wednesday\, from June 1st – Oct. 26th from 11am-4pm.  Jersey farms\, produce\, flowers\, Specialty foods\, Italian items\, baked goods\, pickles & olives\, honey\, NJ winery\, distillery and smoothie truck.
URL:https://downtowntomsriver.com/event/downtown-toms-river-farmers-market-new-location/2022-06-15/
LOCATION:Huddy Park\, Toms River NJ\, 39 E. Water St.\, Toms River\, NJ\, 08753\, United States
ORGANIZER;CN="Downtown Toms River BID":MAILTO:info@downtowntomsriver.com
END:VEVENT
BEGIN:VEVENT
DTSTART;TZID=America/New_York:20220608T110000
DTEND;TZID=America/New_York:20220608T160000
DTSTAMP:20260423T143249
CREATED:20220310T160537Z
LAST-MODIFIED:20220310T160537Z
UID:10000216-1654686000-1654704000@downtowntomsriver.com
SUMMARY:Downtown Toms River Farmers' Market - New Location
DESCRIPTION:Join The Downtown Toms River Business Improvement District in their new location for their weekly farmers’ market.  The market is returning to Huddy Park located on E. Water St.  Every Wednesday\, from June 1st – Oct. 26th from 11am-4pm.  Jersey farms\, produce\, flowers\, Specialty foods\, Italian items\, baked goods\, pickles & olives\, honey\, NJ winery\, distillery and smoothie truck.
URL:https://downtowntomsriver.com/event/downtown-toms-river-farmers-market-new-location/2022-06-08/
LOCATION:Huddy Park\, Toms River NJ\, 39 E. Water St.\, Toms River\, NJ\, 08753\, United States
ORGANIZER;CN="Downtown Toms River BID":MAILTO:info@downtowntomsriver.com
END:VEVENT
BEGIN:VEVENT
DTSTART;TZID=America/New_York:20220604T120000
DTEND;TZID=America/New_York:20220604T200000
DTSTAMP:20260423T143249
CREATED:20220511T194449Z
LAST-MODIFIED:20220511T194449Z
UID:10000594-1654344000-1654372800@downtowntomsriver.com
SUMMARY:Rocking with Rotary Concert
DESCRIPTION:Let’s get together and enjoy great music\, food\, a beer garden\, and craft vendors all for a great cause!\n \nAbout this Event \nOur Rocking with Rotary Concert will be held on Saturday\, June 4\, 2022\, from 12 pm – 8 pm RAIN OR SHINE at Huddy Park in Toms River\, New Jersey. \nWe will be featuring great bands: \n\nMoroccan Sheepherders\nShorty Long & The Jersey Horns\nNobody You Know\nThe Mojo Monks\nEddie Testa\nCapt. Eric & The Shipwrecks\n\nCost: $40 donation/person \nBring your own chair/blanket – no tents. Donation is non-refundable. \nAll proceeds of this event go to local charities in our community. For more information on what we do and how we help visit centraloceanrotary.org \nTax-exempt number 20-0193362
URL:https://downtowntomsriver.com/event/rocking-with-rotary-concert/
LOCATION:Huddy Park\, Toms River NJ\, 39 E. Water St.\, Toms River\, NJ\, 08753\, United States
CATEGORIES:Entertainment
ATTACH;FMTTYPE=image/jpeg:https://downtowntomsriver.com/wp-content/uploads/2022/05/Rocking-with-Rotary-Flyer-sm.jpg
ORGANIZER;CN="Central Ocean Rotary Club of Toms River":MAILTO:centraloceanrotary@gmail.com
END:VEVENT
BEGIN:VEVENT
DTSTART;TZID=America/New_York:20220601T110000
DTEND;TZID=America/New_York:20220601T160000
DTSTAMP:20260423T143249
CREATED:20220310T160537Z
LAST-MODIFIED:20220310T160537Z
UID:10000215-1654081200-1654099200@downtowntomsriver.com
SUMMARY:Downtown Toms River Farmers' Market - New Location
DESCRIPTION:Join The Downtown Toms River Business Improvement District in their new location for their weekly farmers’ market.  The market is returning to Huddy Park located on E. Water St.  Every Wednesday\, from June 1st – Oct. 26th from 11am-4pm.  Jersey farms\, produce\, flowers\, Specialty foods\, Italian items\, baked goods\, pickles & olives\, honey\, NJ winery\, distillery and smoothie truck.
URL:https://downtowntomsriver.com/event/downtown-toms-river-farmers-market-new-location/2022-06-01/
LOCATION:Huddy Park\, Toms River NJ\, 39 E. Water St.\, Toms River\, NJ\, 08753\, United States
ORGANIZER;CN="Downtown Toms River BID":MAILTO:info@downtowntomsriver.com
END:VEVENT
BEGIN:VEVENT
DTSTART;TZID=America/New_York:20220514T120000
DTEND;TZID=America/New_York:20220514T180000
DTSTAMP:20260423T143249
CREATED:20220429T132343Z
LAST-MODIFIED:20220429T132343Z
UID:10000585-1652529600-1652551200@downtowntomsriver.com
SUMMARY:TRFD #2 100th Anniversary Celebration
DESCRIPTION:The members of Toms River Fire Company No. 2 would like to invite you to our 100th Anniversary! A fire truck parade through downtown Toms River will be followed by a celebration in Huddy Park with live music\, food trucks\, a beer garden\, and fun for all ages. We will have an award ceremony after our parade with trophies for all types of apparatus… we even have a marine unit category!\n\n\nWe look forward to celebrating with you on Saturday May 14th\, 2022!
URL:https://downtowntomsriver.com/event/trfd-2-100th-anniversary-celebration/
LOCATION:Huddy Park\, Toms River NJ\, 39 E. Water St.\, Toms River\, NJ\, 08753\, United States
END:VEVENT
END:VCALENDAR