BEGIN:VCALENDAR
VERSION:2.0
PRODID:-// - ECPv6.15.15//NONSGML v1.0//EN
CALSCALE:GREGORIAN
METHOD:PUBLISH
X-ORIGINAL-URL:https://downtowntomsriver.com
X-WR-CALDESC:Events for 
REFRESH-INTERVAL;VALUE=DURATION:PT1H
X-Robots-Tag:noindex
X-PUBLISHED-TTL:PT1H
BEGIN:VTIMEZONE
TZID:America/New_York
BEGIN:DAYLIGHT
TZOFFSETFROM:-0500
TZOFFSETTO:-0400
TZNAME:EDT
DTSTART:20220313T070000
END:DAYLIGHT
BEGIN:STANDARD
TZOFFSETFROM:-0400
TZOFFSETTO:-0500
TZNAME:EST
DTSTART:20221106T060000
END:STANDARD
BEGIN:DAYLIGHT
TZOFFSETFROM:-0500
TZOFFSETTO:-0400
TZNAME:EDT
DTSTART:20230312T070000
END:DAYLIGHT
BEGIN:STANDARD
TZOFFSETFROM:-0400
TZOFFSETTO:-0500
TZNAME:EST
DTSTART:20231105T060000
END:STANDARD
BEGIN:DAYLIGHT
TZOFFSETFROM:-0500
TZOFFSETTO:-0400
TZNAME:EDT
DTSTART:20240310T070000
END:DAYLIGHT
BEGIN:STANDARD
TZOFFSETFROM:-0400
TZOFFSETTO:-0500
TZNAME:EST
DTSTART:20241103T060000
END:STANDARD
BEGIN:DAYLIGHT
TZOFFSETFROM:-0500
TZOFFSETTO:-0400
TZNAME:EDT
DTSTART:20250309T070000
END:DAYLIGHT
BEGIN:STANDARD
TZOFFSETFROM:-0400
TZOFFSETTO:-0500
TZNAME:EST
DTSTART:20251102T060000
END:STANDARD
END:VTIMEZONE
BEGIN:VEVENT
DTSTART;TZID=America/New_York:20240601T113000
DTEND;TZID=America/New_York:20240601T163000
DTSTAMP:20260423T162147
CREATED:20240523T124745Z
LAST-MODIFIED:20240523T124745Z
UID:10002812-1717241400-1717259400@downtowntomsriver.com
SUMMARY:Leonard Lomell - Hero of D-Day
DESCRIPTION:“Leonard Lomell – Hero of D-Day” \nwith \nTR Historian Mark Mutter and Author Steven Gillon \nSaturday\, June 1\, 2024\, 11:30 AM \nThe Ocean County Historical Society and Ocean County Cultural and Heritage Commission are sponsoring a talk and book signing with New York Times Best Selling Author Steven Gillon relating to his book\, “Len Lomell D-Day Hero.” This event will be held on Saturday\, June 1\, 2024\, at the George P. Vanderveer American Legion Post 129\, at 2025 Church Road\, Toms River. The program\, moderated by Toms River Historian\, Mark Mutter\, will begin at 11:30 AM and be followed by a book signing. The book will be on sale at the event at a cost of $12.99. There is no charge to attend this event. For additional information or questions\, contact Jeff Schenker at 609-339-9134. Please let us know if you plan to attend this event by emailing: oceancountyhistory.programs@gmail.com.  Please include your email address\, phone number\, zip code\, and the name and date of the event. \nLeonard “Bud” Lomell: \nLeonard Lomell was born in Brooklyn\, New York and moved to Point Pleasant\, New Jersey as a toddler. He was an Army Ranger best known for his heroic actions in the early hours of the D-Day Invasion. \nHistorian and author Stephen Ambrose stated that next to General Eisenhower\, Lomell was most responsible for the success of the D-Day Invasion. After the allied victory at Normandy\, Lomell saw heavy combat in the Battle of Hurtgen Forrest. He sustained wounds on three separate occasions. For his heroic actions in the Hurtgen Forrest\, Lomell was awarded with a Silver Star\, the U.S. Distinguished Service Cross\, a Bronze Star\, the British Military Medal\, and the French Legion D’honneur. A street in his name is in Toms River. \nAfter his military service Bud Lomell and his wife Charlotte resided in Point Pleasant. They then moved to Toms River\, where they raised three daughters. Lomell established a successful law firm and served as a pillar of the community.
URL:https://downtowntomsriver.com/event/leonard-lomell-hero-of-d-day/
LOCATION:George P Vanderveer American Legion Post 129\, 2025 Church Rd.\, Toms River\, NJ\, 08753\, United States
CATEGORIES:Arts & Cluture
END:VEVENT
BEGIN:VEVENT
DTSTART;TZID=America/New_York:20230211T180000
DTEND;TZID=America/New_York:20230211T210000
DTSTAMP:20260423T162147
CREATED:20230120T142045Z
LAST-MODIFIED:20230120T142045Z
UID:10000662-1676138400-1676149200@downtowntomsriver.com
SUMMARY:Valentine’s Comedy Show
DESCRIPTION:Come on out to support the SAL at the American Legion\, and enjoy yourself with a comedy show featuring local professional entertainment. \nThis event is being held Saturday\, February 11th at the George P. Vanderveer American Legion Post 129\, located at 2025 Church Rd. in Toms River\, NJ. \nDoors open at 6PM\, showtime 7PM.  The Canteen across the hall will be open for dinner (additional rates apply) for anyone who wishes to stop by earlier.  Admission is only $20 in advance\, $25 at the door\, and seating is limited – for tickets and info\, contact Rocky at 917-417-4818 or at rplucia@verizon.net.  This is a 21+ event.
URL:https://downtowntomsriver.com/event/valentines-comedy-show/
LOCATION:George P Vanderveer American Legion Post 129\, 2025 Church Rd.\, Toms River\, NJ\, 08753\, United States
CATEGORIES:Entertainment
ATTACH;FMTTYPE=image/jpeg:https://downtowntomsriver.com/wp-content/uploads/2023/01/TR-SAL.jpg
END:VEVENT
END:VCALENDAR