BEGIN:VCALENDAR
VERSION:2.0
PRODID:-// - ECPv6.15.15//NONSGML v1.0//EN
CALSCALE:GREGORIAN
METHOD:PUBLISH
X-ORIGINAL-URL:https://downtowntomsriver.com
X-WR-CALDESC:Events for 
REFRESH-INTERVAL;VALUE=DURATION:PT1H
X-Robots-Tag:noindex
X-PUBLISHED-TTL:PT1H
BEGIN:VTIMEZONE
TZID:America/New_York
BEGIN:DAYLIGHT
TZOFFSETFROM:-0500
TZOFFSETTO:-0400
TZNAME:EDT
DTSTART:20190310T070000
END:DAYLIGHT
BEGIN:STANDARD
TZOFFSETFROM:-0400
TZOFFSETTO:-0500
TZNAME:EST
DTSTART:20191103T060000
END:STANDARD
BEGIN:DAYLIGHT
TZOFFSETFROM:-0500
TZOFFSETTO:-0400
TZNAME:EDT
DTSTART:20200308T070000
END:DAYLIGHT
BEGIN:STANDARD
TZOFFSETFROM:-0400
TZOFFSETTO:-0500
TZNAME:EST
DTSTART:20201101T060000
END:STANDARD
BEGIN:DAYLIGHT
TZOFFSETFROM:-0500
TZOFFSETTO:-0400
TZNAME:EDT
DTSTART:20210314T070000
END:DAYLIGHT
BEGIN:STANDARD
TZOFFSETFROM:-0400
TZOFFSETTO:-0500
TZNAME:EST
DTSTART:20211107T060000
END:STANDARD
END:VTIMEZONE
BEGIN:VEVENT
DTSTART;TZID=America/New_York:20200609T190000
DTEND;TZID=America/New_York:20200609T220000
DTSTAMP:20260425T072132
CREATED:20191220T180828Z
LAST-MODIFIED:20191220T182037Z
UID:10000022-1591729200-1591740000@downtowntomsriver.com
SUMMARY:Trac Monthly Meeting
DESCRIPTION:TRAC monthly meeting in the community room  7-10 PM  2nd Tues of each month.
URL:https://downtowntomsriver.com/event/trac-monthly-meeting-5/
LOCATION:Downtown Shops Activity Room\, 53 Main Street\, Toms River\, NJ\, 08753\, United States
ORGANIZER;CN="Toms River Artist Community":MAILTO:tomsriverartistcommunity732@gmail.com
END:VEVENT
BEGIN:VEVENT
DTSTART;TZID=America/New_York:20200607T180000
DTEND;TZID=America/New_York:20200607T200000
DTSTAMP:20260425T072132
CREATED:20191220T174706Z
LAST-MODIFIED:20191220T181622Z
UID:10000010-1591552800-1591560000@downtowntomsriver.com
SUMMARY:Life Drawing At TRAC Gallery
DESCRIPTION:Life Drawing at TRAC  Most Sundays 6-8pm Features an undraped model Must be 18 to participate $10 fee\, bring your own art supplies Follow our Life Drawing at TRAC page on Facebook for dates and details.
URL:https://downtowntomsriver.com/event/life-drawing-at-trac-gallery-23/
LOCATION:Downtown Shops Activity Room\, 53 Main Street\, Toms River\, NJ\, 08753\, United States
ORGANIZER;CN="Toms River Artist Community":MAILTO:tomsriverartistcommunity732@gmail.com
END:VEVENT
BEGIN:VEVENT
DTSTART;TZID=America/New_York:20200531T180000
DTEND;TZID=America/New_York:20200531T200000
DTSTAMP:20260425T072132
CREATED:20191220T174705Z
LAST-MODIFIED:20191220T181622Z
UID:10000008-1590948000-1590955200@downtowntomsriver.com
SUMMARY:Life Drawing At TRAC Gallery
DESCRIPTION:Life Drawing at TRAC  Most Sundays 6-8pm Features an undraped model Must be 18 to participate $10 fee\, bring your own art supplies Follow our Life Drawing at TRAC page on Facebook for dates and details.
URL:https://downtowntomsriver.com/event/life-drawing-at-trac-gallery-22/
LOCATION:Downtown Shops Activity Room\, 53 Main Street\, Toms River\, NJ\, 08753\, United States
ORGANIZER;CN="Toms River Artist Community":MAILTO:tomsriverartistcommunity732@gmail.com
END:VEVENT
BEGIN:VEVENT
DTSTART;TZID=America/New_York:20200524T180000
DTEND;TZID=America/New_York:20200524T200000
DTSTAMP:20260425T072132
CREATED:20191220T174705Z
LAST-MODIFIED:20191220T181622Z
UID:10000006-1590343200-1590350400@downtowntomsriver.com
SUMMARY:Life Drawing At TRAC Gallery
DESCRIPTION:Life Drawing at TRAC  Most Sundays 6-8pm Features an undraped model Must be 18 to participate $10 fee\, bring your own art supplies Follow our Life Drawing at TRAC page on Facebook for dates and details.
URL:https://downtowntomsriver.com/event/life-drawing-at-trac-gallery-21/
LOCATION:Downtown Shops Activity Room\, 53 Main Street\, Toms River\, NJ\, 08753\, United States
ORGANIZER;CN="Toms River Artist Community":MAILTO:tomsriverartistcommunity732@gmail.com
END:VEVENT
BEGIN:VEVENT
DTSTART;TZID=America/New_York:20200520T190000
DTEND;TZID=America/New_York:20200520T230000
DTSTAMP:20260425T072132
CREATED:20200316T173048Z
LAST-MODIFIED:20200316T173048Z
UID:10000317-1590001200-1590015600@downtowntomsriver.com
SUMMARY:Clubhouse Presents Euphoria Noise Night
DESCRIPTION:Clubhouse Presents Euphoria Noise Night
URL:https://downtowntomsriver.com/event/clubhouse-presents-euphoria-noise-night/
LOCATION:Downtown Shops Activity Room\, 53 Main Street\, Toms River\, NJ\, 08753\, United States
ORGANIZER;CN="The Clubhouse TR":MAILTO:theclubhousetr@gmail.com
END:VEVENT
BEGIN:VEVENT
DTSTART;TZID=America/New_York:20200517T180000
DTEND;TZID=America/New_York:20200517T200000
DTSTAMP:20260425T072132
CREATED:20191220T174654Z
LAST-MODIFIED:20191220T181607Z
UID:10000005-1589738400-1589745600@downtowntomsriver.com
SUMMARY:Life Drawing At TRAC Gallery
DESCRIPTION:Life Drawing at TRAC  Most Sundays 6-8pm Features an undraped model Must be 18 to participate $10 fee\, bring your own art supplies Follow our Life Drawing at TRAC page on Facebook for dates and details.
URL:https://downtowntomsriver.com/event/life-drawing-at-trac-gallery-20/
LOCATION:Downtown Shops Activity Room\, 53 Main Street\, Toms River\, NJ\, 08753\, United States
ORGANIZER;CN="Toms River Artist Community":MAILTO:tomsriverartistcommunity732@gmail.com
END:VEVENT
BEGIN:VEVENT
DTSTART;TZID=America/New_York:20200512T190000
DTEND;TZID=America/New_York:20200512T220000
DTSTAMP:20260425T072132
CREATED:20191220T180825Z
LAST-MODIFIED:20191220T182037Z
UID:10000024-1589310000-1589320800@downtowntomsriver.com
SUMMARY:Trac Monthly Meeting
DESCRIPTION:TRAC monthly meeting in the community room  7-10 PM  2nd Tues of each month.
URL:https://downtowntomsriver.com/event/trac-monthly-meeting-4/
LOCATION:Downtown Shops Activity Room\, 53 Main Street\, Toms River\, NJ\, 08753\, United States
ORGANIZER;CN="Toms River Artist Community":MAILTO:tomsriverartistcommunity732@gmail.com
END:VEVENT
BEGIN:VEVENT
DTSTART;TZID=America/New_York:20200510T180000
DTEND;TZID=America/New_York:20200510T200000
DTSTAMP:20260425T072132
CREATED:20191220T174653Z
LAST-MODIFIED:20191220T181607Z
UID:10000003-1589133600-1589140800@downtowntomsriver.com
SUMMARY:Life Drawing At TRAC Gallery
DESCRIPTION:Life Drawing at TRAC  Most Sundays 6-8pm Features an undraped model Must be 18 to participate $10 fee\, bring your own art supplies Follow our Life Drawing at TRAC page on Facebook for dates and details.
URL:https://downtowntomsriver.com/event/life-drawing-at-trac-gallery-19/
LOCATION:Downtown Shops Activity Room\, 53 Main Street\, Toms River\, NJ\, 08753\, United States
ORGANIZER;CN="Toms River Artist Community":MAILTO:tomsriverartistcommunity732@gmail.com
END:VEVENT
BEGIN:VEVENT
DTSTART;TZID=America/New_York:20200503T180000
DTEND;TZID=America/New_York:20200503T200000
DTSTAMP:20260425T072132
CREATED:20191220T174653Z
LAST-MODIFIED:20191220T181607Z
UID:10000002-1588528800-1588536000@downtowntomsriver.com
SUMMARY:Life Drawing At TRAC Gallery
DESCRIPTION:Life Drawing at TRAC  Most Sundays 6-8pm Features an undraped model Must be 18 to participate $10 fee\, bring your own art supplies Follow our Life Drawing at TRAC page on Facebook for dates and details.
URL:https://downtowntomsriver.com/event/life-drawing-at-trac-gallery-18/
LOCATION:Downtown Shops Activity Room\, 53 Main Street\, Toms River\, NJ\, 08753\, United States
ORGANIZER;CN="Toms River Artist Community":MAILTO:tomsriverartistcommunity732@gmail.com
END:VEVENT
BEGIN:VEVENT
DTSTART;TZID=America/New_York:20200426T180000
DTEND;TZID=America/New_York:20200426T200000
DTSTAMP:20260425T072132
CREATED:20191220T174651Z
LAST-MODIFIED:20191220T181607Z
UID:10000001-1587924000-1587931200@downtowntomsriver.com
SUMMARY:Life Drawing At TRAC Gallery
DESCRIPTION:Life Drawing at TRAC  Most Sundays 6-8pm Features an undraped model Must be 18 to participate $10 fee\, bring your own art supplies Follow our Life Drawing at TRAC page on Facebook for dates and details.
URL:https://downtowntomsriver.com/event/life-drawing-at-trac-gallery-17/
LOCATION:Downtown Shops Activity Room\, 53 Main Street\, Toms River\, NJ\, 08753\, United States
ORGANIZER;CN="Toms River Artist Community":MAILTO:tomsriverartistcommunity732@gmail.com
END:VEVENT
BEGIN:VEVENT
DTSTART;TZID=America/New_York:20200419T180000
DTEND;TZID=America/New_York:20200419T200000
DTSTAMP:20260425T072132
CREATED:20191220T174649Z
LAST-MODIFIED:20191220T181607Z
UID:10000276-1587319200-1587326400@downtowntomsriver.com
SUMMARY:Life Drawing At TRAC Gallery
DESCRIPTION:Life Drawing at TRAC  Most Sundays 6-8pm Features an undraped model Must be 18 to participate $10 fee\, bring your own art supplies Follow our Life Drawing at TRAC page on Facebook for dates and details.
URL:https://downtowntomsriver.com/event/life-drawing-at-trac-gallery-16/
LOCATION:Downtown Shops Activity Room\, 53 Main Street\, Toms River\, NJ\, 08753\, United States
ORGANIZER;CN="Toms River Artist Community":MAILTO:tomsriverartistcommunity732@gmail.com
END:VEVENT
BEGIN:VEVENT
DTSTART;TZID=America/New_York:20200418T130000
DTEND;TZID=America/New_York:20200418T143000
DTSTAMP:20260425T072132
CREATED:20200224T125952Z
LAST-MODIFIED:20200306T171025Z
UID:10000038-1587214800-1587220200@downtowntomsriver.com
SUMMARY:Youth Mosaic Class - Toms River Artist Community
DESCRIPTION:Open to youths 11 or older. This Toms River Artist Community led class will let students explore their creativity in creating a mosaic art piece that will be framed and ready to share with friends and family. All materials will be furnished\, just bring creativity!
URL:https://downtowntomsriver.com/event/youth-mosaic-class-toms-river-artist-community/
LOCATION:Downtown Shops Activity Room\, 53 Main Street\, Toms River\, NJ\, 08753\, United States
CATEGORIES:Arts & Crafts
ORGANIZER;CN="Toms River Artist Community":MAILTO:tomsriverartistcommunity732@gmail.com
END:VEVENT
BEGIN:VEVENT
DTSTART;TZID=America/New_York:20200414T190000
DTEND;TZID=America/New_York:20200414T220000
DTSTAMP:20260425T072132
CREATED:20191220T180822Z
LAST-MODIFIED:20191220T182037Z
UID:10000023-1586890800-1586901600@downtowntomsriver.com
SUMMARY:Trac Monthly Meeting
DESCRIPTION:TRAC monthly meeting in the community room  7-10 PM  2nd Tues of each month.
URL:https://downtowntomsriver.com/event/trac-monthly-meeting-3/
LOCATION:Downtown Shops Activity Room\, 53 Main Street\, Toms River\, NJ\, 08753\, United States
ORGANIZER;CN="Toms River Artist Community":MAILTO:tomsriverartistcommunity732@gmail.com
END:VEVENT
BEGIN:VEVENT
DTSTART;TZID=America/New_York:20200412T180000
DTEND;TZID=America/New_York:20200412T200000
DTSTAMP:20260425T072132
CREATED:20191220T174636Z
LAST-MODIFIED:20191220T181057Z
UID:10000274-1586714400-1586721600@downtowntomsriver.com
SUMMARY:Life Drawing At TRAC Gallery
DESCRIPTION:Life Drawing at TRAC  Most Sundays 6-8pm Features an undraped model Must be 18 to participate $10 fee\, bring your own art supplies Follow our Life Drawing at TRAC page on Facebook for dates and details.
URL:https://downtowntomsriver.com/event/life-drawing-at-trac-gallery-15/
LOCATION:Downtown Shops Activity Room\, 53 Main Street\, Toms River\, NJ\, 08753\, United States
ORGANIZER;CN="Toms River Artist Community":MAILTO:tomsriverartistcommunity732@gmail.com
END:VEVENT
BEGIN:VEVENT
DTSTART;TZID=America/New_York:20200405T180000
DTEND;TZID=America/New_York:20200405T200000
DTSTAMP:20260425T072132
CREATED:20191220T174635Z
LAST-MODIFIED:20191220T181056Z
UID:10000272-1586109600-1586116800@downtowntomsriver.com
SUMMARY:Life Drawing At TRAC Gallery
DESCRIPTION:Life Drawing at TRAC  Most Sundays 6-8pm Features an undraped model Must be 18 to participate $10 fee\, bring your own art supplies Follow our Life Drawing at TRAC page on Facebook for dates and details.
URL:https://downtowntomsriver.com/event/life-drawing-at-trac-gallery-14/
LOCATION:Downtown Shops Activity Room\, 53 Main Street\, Toms River\, NJ\, 08753\, United States
ORGANIZER;CN="Toms River Artist Community":MAILTO:tomsriverartistcommunity732@gmail.com
END:VEVENT
BEGIN:VEVENT
DTSTART;TZID=America/New_York:20200329T180000
DTEND;TZID=America/New_York:20200329T200000
DTSTAMP:20260425T072132
CREATED:20191220T174633Z
LAST-MODIFIED:20191220T181054Z
UID:10000270-1585504800-1585512000@downtowntomsriver.com
SUMMARY:Life Drawing At TRAC Gallery
DESCRIPTION:Life Drawing at TRAC  Most Sundays 6-8pm Features an undraped model Must be 18 to participate $10 fee\, bring your own art supplies Follow our Life Drawing at TRAC page on Facebook for dates and details.
URL:https://downtowntomsriver.com/event/life-drawing-at-trac-gallery-13/
LOCATION:Downtown Shops Activity Room\, 53 Main Street\, Toms River\, NJ\, 08753\, United States
ORGANIZER;CN="Toms River Artist Community":MAILTO:tomsriverartistcommunity732@gmail.com
END:VEVENT
BEGIN:VEVENT
DTSTART;TZID=America/New_York:20200322T180000
DTEND;TZID=America/New_York:20200322T200000
DTSTAMP:20260425T072132
CREATED:20191220T174631Z
LAST-MODIFIED:20191220T181053Z
UID:10000268-1584900000-1584907200@downtowntomsriver.com
SUMMARY:Life Drawing At TRAC Gallery
DESCRIPTION:Life Drawing at TRAC  Most Sundays 6-8pm Features an undraped model Must be 18 to participate $10 fee\, bring your own art supplies Follow our Life Drawing at TRAC page on Facebook for dates and details.
URL:https://downtowntomsriver.com/event/life-drawing-at-trac-gallery-12/
LOCATION:Downtown Shops Activity Room\, 53 Main Street\, Toms River\, NJ\, 08753\, United States
ORGANIZER;CN="Toms River Artist Community":MAILTO:tomsriverartistcommunity732@gmail.com
END:VEVENT
BEGIN:VEVENT
DTSTART;TZID=America/New_York:20200321T130000
DTEND;TZID=America/New_York:20200321T143000
DTSTAMP:20260425T072132
CREATED:20200306T170709Z
LAST-MODIFIED:20200306T213200Z
UID:10000285-1584795600-1584801000@downtowntomsriver.com
SUMMARY:CBD Yoga
DESCRIPTION:Gentle yoga with yogis choice of CBD administration prior to yoga session. Please arrive 15 minutes early to sign in. \nSign up on the Facebook event page @thenjcbdshop \nFor more info: \nemail:  michelle@getlitsmokeshop.net \nphone:  732-569-0446 \n 
URL:https://downtowntomsriver.com/event/cbd-yoga/
LOCATION:Downtown Shops Activity Room\, 53 Main Street\, Toms River\, NJ\, 08753\, United States
ORGANIZER;CN="The CBD Shop":MAILTO:Michelle@getlitsmokeshop.net
END:VEVENT
BEGIN:VEVENT
DTSTART;TZID=America/New_York:20200315T180000
DTEND;TZID=America/New_York:20200315T200000
DTSTAMP:20260425T072132
CREATED:20191220T174629Z
LAST-MODIFIED:20191220T181049Z
UID:10000261-1584295200-1584302400@downtowntomsriver.com
SUMMARY:Life Drawing At TRAC Gallery
DESCRIPTION:Life Drawing at TRAC  Most Sundays 6-8pm Features an undraped model Must be 18 to participate $10 fee\, bring your own art supplies Follow our Life Drawing at TRAC page on Facebook for dates and details.
URL:https://downtowntomsriver.com/event/life-drawing-at-trac-gallery-11/
LOCATION:Downtown Shops Activity Room\, 53 Main Street\, Toms River\, NJ\, 08753\, United States
ORGANIZER;CN="Toms River Artist Community":MAILTO:tomsriverartistcommunity732@gmail.com
END:VEVENT
BEGIN:VEVENT
DTSTART;TZID=America/New_York:20200315T130000
DTEND;TZID=America/New_York:20200315T160000
DTSTAMP:20260425T072132
CREATED:20200225T185637Z
LAST-MODIFIED:20200225T185637Z
UID:10000039-1584277200-1584288000@downtowntomsriver.com
SUMMARY:TRAC and Cub Scout Troop 44
DESCRIPTION:TRAC will host Troop 44 through a guided Gallery tour.  The TRAC Board will talk about Abstract Art.  After the tour TRAC will host a “Make and Take” Each child will  get to make a painting to take home with them.  Light refreshments will be served
URL:https://downtowntomsriver.com/event/trac-and-cub-scout-troop-44/
LOCATION:Downtown Shops Activity Room\, 53 Main Street\, Toms River\, NJ\, 08753\, United States
CATEGORIES:Arts & Cluture
ATTACH;FMTTYPE=image/jpeg:https://downtowntomsriver.com/wp-content/uploads/2020/02/trac-logo-Tiff-1-2300.jpg
ORGANIZER;CN="Toms River Artist Community":MAILTO:tomsriverartistcommunity732@gmail.com
END:VEVENT
BEGIN:VEVENT
DTSTART;TZID=America/New_York:20200310T190000
DTEND;TZID=America/New_York:20200310T220000
DTSTAMP:20260425T072132
CREATED:20191220T180816Z
LAST-MODIFIED:20191220T182023Z
UID:10000026-1583866800-1583877600@downtowntomsriver.com
SUMMARY:Trac Monthly Meeting
DESCRIPTION:TRAC monthly meeting in the community room  7-10 PM  2nd Tues of each month.
URL:https://downtowntomsriver.com/event/trac-monthly-meeting-2/
LOCATION:Downtown Shops Activity Room\, 53 Main Street\, Toms River\, NJ\, 08753\, United States
ORGANIZER;CN="Toms River Artist Community":MAILTO:tomsriverartistcommunity732@gmail.com
END:VEVENT
BEGIN:VEVENT
DTSTART;TZID=America/New_York:20200308T180000
DTEND;TZID=America/New_York:20200308T200000
DTSTAMP:20260425T072132
CREATED:20191220T173802Z
LAST-MODIFIED:20191220T181046Z
UID:10000256-1583690400-1583697600@downtowntomsriver.com
SUMMARY:Life Drawing At TRAC Gallery
DESCRIPTION:Life Drawing at TRAC  Most Sundays 6-8pm Features an undraped model Must be 18 to participate $10 fee\, bring your own art supplies Follow our Life Drawing at TRAC page on Facebook for dates and details.
URL:https://downtowntomsriver.com/event/life-drawing-at-trac-gallery-10/
LOCATION:Downtown Shops Activity Room\, 53 Main Street\, Toms River\, NJ\, 08753\, United States
ORGANIZER;CN="Toms River Artist Community":MAILTO:tomsriverartistcommunity732@gmail.com
END:VEVENT
BEGIN:VEVENT
DTSTART;TZID=America/New_York:20200303T180000
DTEND;TZID=America/New_York:20200303T200000
DTSTAMP:20260425T072132
CREATED:20200220T205832Z
LAST-MODIFIED:20200220T205832Z
UID:10000267-1583258400-1583265600@downtowntomsriver.com
SUMMARY:Downtown Think Tank
DESCRIPTION:Join the Downtown Toms River Business Improvement District at their monthly meet & greet.  Meet with fellow business owners\, residents\, and stakeholders of the downtown to discuss the 2020 event season and how you can get involved.
URL:https://downtowntomsriver.com/event/downtown-think-tank/
LOCATION:Downtown Shops Activity Room\, 53 Main Street\, Toms River\, NJ\, 08753\, United States
CATEGORIES:Downtown Toms River Events
ATTACH;FMTTYPE=image/jpeg:https://downtowntomsriver.com/wp-content/uploads/2020/02/streetview-of-shops.jpg
END:VEVENT
BEGIN:VEVENT
DTSTART;TZID=America/New_York:20200301T180000
DTEND;TZID=America/New_York:20200301T200000
DTSTAMP:20260425T072132
CREATED:20191220T173758Z
LAST-MODIFIED:20191220T181044Z
UID:10000255-1583085600-1583092800@downtowntomsriver.com
SUMMARY:Life Drawing At TRAC Gallery
DESCRIPTION:Life Drawing at TRAC  Most Sundays 6-8pm Features an undraped model Must be 18 to participate $10 fee\, bring your own art supplies Follow our Life Drawing at TRAC page on Facebook for dates and details.
URL:https://downtowntomsriver.com/event/life-drawing-at-trac-gallery-9/
LOCATION:Downtown Shops Activity Room\, 53 Main Street\, Toms River\, NJ\, 08753\, United States
ORGANIZER;CN="Toms River Artist Community":MAILTO:tomsriverartistcommunity732@gmail.com
END:VEVENT
BEGIN:VEVENT
DTSTART;TZID=America/New_York:20200223T180000
DTEND;TZID=America/New_York:20200223T200000
DTSTAMP:20260425T072132
CREATED:20191220T173753Z
LAST-MODIFIED:20191220T181043Z
UID:10000254-1582480800-1582488000@downtowntomsriver.com
SUMMARY:Life Drawing At TRAC Gallery
DESCRIPTION:Life Drawing at TRAC  Most Sundays 6-8pm Features an undraped model Must be 18 to participate $10 fee\, bring your own art supplies Follow our Life Drawing at TRAC page on Facebook for dates and details.
URL:https://downtowntomsriver.com/event/life-drawing-at-trac-gallery-8/
LOCATION:Downtown Shops Activity Room\, 53 Main Street\, Toms River\, NJ\, 08753\, United States
ORGANIZER;CN="Toms River Artist Community":MAILTO:tomsriverartistcommunity732@gmail.com
END:VEVENT
BEGIN:VEVENT
DTSTART;TZID=America/New_York:20200216T180000
DTEND;TZID=America/New_York:20200216T200000
DTSTAMP:20260425T072132
CREATED:20191220T173748Z
LAST-MODIFIED:20191220T181041Z
UID:10000141-1581876000-1581883200@downtowntomsriver.com
SUMMARY:Life Drawing At TRAC Gallery
DESCRIPTION:Life Drawing at TRAC  Most Sundays 6-8pm Features an undraped model Must be 18 to participate $10 fee\, bring your own art supplies Follow our Life Drawing at TRAC page on Facebook for dates and details.
URL:https://downtowntomsriver.com/event/life-drawing-at-trac-gallery-7/
LOCATION:Downtown Shops Activity Room\, 53 Main Street\, Toms River\, NJ\, 08753\, United States
ORGANIZER;CN="Toms River Artist Community":MAILTO:tomsriverartistcommunity732@gmail.com
END:VEVENT
BEGIN:VEVENT
DTSTART;TZID=America/New_York:20200213T080000
DTEND;TZID=America/New_York:20200213T110000
DTSTAMP:20260425T072132
CREATED:20200212T135157Z
LAST-MODIFIED:20200212T135157Z
UID:10000266-1581580800-1581591600@downtowntomsriver.com
SUMMARY:Downtown Toms River Annual Meeting
DESCRIPTION:Downtown Toms River Business Improvement District’s Annual Meeting.
URL:https://downtowntomsriver.com/event/downtown-toms-river-annual-meeting/
LOCATION:Downtown Shops Activity Room\, 53 Main Street\, Toms River\, NJ\, 08753\, United States
END:VEVENT
BEGIN:VEVENT
DTSTART;TZID=America/New_York:20200211T190000
DTEND;TZID=America/New_York:20200211T190000
DTSTAMP:20260425T072132
CREATED:20191220T180714Z
LAST-MODIFIED:20191220T182023Z
UID:10000030-1581447600-1581447600@downtowntomsriver.com
SUMMARY:Trac Monthly Meeting
DESCRIPTION:TRAC monthly meeting in the community room  7-10 PM  2nd Tues of each month.
URL:https://downtowntomsriver.com/event/trac-monthly-meeting/
LOCATION:Downtown Shops Activity Room\, 53 Main Street\, Toms River\, NJ\, 08753\, United States
ORGANIZER;CN="Toms River Artist Community":MAILTO:tomsriverartistcommunity732@gmail.com
END:VEVENT
BEGIN:VEVENT
DTSTART;TZID=America/New_York:20200209T180000
DTEND;TZID=America/New_York:20200209T200000
DTSTAMP:20260425T072132
CREATED:20191220T173740Z
LAST-MODIFIED:20191220T181037Z
UID:10000112-1581271200-1581278400@downtowntomsriver.com
SUMMARY:Life Drawing At TRAC Gallery
DESCRIPTION:Life Drawing at TRAC  Most Sundays 6-8pm Features an undraped model Must be 18 to participate $10 fee\, bring your own art supplies Follow our Life Drawing at TRAC page on Facebook for dates and details.
URL:https://downtowntomsriver.com/event/life-drawing-at-trac-gallery-6/
LOCATION:Downtown Shops Activity Room\, 53 Main Street\, Toms River\, NJ\, 08753\, United States
ORGANIZER;CN="Toms River Artist Community":MAILTO:tomsriverartistcommunity732@gmail.com
END:VEVENT
BEGIN:VEVENT
DTSTART;TZID=America/New_York:20200202T190000
DTEND;TZID=America/New_York:20200202T230000
DTSTAMP:20260425T072132
CREATED:20200127T214423Z
LAST-MODIFIED:20200127T214423Z
UID:10000311-1580670000-1580684400@downtowntomsriver.com
SUMMARY:The Clubhouse Presents Original Music
DESCRIPTION:The Clubhouse presents original music live \nAdmission Fee: $5 \nFor more info\, contact Jimmy Mura \nEmail: theclubhousetr@gmail.com \nWebsite: the clubhousetr.com \nLocation: \nThe Downtown Shops @ 53 Main \n53 Main Street\, Toms River\, NJ 08753
URL:https://downtowntomsriver.com/event/the-clubhouse-presents-original-music/
LOCATION:Downtown Shops Activity Room\, 53 Main Street\, Toms River\, NJ\, 08753\, United States
CATEGORIES:Entertainment
ATTACH;FMTTYPE=image/jpeg:https://downtowntomsriver.com/wp-content/uploads/2020/01/clubhouse.jpg
ORGANIZER;CN="The Clubhouse TR":MAILTO:theclubhousetr@gmail.com
END:VEVENT
END:VCALENDAR