BEGIN:VCALENDAR
VERSION:2.0
PRODID:-// - ECPv6.15.15//NONSGML v1.0//EN
CALSCALE:GREGORIAN
METHOD:PUBLISH
X-ORIGINAL-URL:https://downtowntomsriver.com
X-WR-CALDESC:Events for 
REFRESH-INTERVAL;VALUE=DURATION:PT1H
X-Robots-Tag:noindex
X-PUBLISHED-TTL:PT1H
BEGIN:VTIMEZONE
TZID:America/New_York
BEGIN:DAYLIGHT
TZOFFSETFROM:-0500
TZOFFSETTO:-0400
TZNAME:EDT
DTSTART:20190310T070000
END:DAYLIGHT
BEGIN:STANDARD
TZOFFSETFROM:-0400
TZOFFSETTO:-0500
TZNAME:EST
DTSTART:20191103T060000
END:STANDARD
BEGIN:DAYLIGHT
TZOFFSETFROM:-0500
TZOFFSETTO:-0400
TZNAME:EDT
DTSTART:20200308T070000
END:DAYLIGHT
BEGIN:STANDARD
TZOFFSETFROM:-0400
TZOFFSETTO:-0500
TZNAME:EST
DTSTART:20201101T060000
END:STANDARD
BEGIN:DAYLIGHT
TZOFFSETFROM:-0500
TZOFFSETTO:-0400
TZNAME:EDT
DTSTART:20210314T070000
END:DAYLIGHT
BEGIN:STANDARD
TZOFFSETFROM:-0400
TZOFFSETTO:-0500
TZNAME:EST
DTSTART:20211107T060000
END:STANDARD
END:VTIMEZONE
BEGIN:VEVENT
DTSTART;TZID=America/New_York:20200310T190000
DTEND;TZID=America/New_York:20200310T220000
DTSTAMP:20260425T085554
CREATED:20191220T180816Z
LAST-MODIFIED:20191220T182023Z
UID:10000026-1583866800-1583877600@downtowntomsriver.com
SUMMARY:Trac Monthly Meeting
DESCRIPTION:TRAC monthly meeting in the community room  7-10 PM  2nd Tues of each month.
URL:https://downtowntomsriver.com/event/trac-monthly-meeting-2/
LOCATION:Downtown Shops Activity Room\, 53 Main Street\, Toms River\, NJ\, 08753\, United States
ORGANIZER;CN="Toms River Artist Community":MAILTO:tomsriverartistcommunity732@gmail.com
END:VEVENT
BEGIN:VEVENT
DTSTART;TZID=America/New_York:20200308T180000
DTEND;TZID=America/New_York:20200308T200000
DTSTAMP:20260425T085554
CREATED:20191220T173802Z
LAST-MODIFIED:20191220T181046Z
UID:10000256-1583690400-1583697600@downtowntomsriver.com
SUMMARY:Life Drawing At TRAC Gallery
DESCRIPTION:Life Drawing at TRAC  Most Sundays 6-8pm Features an undraped model Must be 18 to participate $10 fee\, bring your own art supplies Follow our Life Drawing at TRAC page on Facebook for dates and details.
URL:https://downtowntomsriver.com/event/life-drawing-at-trac-gallery-10/
LOCATION:Downtown Shops Activity Room\, 53 Main Street\, Toms River\, NJ\, 08753\, United States
ORGANIZER;CN="Toms River Artist Community":MAILTO:tomsriverartistcommunity732@gmail.com
END:VEVENT
BEGIN:VEVENT
DTSTART;TZID=America/New_York:20200303T180000
DTEND;TZID=America/New_York:20200303T200000
DTSTAMP:20260425T085554
CREATED:20200220T205832Z
LAST-MODIFIED:20200220T205832Z
UID:10000267-1583258400-1583265600@downtowntomsriver.com
SUMMARY:Downtown Think Tank
DESCRIPTION:Join the Downtown Toms River Business Improvement District at their monthly meet & greet.  Meet with fellow business owners\, residents\, and stakeholders of the downtown to discuss the 2020 event season and how you can get involved.
URL:https://downtowntomsriver.com/event/downtown-think-tank/
LOCATION:Downtown Shops Activity Room\, 53 Main Street\, Toms River\, NJ\, 08753\, United States
CATEGORIES:Downtown Toms River Events
ATTACH;FMTTYPE=image/jpeg:https://downtowntomsriver.com/wp-content/uploads/2020/02/streetview-of-shops.jpg
END:VEVENT
BEGIN:VEVENT
DTSTART;TZID=America/New_York:20200301T180000
DTEND;TZID=America/New_York:20200301T200000
DTSTAMP:20260425T085554
CREATED:20191220T173758Z
LAST-MODIFIED:20191220T181044Z
UID:10000255-1583085600-1583092800@downtowntomsriver.com
SUMMARY:Life Drawing At TRAC Gallery
DESCRIPTION:Life Drawing at TRAC  Most Sundays 6-8pm Features an undraped model Must be 18 to participate $10 fee\, bring your own art supplies Follow our Life Drawing at TRAC page on Facebook for dates and details.
URL:https://downtowntomsriver.com/event/life-drawing-at-trac-gallery-9/
LOCATION:Downtown Shops Activity Room\, 53 Main Street\, Toms River\, NJ\, 08753\, United States
ORGANIZER;CN="Toms River Artist Community":MAILTO:tomsriverartistcommunity732@gmail.com
END:VEVENT
BEGIN:VEVENT
DTSTART;TZID=America/New_York:20200223T180000
DTEND;TZID=America/New_York:20200223T200000
DTSTAMP:20260425T085554
CREATED:20191220T173753Z
LAST-MODIFIED:20191220T181043Z
UID:10000254-1582480800-1582488000@downtowntomsriver.com
SUMMARY:Life Drawing At TRAC Gallery
DESCRIPTION:Life Drawing at TRAC  Most Sundays 6-8pm Features an undraped model Must be 18 to participate $10 fee\, bring your own art supplies Follow our Life Drawing at TRAC page on Facebook for dates and details.
URL:https://downtowntomsriver.com/event/life-drawing-at-trac-gallery-8/
LOCATION:Downtown Shops Activity Room\, 53 Main Street\, Toms River\, NJ\, 08753\, United States
ORGANIZER;CN="Toms River Artist Community":MAILTO:tomsriverartistcommunity732@gmail.com
END:VEVENT
BEGIN:VEVENT
DTSTART;TZID=America/New_York:20200216T180000
DTEND;TZID=America/New_York:20200216T200000
DTSTAMP:20260425T085554
CREATED:20191220T173748Z
LAST-MODIFIED:20191220T181041Z
UID:10000141-1581876000-1581883200@downtowntomsriver.com
SUMMARY:Life Drawing At TRAC Gallery
DESCRIPTION:Life Drawing at TRAC  Most Sundays 6-8pm Features an undraped model Must be 18 to participate $10 fee\, bring your own art supplies Follow our Life Drawing at TRAC page on Facebook for dates and details.
URL:https://downtowntomsriver.com/event/life-drawing-at-trac-gallery-7/
LOCATION:Downtown Shops Activity Room\, 53 Main Street\, Toms River\, NJ\, 08753\, United States
ORGANIZER;CN="Toms River Artist Community":MAILTO:tomsriverartistcommunity732@gmail.com
END:VEVENT
BEGIN:VEVENT
DTSTART;TZID=America/New_York:20200213T080000
DTEND;TZID=America/New_York:20200213T110000
DTSTAMP:20260425T085554
CREATED:20200212T135157Z
LAST-MODIFIED:20200212T135157Z
UID:10000266-1581580800-1581591600@downtowntomsriver.com
SUMMARY:Downtown Toms River Annual Meeting
DESCRIPTION:Downtown Toms River Business Improvement District’s Annual Meeting.
URL:https://downtowntomsriver.com/event/downtown-toms-river-annual-meeting/
LOCATION:Downtown Shops Activity Room\, 53 Main Street\, Toms River\, NJ\, 08753\, United States
END:VEVENT
BEGIN:VEVENT
DTSTART;TZID=America/New_York:20200211T190000
DTEND;TZID=America/New_York:20200211T190000
DTSTAMP:20260425T085554
CREATED:20191220T180714Z
LAST-MODIFIED:20191220T182023Z
UID:10000030-1581447600-1581447600@downtowntomsriver.com
SUMMARY:Trac Monthly Meeting
DESCRIPTION:TRAC monthly meeting in the community room  7-10 PM  2nd Tues of each month.
URL:https://downtowntomsriver.com/event/trac-monthly-meeting/
LOCATION:Downtown Shops Activity Room\, 53 Main Street\, Toms River\, NJ\, 08753\, United States
ORGANIZER;CN="Toms River Artist Community":MAILTO:tomsriverartistcommunity732@gmail.com
END:VEVENT
BEGIN:VEVENT
DTSTART;TZID=America/New_York:20200209T180000
DTEND;TZID=America/New_York:20200209T200000
DTSTAMP:20260425T085554
CREATED:20191220T173740Z
LAST-MODIFIED:20191220T181037Z
UID:10000112-1581271200-1581278400@downtowntomsriver.com
SUMMARY:Life Drawing At TRAC Gallery
DESCRIPTION:Life Drawing at TRAC  Most Sundays 6-8pm Features an undraped model Must be 18 to participate $10 fee\, bring your own art supplies Follow our Life Drawing at TRAC page on Facebook for dates and details.
URL:https://downtowntomsriver.com/event/life-drawing-at-trac-gallery-6/
LOCATION:Downtown Shops Activity Room\, 53 Main Street\, Toms River\, NJ\, 08753\, United States
ORGANIZER;CN="Toms River Artist Community":MAILTO:tomsriverartistcommunity732@gmail.com
END:VEVENT
BEGIN:VEVENT
DTSTART;TZID=America/New_York:20200202T190000
DTEND;TZID=America/New_York:20200202T230000
DTSTAMP:20260425T085554
CREATED:20200127T214423Z
LAST-MODIFIED:20200127T214423Z
UID:10000311-1580670000-1580684400@downtowntomsriver.com
SUMMARY:The Clubhouse Presents Original Music
DESCRIPTION:The Clubhouse presents original music live \nAdmission Fee: $5 \nFor more info\, contact Jimmy Mura \nEmail: theclubhousetr@gmail.com \nWebsite: the clubhousetr.com \nLocation: \nThe Downtown Shops @ 53 Main \n53 Main Street\, Toms River\, NJ 08753
URL:https://downtowntomsriver.com/event/the-clubhouse-presents-original-music/
LOCATION:Downtown Shops Activity Room\, 53 Main Street\, Toms River\, NJ\, 08753\, United States
CATEGORIES:Entertainment
ATTACH;FMTTYPE=image/jpeg:https://downtowntomsriver.com/wp-content/uploads/2020/01/clubhouse.jpg
ORGANIZER;CN="The Clubhouse TR":MAILTO:theclubhousetr@gmail.com
END:VEVENT
BEGIN:VEVENT
DTSTART;TZID=America/New_York:20200202T180000
DTEND;TZID=America/New_York:20200202T200000
DTSTAMP:20260425T085554
CREATED:20191220T173733Z
LAST-MODIFIED:20191220T181033Z
UID:10000111-1580666400-1580673600@downtowntomsriver.com
SUMMARY:Life Drawing At TRAC Gallery
DESCRIPTION:Life Drawing at TRAC  Most Sundays 6-8pm Features an undraped model Must be 18 to participate $10 fee\, bring your own art supplies Follow our Life Drawing at TRAC page on Facebook for dates and details.
URL:https://downtowntomsriver.com/event/life-drawing-at-trac-gallery-5/
LOCATION:Downtown Shops Activity Room\, 53 Main Street\, Toms River\, NJ\, 08753\, United States
ORGANIZER;CN="Toms River Artist Community":MAILTO:tomsriverartistcommunity732@gmail.com
END:VEVENT
BEGIN:VEVENT
DTSTART;TZID=America/New_York:20200126T180000
DTEND;TZID=America/New_York:20200126T200000
DTSTAMP:20260425T085554
CREATED:20191220T173731Z
LAST-MODIFIED:20191220T181031Z
UID:10000110-1580061600-1580068800@downtowntomsriver.com
SUMMARY:Life Drawing At TRAC Gallery
DESCRIPTION:Life Drawing at TRAC  Most Sundays 6-8pm Features an undraped model Must be 18 to participate $10 fee\, bring your own art supplies Follow our Life Drawing at TRAC page on Facebook for dates and details.
URL:https://downtowntomsriver.com/event/life-drawing-at-trac-gallery-4/
LOCATION:Downtown Shops Activity Room\, 53 Main Street\, Toms River\, NJ\, 08753\, United States
ORGANIZER;CN="Toms River Artist Community":MAILTO:tomsriverartistcommunity732@gmail.com
END:VEVENT
BEGIN:VEVENT
DTSTART;TZID=America/New_York:20200119T180000
DTEND;TZID=America/New_York:20200119T200000
DTSTAMP:20260425T085554
CREATED:20191220T173730Z
LAST-MODIFIED:20191220T181030Z
UID:10000109-1579456800-1579464000@downtowntomsriver.com
SUMMARY:Life Drawing At TRAC Gallery
DESCRIPTION:Life Drawing at TRAC  Most Sundays 6-8pm Features an undraped model Must be 18 to participate $10 fee\, bring your own art supplies Follow our Life Drawing at TRAC page on Facebook for dates and details.
URL:https://downtowntomsriver.com/event/life-drawing-at-trac-gallery-3/
LOCATION:Downtown Shops Activity Room\, 53 Main Street\, Toms River\, NJ\, 08753\, United States
ORGANIZER;CN="Toms River Artist Community":MAILTO:tomsriverartistcommunity732@gmail.com
END:VEVENT
BEGIN:VEVENT
DTSTART;TZID=America/New_York:20200112T180000
DTEND;TZID=America/New_York:20200112T200000
DTSTAMP:20260425T085554
CREATED:20191220T173729Z
LAST-MODIFIED:20191220T181027Z
UID:10000078-1578852000-1578859200@downtowntomsriver.com
SUMMARY:Life Drawing At TRAC Gallery
DESCRIPTION:Life Drawing at TRAC  Most Sundays 6-8pm Features an undraped model Must be 18 to participate $10 fee\, bring your own art supplies Follow our Life Drawing at TRAC page on Facebook for dates and details.
URL:https://downtowntomsriver.com/event/life-drawing-at-trac-gallery-2/
LOCATION:Downtown Shops Activity Room\, 53 Main Street\, Toms River\, NJ\, 08753\, United States
ORGANIZER;CN="Toms River Artist Community":MAILTO:tomsriverartistcommunity732@gmail.com
END:VEVENT
BEGIN:VEVENT
DTSTART;TZID=America/New_York:20200112T130000
DTEND;TZID=America/New_York:20200112T160000
DTSTAMP:20260425T085554
CREATED:20191220T181008Z
LAST-MODIFIED:20191220T182053Z
UID:10000263-1578834000-1578844800@downtowntomsriver.com
SUMMARY:Winter Candle Making Class
DESCRIPTION:Register in the shop.Class Fee: $40 paid at time of sign up.Class limited to 10 people.Make a Candle for yourself\, family or friends.Sign up in the shop to reserve your spot.
URL:https://downtowntomsriver.com/event/winter-candle-making-class/
LOCATION:Downtown Shops Activity Room\, 53 Main Street\, Toms River\, NJ\, 08753\, United States
ORGANIZER;CN="A Lil Peace of Tranquility":MAILTO:Alilpeaceoftranquility@gmail.com
END:VEVENT
BEGIN:VEVENT
DTSTART;TZID=America/New_York:20200105T180000
DTEND;TZID=America/New_York:20200105T200000
DTSTAMP:20260425T085554
CREATED:20191220T173726Z
LAST-MODIFIED:20191220T181023Z
UID:10000077-1578247200-1578254400@downtowntomsriver.com
SUMMARY:Life Drawing At TRAC Gallery
DESCRIPTION:Life Drawing at TRAC  Most Sundays 6-8pm Features an undraped model Must be 18 to participate $10 fee\, bring your own art supplies Follow our Life Drawing at TRAC page on Facebook for dates and details.
URL:https://downtowntomsriver.com/event/life-drawing-at-trac-gallery/
LOCATION:Downtown Shops Activity Room\, 53 Main Street\, Toms River\, NJ\, 08753\, United States
ORGANIZER;CN="Toms River Artist Community":MAILTO:tomsriverartistcommunity732@gmail.com
END:VEVENT
END:VCALENDAR