BEGIN:VCALENDAR
VERSION:2.0
PRODID:-// - ECPv6.15.15//NONSGML v1.0//EN
CALSCALE:GREGORIAN
METHOD:PUBLISH
X-ORIGINAL-URL:https://downtowntomsriver.com
X-WR-CALDESC:Events for 
REFRESH-INTERVAL;VALUE=DURATION:PT1H
X-Robots-Tag:noindex
X-PUBLISHED-TTL:PT1H
BEGIN:VTIMEZONE
TZID:America/New_York
BEGIN:DAYLIGHT
TZOFFSETFROM:-0500
TZOFFSETTO:-0400
TZNAME:EDT
DTSTART:20190310T070000
END:DAYLIGHT
BEGIN:STANDARD
TZOFFSETFROM:-0400
TZOFFSETTO:-0500
TZNAME:EST
DTSTART:20191103T060000
END:STANDARD
BEGIN:DAYLIGHT
TZOFFSETFROM:-0500
TZOFFSETTO:-0400
TZNAME:EDT
DTSTART:20200308T070000
END:DAYLIGHT
BEGIN:STANDARD
TZOFFSETFROM:-0400
TZOFFSETTO:-0500
TZNAME:EST
DTSTART:20201101T060000
END:STANDARD
BEGIN:DAYLIGHT
TZOFFSETFROM:-0500
TZOFFSETTO:-0400
TZNAME:EDT
DTSTART:20210314T070000
END:DAYLIGHT
BEGIN:STANDARD
TZOFFSETFROM:-0400
TZOFFSETTO:-0500
TZNAME:EST
DTSTART:20211107T060000
END:STANDARD
END:VTIMEZONE
BEGIN:VEVENT
DTSTART;TZID=America/New_York:20201003T140000
DTEND;TZID=America/New_York:20201003T170000
DTSTAMP:20260424T013259
CREATED:20200720T175224Z
LAST-MODIFIED:20200720T175224Z
UID:10000414-1601733600-1601744400@downtowntomsriver.com
SUMMARY:POUND 4 PINK NJ with Lisa Pepper and Company to benefit  Mary’s Place by the Sea
DESCRIPTION:Join Toms River resident Lisa Pepper as she joins forces with this incredible team of Global Pound Pros\, Tour Crew and Icons as they come together to strike against Breast Cancer. Help them as they make noise during the 1st annual POUND 4 PINK NJ\, at the beautiful Downtown Dance Academy located in Toms River\, NJ. Music will be provided by KEC Entertainment\, Toms River\, who has graciously donated their time and talents for this event. A special shout out to Garden State Distillery\, they are donating 20 percent of their days sales for this event. We will be heading over after for some drinks to raise our glasses to kicking cancer to the curb. (Non alcoholic drinks are also available.) \nOctober is Breast Cancer Awareness Month—this is an annual campaign that informs people about breast cancer risks\, the value of screening and early detection\, and treatment options available to women and men who are diagnosed. More than a million women are diagnosed with breast cancer worldwide every single year\, and each must find a way to heal from the physical and emotional scars that breast cancer brings. \nNew to POUND?\nInstead of listening to music\, you become the music in this exhilarating full-body workout that combines cardio\, conditioning\, and strength training with yoga and pilates-inspired movements. Using Ripstix®\, lightly weighted drumsticks engineered specifically for exercising\, POUND transforms drumming into an incredibly effective way of working out. \nDesigned for all fitness levels\, POUND® provides the perfect atmosphere for letting loose\, getting energized\, toning up and rockin’ out! The workout is easily modifiable and the alternative vibe and welcoming philosophy appeals to men and women of all ages and abilities.\n**Tickets are FREE and are required to reserve your spot. Donations will be accepted the day of the event. this is a donation based class. Suggested minimum is $15.00 and will be collected at the event. ALL proceeds of this event will be given to Mary’s Place By the Sea.
URL:https://downtowntomsriver.com/event/pound-4-pink-nj-with-lisa-pepper-and-company-to-benefit-marys-place-by-the-sea/
LOCATION:Downtown Dance Academy\, 25 W Water St\, Toms River\, NJ\, 08753\, United States
CATEGORIES:Other
ATTACH;FMTTYPE=image/jpeg:https://downtowntomsriver.com/wp-content/uploads/2020/07/1D605AA2-0E73-4C7E-AAE0-2E325A160CF6.jpeg
ORGANIZER;CN="Lisa Pepper Tour Crew Pound":MAILTO:Poundwithpepper@gmail.com
END:VEVENT
END:VCALENDAR