BEGIN:VCALENDAR
VERSION:2.0
PRODID:-// - ECPv6.15.15//NONSGML v1.0//EN
CALSCALE:GREGORIAN
METHOD:PUBLISH
X-ORIGINAL-URL:https://downtowntomsriver.com
X-WR-CALDESC:Events for 
REFRESH-INTERVAL;VALUE=DURATION:PT1H
X-Robots-Tag:noindex
X-PUBLISHED-TTL:PT1H
BEGIN:VTIMEZONE
TZID:America/New_York
BEGIN:DAYLIGHT
TZOFFSETFROM:-0500
TZOFFSETTO:-0400
TZNAME:EDT
DTSTART:20190310T070000
END:DAYLIGHT
BEGIN:STANDARD
TZOFFSETFROM:-0400
TZOFFSETTO:-0500
TZNAME:EST
DTSTART:20191103T060000
END:STANDARD
BEGIN:DAYLIGHT
TZOFFSETFROM:-0500
TZOFFSETTO:-0400
TZNAME:EDT
DTSTART:20200308T070000
END:DAYLIGHT
BEGIN:STANDARD
TZOFFSETFROM:-0400
TZOFFSETTO:-0500
TZNAME:EST
DTSTART:20201101T060000
END:STANDARD
BEGIN:DAYLIGHT
TZOFFSETFROM:-0500
TZOFFSETTO:-0400
TZNAME:EDT
DTSTART:20210314T070000
END:DAYLIGHT
BEGIN:STANDARD
TZOFFSETFROM:-0400
TZOFFSETTO:-0500
TZNAME:EST
DTSTART:20211107T060000
END:STANDARD
END:VTIMEZONE
BEGIN:VEVENT
DTSTART;TZID=America/New_York:20200721T193000
DTEND;TZID=America/New_York:20200721T213000
DTSTAMP:20260423T095107
CREATED:20200706T181423Z
LAST-MODIFIED:20200706T181423Z
UID:10000389-1595359800-1595367000@downtowntomsriver.com
SUMMARY:Line Dance with Maureen from DanceMaur @Broadway On Main
DESCRIPTION:Outside class held in our parking lot\, all levels welcomed. No experience or partner needed. Text 908.910.6752 to sign up \n$10 cash at the door \nEvery Tuesday & Friday in the Summer.
URL:https://downtowntomsriver.com/event/line-dance-with-maureen-from-dancemaur-broadway-on-main/2020-07-21/
LOCATION:Broadway On Main\, 806 N. Main Street\, Toms River\, 08753\, United States
CATEGORIES:Downtown Toms River Events
ORGANIZER;CN="Broadway On Main":MAILTO:broadwayonmaintrnj@gmail.com
END:VEVENT
BEGIN:VEVENT
DTSTART;TZID=America/New_York:20200717T193000
DTEND;TZID=America/New_York:20200717T213000
DTSTAMP:20260423T095107
CREATED:20200706T181423Z
LAST-MODIFIED:20200706T181423Z
UID:10000388-1595014200-1595021400@downtowntomsriver.com
SUMMARY:Line Dance with Maureen from DanceMaur @Broadway On Main
DESCRIPTION:Outside class held in our parking lot\, all levels welcomed. No experience or partner needed. Text 908.910.6752 to sign up \n$10 cash at the door \nEvery Tuesday & Friday in the Summer.
URL:https://downtowntomsriver.com/event/line-dance-with-maureen-from-dancemaur-broadway-on-main/2020-07-17/
LOCATION:Broadway On Main\, 806 N. Main Street\, Toms River\, 08753\, United States
CATEGORIES:Downtown Toms River Events
ORGANIZER;CN="Broadway On Main":MAILTO:broadwayonmaintrnj@gmail.com
END:VEVENT
BEGIN:VEVENT
DTSTART;TZID=America/New_York:20200714T193000
DTEND;TZID=America/New_York:20200714T213000
DTSTAMP:20260423T095107
CREATED:20200706T181423Z
LAST-MODIFIED:20200706T181423Z
UID:10000387-1594755000-1594762200@downtowntomsriver.com
SUMMARY:Line Dance with Maureen from DanceMaur @Broadway On Main
DESCRIPTION:Outside class held in our parking lot\, all levels welcomed. No experience or partner needed. Text 908.910.6752 to sign up \n$10 cash at the door \nEvery Tuesday & Friday in the Summer.
URL:https://downtowntomsriver.com/event/line-dance-with-maureen-from-dancemaur-broadway-on-main/2020-07-14/
LOCATION:Broadway On Main\, 806 N. Main Street\, Toms River\, 08753\, United States
CATEGORIES:Downtown Toms River Events
ORGANIZER;CN="Broadway On Main":MAILTO:broadwayonmaintrnj@gmail.com
END:VEVENT
BEGIN:VEVENT
DTSTART;TZID=America/New_York:20200710T193000
DTEND;TZID=America/New_York:20200710T213000
DTSTAMP:20260423T095107
CREATED:20200706T181423Z
LAST-MODIFIED:20200706T181423Z
UID:10000386-1594409400-1594416600@downtowntomsriver.com
SUMMARY:Line Dance with Maureen from DanceMaur @Broadway On Main
DESCRIPTION:Outside class held in our parking lot\, all levels welcomed. No experience or partner needed. Text 908.910.6752 to sign up \n$10 cash at the door \nEvery Tuesday & Friday in the Summer.
URL:https://downtowntomsriver.com/event/line-dance-with-maureen-from-dancemaur-broadway-on-main/2020-07-10/
LOCATION:Broadway On Main\, 806 N. Main Street\, Toms River\, 08753\, United States
CATEGORIES:Downtown Toms River Events
ORGANIZER;CN="Broadway On Main":MAILTO:broadwayonmaintrnj@gmail.com
END:VEVENT
BEGIN:VEVENT
DTSTART;TZID=America/New_York:20200707T193000
DTEND;TZID=America/New_York:20200707T213000
DTSTAMP:20260423T095107
CREATED:20200706T181423Z
LAST-MODIFIED:20200706T181423Z
UID:10000385-1594150200-1594157400@downtowntomsriver.com
SUMMARY:Line Dance with Maureen from DanceMaur @Broadway On Main
DESCRIPTION:Outside class held in our parking lot\, all levels welcomed. No experience or partner needed. Text 908.910.6752 to sign up \n$10 cash at the door \nEvery Tuesday & Friday in the Summer.
URL:https://downtowntomsriver.com/event/line-dance-with-maureen-from-dancemaur-broadway-on-main/2020-07-07/
LOCATION:Broadway On Main\, 806 N. Main Street\, Toms River\, 08753\, United States
CATEGORIES:Downtown Toms River Events
ORGANIZER;CN="Broadway On Main":MAILTO:broadwayonmaintrnj@gmail.com
END:VEVENT
END:VCALENDAR