BEGIN:VCALENDAR
VERSION:2.0
PRODID:-// - ECPv6.15.15//NONSGML v1.0//EN
CALSCALE:GREGORIAN
METHOD:PUBLISH
X-ORIGINAL-URL:https://downtowntomsriver.com
X-WR-CALDESC:Events for 
REFRESH-INTERVAL;VALUE=DURATION:PT1H
X-Robots-Tag:noindex
X-PUBLISHED-TTL:PT1H
BEGIN:VTIMEZONE
TZID:America/New_York
BEGIN:DAYLIGHT
TZOFFSETFROM:-0500
TZOFFSETTO:-0400
TZNAME:EDT
DTSTART:20250309T070000
END:DAYLIGHT
BEGIN:STANDARD
TZOFFSETFROM:-0400
TZOFFSETTO:-0500
TZNAME:EST
DTSTART:20251102T060000
END:STANDARD
BEGIN:DAYLIGHT
TZOFFSETFROM:-0500
TZOFFSETTO:-0400
TZNAME:EDT
DTSTART:20260308T070000
END:DAYLIGHT
BEGIN:STANDARD
TZOFFSETFROM:-0400
TZOFFSETTO:-0500
TZNAME:EST
DTSTART:20261101T060000
END:STANDARD
BEGIN:DAYLIGHT
TZOFFSETFROM:-0500
TZOFFSETTO:-0400
TZNAME:EDT
DTSTART:20270314T070000
END:DAYLIGHT
BEGIN:STANDARD
TZOFFSETFROM:-0400
TZOFFSETTO:-0500
TZNAME:EST
DTSTART:20271107T060000
END:STANDARD
END:VTIMEZONE
BEGIN:VEVENT
DTSTART;TZID=America/New_York:20260426T093000
DTEND;TZID=America/New_York:20260426T233000
DTSTAMP:20260423T053043
CREATED:20260408T182234Z
LAST-MODIFIED:20260408T182234Z
UID:10007481-1777195800-1777246200@downtowntomsriver.com
SUMMARY:Reiki Share
DESCRIPTION:Monthly Reiki Share\n4th Sunday of the month \nGather to practice\, connect\, and learn from each other. \nA Reiki Share is a gathering where Reiki practitioners and students get together and practice their Reiki healing on each other in a group setting. It’s an amazing experience to give and receive healing.  We often have discussions to help understand what we are experiencing and to enhance perspectives. \nIt is through continued use of Reiki that we can connect and understand it’s benefits and beauty. \nReiki Share open to all lineages and experience. Reiki 1 required \nCost $12 \nhttps://square.link/u/rUrK5RkY \n40 Main Street\, Suite 103\nToms River NJ 08753 \nParking in rear of building. \n  \nPresented by Hannah Mary Healing & Reiki
URL:https://downtowntomsriver.com/event/reiki-share/
LOCATION:40 Main St\, Right Side\, Toms River\, 40 Main St\, Right Side\, TOMS RIVER\, NJ\, 08753\, United States
CATEGORIES:Downtown Business Events
ATTACH;FMTTYPE=image/jpeg:https://downtowntomsriver.com/wp-content/uploads/2026/04/Reiki-Share-TR.jpg
ORGANIZER;CN="Hannah Mary Healing &amp%3B Reiki":MAILTO:Hannahmary4513@aol.com
END:VEVENT
END:VCALENDAR