BEGIN:VCALENDAR
VERSION:2.0
PRODID:-// - ECPv6.15.15//NONSGML v1.0//EN
CALSCALE:GREGORIAN
METHOD:PUBLISH
X-ORIGINAL-URL:https://downtowntomsriver.com
X-WR-CALDESC:Events for 
REFRESH-INTERVAL;VALUE=DURATION:PT1H
X-Robots-Tag:noindex
X-PUBLISHED-TTL:PT1H
BEGIN:VTIMEZONE
TZID:America/New_York
BEGIN:DAYLIGHT
TZOFFSETFROM:-0500
TZOFFSETTO:-0400
TZNAME:EDT
DTSTART:20220313T070000
END:DAYLIGHT
BEGIN:STANDARD
TZOFFSETFROM:-0400
TZOFFSETTO:-0500
TZNAME:EST
DTSTART:20221106T060000
END:STANDARD
BEGIN:DAYLIGHT
TZOFFSETFROM:-0500
TZOFFSETTO:-0400
TZNAME:EDT
DTSTART:20230312T070000
END:DAYLIGHT
BEGIN:STANDARD
TZOFFSETFROM:-0400
TZOFFSETTO:-0500
TZNAME:EST
DTSTART:20231105T060000
END:STANDARD
BEGIN:DAYLIGHT
TZOFFSETFROM:-0500
TZOFFSETTO:-0400
TZNAME:EDT
DTSTART:20240310T070000
END:DAYLIGHT
BEGIN:STANDARD
TZOFFSETFROM:-0400
TZOFFSETTO:-0500
TZNAME:EST
DTSTART:20241103T060000
END:STANDARD
END:VTIMEZONE
BEGIN:VEVENT
DTSTART;TZID=America/New_York:20231208T183000
DTEND;TZID=America/New_York:20231208T203000
DTSTAMP:20260423T070807
CREATED:20231026T202006Z
LAST-MODIFIED:20231027T123757Z
UID:10000952-1702060200-1702067400@downtowntomsriver.com
SUMMARY:TRAC & Painted Thingies  - Winter  Wonderland Holiday Paint & Sip
DESCRIPTION:Join us for a Winter Wonderland themed paint & sip.  Learn how to make a beautiful work of art to keep or give as a give for the holidays. \nClass cost includes all materials\, light refreshments and  cookies by Must Get Sconed \nThis is a class for adults only.  BYOB \nTo reserve your spot please email ajoyofart732@gmail.com
URL:https://downtowntomsriver.com/event/trac-painted-thingies-winter-wonderland-holiday-paint-sip/
LOCATION:40 Main St\, Right Side\, Toms River\, 40 Main St\, Right Side\, TOMS RIVER\, NJ\, 08753\, United States
CATEGORIES:Arts & Crafts
ORGANIZER;CN="Toms River Artist Community":MAILTO:tomsriverartistcommunity732@gmail.com
END:VEVENT
BEGIN:VEVENT
DTSTART;TZID=America/New_York:20231203T140000
DTEND;TZID=America/New_York:20231203T160000
DTSTAMP:20260423T070807
CREATED:20231102T181607Z
LAST-MODIFIED:20231102T190832Z
UID:10001114-1701612000-1701619200@downtowntomsriver.com
SUMMARY:TRAC - Knitting for Beginners with Wendy
DESCRIPTION:At the TRAC Gallery\, learn to knit with Wendy from Art From Mars \nThis is beginners class. Create a handmade gift such as coasters\, ornaments\, bracelets etc. \nPlease contact Wendy to reserve your spot 732-597-8903 \n  \n$25.00 Per person\, family friendly event
URL:https://downtowntomsriver.com/event/trac-knitting-for-beginners-with-wendy/
LOCATION:40 Main St\, Right Side\, Toms River\, 40 Main St\, Right Side\, TOMS RIVER\, NJ\, 08753\, United States
CATEGORIES:Arts & Cluture
ATTACH;FMTTYPE=image/jpeg:https://downtowntomsriver.com/wp-content/uploads/2023/11/363784705_1349397665950027_8147395051478887090_n.jpg
ORGANIZER;CN="Toms River Artist community":MAILTO:Tomsriverartistcommunity732@gmail.com
END:VEVENT
BEGIN:VEVENT
DTSTART;TZID=America/New_York:20231124T120000
DTEND;TZID=America/New_York:20231125T180000
DTSTAMP:20260423T070807
CREATED:20231016T165541Z
LAST-MODIFIED:20231016T172010Z
UID:10000944-1700827200-1700935200@downtowntomsriver.com
SUMMARY:TRAC Holiday Bazaar
DESCRIPTION:Join the TRAC Artists for our yearly Holiday Bazaar.  Local artists will be setting up in our Gallery\, Black Friday and Small Business Saturday.  We will have 10-15 vendors setup\, plus all of our regular works will be on display as well.  Keep your hard earned money in our town this Holiday season! \n  \nThis is a family\, friendly event \n100% ADA compliant facility
URL:https://downtowntomsriver.com/event/trac-holiday-bazaar-3/
LOCATION:40 Main St\, Right Side\, Toms River\, 40 Main St\, Right Side\, TOMS RIVER\, NJ\, 08753\, United States
CATEGORIES:Arts & Cluture
ATTACH;FMTTYPE=image/png:https://downtowntomsriver.com/wp-content/uploads/2023/10/HOLIDAY-BAZ.png
ORGANIZER;CN="Toms River Artist Community":MAILTO:tomsriverartistcommunity732@gmail.com
END:VEVENT
BEGIN:VEVENT
DTSTART;TZID=America/New_York:20231121T190000
DTEND;TZID=America/New_York:20231121T200000
DTSTAMP:20260423T070807
CREATED:20231026T200146Z
LAST-MODIFIED:20231027T123907Z
UID:10000951-1700593200-1700596800@downtowntomsriver.com
SUMMARY:Aromatherapeutic Candle Making
DESCRIPTION:Have you ever wondered how natural essential oils have a considerable influence on your emotions?  This candle making workshop will help you understand how aromatherapy can assist you with not only relaxation but also with clarity\, focus\, and much more.  You will create your own personal soy wax candle using only natural ingredients to enhance your mind\, body and soul. \nThis is a family friendly workshop.  All children under 13 must be accompanied by an adult \nTo reserve your spot  Email Imperialearts@gmail.com \n 
URL:https://downtowntomsriver.com/event/aromatherapeutic-candle-making/
LOCATION:40 Main St\, Right Side\, Toms River\, 40 Main St\, Right Side\, TOMS RIVER\, NJ\, 08753\, United States
CATEGORIES:Arts & Cluture
ATTACH;FMTTYPE=image/jpeg:https://downtowntomsriver.com/wp-content/uploads/2023/10/jess-flyer.jpg
ORGANIZER;CN="Imperial Arts":MAILTO:tomsriverartistcommunity732@gmail.com
END:VEVENT
BEGIN:VEVENT
DTSTART;TZID=America/New_York:20231117T190000
DTEND;TZID=America/New_York:20231117T203000
DTSTAMP:20260423T070807
CREATED:20231026T203253Z
LAST-MODIFIED:20231027T123829Z
UID:10000953-1700247600-1700253000@downtowntomsriver.com
SUMMARY:TRAC - Ceramic Paint Party by Suzy
DESCRIPTION:Join Suzy of Suzy Shore Essentials at her Ceramic Paint Party.  Pick one of three ceramic candle holders (selection is  first come first serve.) \nPaint\, glaze and kiln firing included in the price. \nThis is a BYOB\, family\, friendly event. \nReservations required call 732-644-5766
URL:https://downtowntomsriver.com/event/trac-ceramic-paint-party-by-suzy/
LOCATION:40 Main St\, Right Side\, Toms River\, 40 Main St\, Right Side\, TOMS RIVER\, NJ\, 08753\, United States
CATEGORIES:Arts & Cluture
ATTACH;FMTTYPE=image/jpeg:https://downtowntomsriver.com/wp-content/uploads/2023/10/Suzy-ceramic-class.jpg
END:VEVENT
BEGIN:VEVENT
DTSTART;TZID=America/New_York:20231105T140000
DTEND;TZID=America/New_York:20231105T160000
DTSTAMP:20260423T070807
CREATED:20231026T195611Z
LAST-MODIFIED:20231027T123936Z
UID:10000950-1699192800-1699200000@downtowntomsriver.com
SUMMARY:TRAC – Make your own seashell trinket tray
DESCRIPTION:Join us at the TRAC Gallery to learn how to make your own handpainted & decoupage seashell trinket tray.  A great class for adults and children.  Everyone leaves with their own special tray. \nAll materials are included in the class fee. \nTo reserve your place please email Ajoyofart732@gmail.com \nLight refreshment’s will be served
URL:https://downtowntomsriver.com/event/trac-make-your-own-seashell-trinket-tray/
LOCATION:40 Main St\, Right Side\, Toms River\, 40 Main St\, Right Side\, TOMS RIVER\, NJ\, 08753\, United States
CATEGORIES:Arts & Cluture,Arts & Crafts
ATTACH;FMTTYPE=image/png:https://downtowntomsriver.com/wp-content/uploads/2023/10/Trinket-tray-1.png
ORGANIZER;CN="Painted Thingies":MAILTO:ajoyofart732@GMAIL.COM
END:VEVENT
BEGIN:VEVENT
DTSTART;TZID=America/New_York:20231006T173000
DTEND;TZID=America/New_York:20231006T200000
DTSTAMP:20260423T070807
CREATED:20231002T202052Z
LAST-MODIFIED:20231003T124859Z
UID:10000931-1696613400-1696622400@downtowntomsriver.com
SUMMARY:TRAC Art Walk On Main
DESCRIPTION:Join us FRIDAY Oct 6th 5:30 – 8pm for our last Art Walk on Main for the year. \nLocal artists setup outside our gallery with loads of local art for sale.  It’s not too early to think about Holiday gifts! \nShop local\, support local artists\, support small business’. \nStop by on your way to Downtown Night Out. \nFamily Friendly Free event \n 
URL:https://downtowntomsriver.com/event/trac-art-walk-on-main-3/
LOCATION:40 Main St\, Right Side\, Toms River\, 40 Main St\, Right Side\, TOMS RIVER\, NJ\, 08753\, United States
CATEGORIES:Arts & Crafts
ATTACH;FMTTYPE=image/jpeg:https://downtowntomsriver.com/wp-content/uploads/2023/10/art-walk-1.jpg
ORGANIZER;CN="Toms River Artist Community":MAILTO:tomsriverartistcommunity732@gmail.com
END:VEVENT
END:VCALENDAR