BEGIN:VCALENDAR
VERSION:2.0
PRODID:-// - ECPv6.15.15//NONSGML v1.0//EN
CALSCALE:GREGORIAN
METHOD:PUBLISH
X-ORIGINAL-URL:https://downtowntomsriver.com
X-WR-CALDESC:Events for 
REFRESH-INTERVAL;VALUE=DURATION:PT1H
X-Robots-Tag:noindex
X-PUBLISHED-TTL:PT1H
BEGIN:VTIMEZONE
TZID:America/New_York
BEGIN:DAYLIGHT
TZOFFSETFROM:-0500
TZOFFSETTO:-0400
TZNAME:EDT
DTSTART:20190310T070000
END:DAYLIGHT
BEGIN:STANDARD
TZOFFSETFROM:-0400
TZOFFSETTO:-0500
TZNAME:EST
DTSTART:20191103T060000
END:STANDARD
BEGIN:DAYLIGHT
TZOFFSETFROM:-0500
TZOFFSETTO:-0400
TZNAME:EDT
DTSTART:20200308T070000
END:DAYLIGHT
BEGIN:STANDARD
TZOFFSETFROM:-0400
TZOFFSETTO:-0500
TZNAME:EST
DTSTART:20201101T060000
END:STANDARD
BEGIN:DAYLIGHT
TZOFFSETFROM:-0500
TZOFFSETTO:-0400
TZNAME:EDT
DTSTART:20210314T070000
END:DAYLIGHT
BEGIN:STANDARD
TZOFFSETFROM:-0400
TZOFFSETTO:-0500
TZNAME:EST
DTSTART:20211107T060000
END:STANDARD
END:VTIMEZONE
BEGIN:VEVENT
DTSTART;TZID=America/New_York:20201018T140000
DTEND;TZID=America/New_York:20201018T160000
DTSTAMP:20260423T220400
CREATED:20200904T133945Z
LAST-MODIFIED:20200904T133945Z
UID:10000421-1603029600-1603036800@downtowntomsriver.com
SUMMARY:Zoom Great Storms of the Jersey Shore
DESCRIPTION:Join Ocean County Historical Society in viewing at no charge via Zoom “Great Storms of the Jersey Shore\,” with co-authors Margaret Buchholz and Scott Mazzella. The 2nd edition of their popular book is a must-read. It includes commentary about climate\, sea level rise\, and the future of the coast\, along with personal accounts from storm survivors and exciting photographs that document our history of wild storms. Register by emailing oceancounty.history@verizon.net with your name\, zip code and date of the program (10/18). You will be contacted with the Zoom link a few days before the event.
URL:https://downtowntomsriver.com/event/zoom-great-storms-of-the-jersey-shore/
LOCATION:3289\, 26 Hadley Ave\, Toms River\, NJ\, 08753\, United States
CATEGORIES:Arts & Cluture
END:VEVENT
END:VCALENDAR