BEGIN:VCALENDAR
VERSION:2.0
PRODID:-// - ECPv6.15.15//NONSGML v1.0//EN
CALSCALE:GREGORIAN
METHOD:PUBLISH
X-ORIGINAL-URL:https://downtowntomsriver.com
X-WR-CALDESC:Events for 
REFRESH-INTERVAL;VALUE=DURATION:PT1H
X-Robots-Tag:noindex
X-PUBLISHED-TTL:PT1H
BEGIN:VTIMEZONE
TZID:America/New_York
BEGIN:DAYLIGHT
TZOFFSETFROM:-0500
TZOFFSETTO:-0400
TZNAME:EDT
DTSTART:20240310T070000
END:DAYLIGHT
BEGIN:STANDARD
TZOFFSETFROM:-0400
TZOFFSETTO:-0500
TZNAME:EST
DTSTART:20241103T060000
END:STANDARD
BEGIN:DAYLIGHT
TZOFFSETFROM:-0500
TZOFFSETTO:-0400
TZNAME:EDT
DTSTART:20250309T070000
END:DAYLIGHT
BEGIN:STANDARD
TZOFFSETFROM:-0400
TZOFFSETTO:-0500
TZNAME:EST
DTSTART:20251102T060000
END:STANDARD
BEGIN:DAYLIGHT
TZOFFSETFROM:-0500
TZOFFSETTO:-0400
TZNAME:EDT
DTSTART:20260308T070000
END:DAYLIGHT
BEGIN:STANDARD
TZOFFSETFROM:-0400
TZOFFSETTO:-0500
TZNAME:EST
DTSTART:20261101T060000
END:STANDARD
END:VTIMEZONE
BEGIN:VEVENT
DTSTART;TZID=America/New_York:20250625T170000
DTEND;TZID=America/New_York:20250625T200000
DTSTAMP:20260423T102617
CREATED:20250603T153039Z
LAST-MODIFIED:20250604T154205Z
UID:10005500-1750870800-1750881600@downtowntomsriver.com
SUMMARY:Troop 20: Ice Cream Fundraiser Night at Muller's Creamery
DESCRIPTION:Join Troop 20 for a sweet night out at Muller’s Creamery\, located at The Downtown Shops @ 53 Main Street in Toms River! Stop by on fundraiser night from 5 PM to 8 PM and enjoy cones\, cups\, sundaes\, shakes\, and more—all while supporting a great cause. Muller’s will generously donate 20% of all sales during the event back to Troop 20 to help fund upcoming activities and programs. Bring your family and friends for a fun and delicious evening! \n 
URL:https://downtowntomsriver.com/event/troop-20-fundraiser-night-at-mullers-creamery/
LOCATION:Downtown Toms River\, Washington St\,.\, Toms River\, NJ\, 08753\, United States
CATEGORIES:Clubs & Organizations,Dining,Downtown Toms River Events
ORGANIZER;CN="Troop 20":MAILTO:trtroop20@gmail.com
END:VEVENT
BEGIN:VEVENT
DTSTART;TZID=America/New_York:20250126T080000
DTEND;TZID=America/New_York:20250126T100000
DTSTAMP:20260423T102617
CREATED:20241112T164315Z
LAST-MODIFIED:20241112T164315Z
UID:10004066-1737878400-1737885600@downtowntomsriver.com
SUMMARY:Troop 20 Applebee's Flapjack Fundraiser
DESCRIPTION:Short Stacks For A Tall Cause\nYou’re Invited to a Flapjack Fundraiser breakfast to support Troop 20!\nMeal Includes: Pancakes\, sausage\, scrambled eggs and a beverage (coffee\, juice\, soda or tea).   \nPlease contact the organization to purchase a ticket.  \nThis flyer is only intended for advertising purposes.  Ticket valid for pancake event only.   \nApplebee’s menu items are not included as part of purchase. 
URL:https://downtowntomsriver.com/event/troop-20-applebees-flapjack-fundraiser/
LOCATION:Ocean County Mall\, 1201 Hooper Ave.\, Toms River\, 08753\, United States
CATEGORIES:Clubs & Organizations
ATTACH;FMTTYPE=image/png:https://downtowntomsriver.com/wp-content/uploads/2024/11/Screenshot-2024-08-13-at-1.15.09 PM.png
ORGANIZER;CN="Troop 20":MAILTO:trtroop20@gmail.com
END:VEVENT
END:VCALENDAR