BEGIN:VCALENDAR
VERSION:2.0
PRODID:-// - ECPv6.15.15//NONSGML v1.0//EN
CALSCALE:GREGORIAN
METHOD:PUBLISH
X-ORIGINAL-URL:https://downtowntomsriver.com
X-WR-CALDESC:Events for 
REFRESH-INTERVAL;VALUE=DURATION:PT1H
X-Robots-Tag:noindex
X-PUBLISHED-TTL:PT1H
BEGIN:VTIMEZONE
TZID:America/New_York
BEGIN:DAYLIGHT
TZOFFSETFROM:-0500
TZOFFSETTO:-0400
TZNAME:EDT
DTSTART:20220313T070000
END:DAYLIGHT
BEGIN:STANDARD
TZOFFSETFROM:-0400
TZOFFSETTO:-0500
TZNAME:EST
DTSTART:20221106T060000
END:STANDARD
BEGIN:DAYLIGHT
TZOFFSETFROM:-0500
TZOFFSETTO:-0400
TZNAME:EDT
DTSTART:20230312T070000
END:DAYLIGHT
BEGIN:STANDARD
TZOFFSETFROM:-0400
TZOFFSETTO:-0500
TZNAME:EST
DTSTART:20231105T060000
END:STANDARD
BEGIN:DAYLIGHT
TZOFFSETFROM:-0500
TZOFFSETTO:-0400
TZNAME:EDT
DTSTART:20240310T070000
END:DAYLIGHT
BEGIN:STANDARD
TZOFFSETFROM:-0400
TZOFFSETTO:-0500
TZNAME:EST
DTSTART:20241103T060000
END:STANDARD
END:VTIMEZONE
BEGIN:VEVENT
DTSTART;TZID=America/New_York:20231203T140000
DTEND;TZID=America/New_York:20231203T160000
DTSTAMP:20260423T120313
CREATED:20231102T181607Z
LAST-MODIFIED:20231102T190832Z
UID:10001114-1701612000-1701619200@downtowntomsriver.com
SUMMARY:TRAC - Knitting for Beginners with Wendy
DESCRIPTION:At the TRAC Gallery\, learn to knit with Wendy from Art From Mars \nThis is beginners class. Create a handmade gift such as coasters\, ornaments\, bracelets etc. \nPlease contact Wendy to reserve your spot 732-597-8903 \n  \n$25.00 Per person\, family friendly event
URL:https://downtowntomsriver.com/event/trac-knitting-for-beginners-with-wendy/
LOCATION:40 Main St\, Right Side\, Toms River\, 40 Main St\, Right Side\, TOMS RIVER\, NJ\, 08753\, United States
CATEGORIES:Arts & Cluture
ATTACH;FMTTYPE=image/jpeg:https://downtowntomsriver.com/wp-content/uploads/2023/11/363784705_1349397665950027_8147395051478887090_n.jpg
ORGANIZER;CN="Toms River Artist community":MAILTO:Tomsriverartistcommunity732@gmail.com
END:VEVENT
END:VCALENDAR