BEGIN:VCALENDAR
VERSION:2.0
PRODID:-// - ECPv6.15.15//NONSGML v1.0//EN
CALSCALE:GREGORIAN
METHOD:PUBLISH
X-ORIGINAL-URL:https://downtowntomsriver.com
X-WR-CALDESC:Events for 
REFRESH-INTERVAL;VALUE=DURATION:PT1H
X-Robots-Tag:noindex
X-PUBLISHED-TTL:PT1H
BEGIN:VTIMEZONE
TZID:America/New_York
BEGIN:DAYLIGHT
TZOFFSETFROM:-0500
TZOFFSETTO:-0400
TZNAME:EDT
DTSTART:20210314T070000
END:DAYLIGHT
BEGIN:STANDARD
TZOFFSETFROM:-0400
TZOFFSETTO:-0500
TZNAME:EST
DTSTART:20211107T060000
END:STANDARD
BEGIN:DAYLIGHT
TZOFFSETFROM:-0500
TZOFFSETTO:-0400
TZNAME:EDT
DTSTART:20220313T070000
END:DAYLIGHT
BEGIN:STANDARD
TZOFFSETFROM:-0400
TZOFFSETTO:-0500
TZNAME:EST
DTSTART:20221106T060000
END:STANDARD
BEGIN:DAYLIGHT
TZOFFSETFROM:-0500
TZOFFSETTO:-0400
TZNAME:EDT
DTSTART:20230312T070000
END:DAYLIGHT
BEGIN:STANDARD
TZOFFSETFROM:-0400
TZOFFSETTO:-0500
TZNAME:EST
DTSTART:20231105T060000
END:STANDARD
END:VTIMEZONE
BEGIN:VEVENT
DTSTART;TZID=America/New_York:20220122T180000
DTEND;TZID=America/New_York:20220122T210000
DTSTAMP:20260423T184728
CREATED:20220103T142554Z
LAST-MODIFIED:20220103T142554Z
UID:10000570-1642874400-1642885200@downtowntomsriver.com
SUMMARY:After Hours Open Mic Night Sip & Shop
DESCRIPTION:Open mic night with local talent\, while shopping the shops\, appetizers\, bring your beer & wine. Raffles\, and discounted shopping for all attendees
URL:https://downtowntomsriver.com/event/after-hours-open-mic-night-sip-shop/
LOCATION:Downtown Shops Activity Room\, 53 Main Street\, Toms River\, NJ\, 08753\, United States
CATEGORIES:Entertainment
ATTACH;FMTTYPE=image/png:https://downtowntomsriver.com/wp-content/uploads/2021/12/E3312F1A-4B0F-4FAA-B94B-E63D1A49D599.png
ORGANIZER;CN="The Style Jackpot":MAILTO:thestylejackpot@gmail.com
END:VEVENT
END:VCALENDAR