BEGIN:VCALENDAR
VERSION:2.0
PRODID:-// - ECPv6.15.15//NONSGML v1.0//EN
CALSCALE:GREGORIAN
METHOD:PUBLISH
X-ORIGINAL-URL:https://downtowntomsriver.com
X-WR-CALDESC:Events for 
REFRESH-INTERVAL;VALUE=DURATION:PT1H
X-Robots-Tag:noindex
X-PUBLISHED-TTL:PT1H
BEGIN:VTIMEZONE
TZID:America/New_York
BEGIN:DAYLIGHT
TZOFFSETFROM:-0500
TZOFFSETTO:-0400
TZNAME:EDT
DTSTART:20190310T070000
END:DAYLIGHT
BEGIN:STANDARD
TZOFFSETFROM:-0400
TZOFFSETTO:-0500
TZNAME:EST
DTSTART:20191103T060000
END:STANDARD
BEGIN:DAYLIGHT
TZOFFSETFROM:-0500
TZOFFSETTO:-0400
TZNAME:EDT
DTSTART:20200308T070000
END:DAYLIGHT
BEGIN:STANDARD
TZOFFSETFROM:-0400
TZOFFSETTO:-0500
TZNAME:EST
DTSTART:20201101T060000
END:STANDARD
BEGIN:DAYLIGHT
TZOFFSETFROM:-0500
TZOFFSETTO:-0400
TZNAME:EDT
DTSTART:20210314T070000
END:DAYLIGHT
BEGIN:STANDARD
TZOFFSETFROM:-0400
TZOFFSETTO:-0500
TZNAME:EST
DTSTART:20211107T060000
END:STANDARD
END:VTIMEZONE
BEGIN:VEVENT
DTSTART;TZID=America/New_York:20200520T190000
DTEND;TZID=America/New_York:20200520T230000
DTSTAMP:20260425T135655
CREATED:20200316T173048Z
LAST-MODIFIED:20200316T173048Z
UID:10000317-1590001200-1590015600@downtowntomsriver.com
SUMMARY:Clubhouse Presents Euphoria Noise Night
DESCRIPTION:Clubhouse Presents Euphoria Noise Night
URL:https://downtowntomsriver.com/event/clubhouse-presents-euphoria-noise-night/
LOCATION:Downtown Shops Activity Room\, 53 Main Street\, Toms River\, NJ\, 08753\, United States
ORGANIZER;CN="The Clubhouse TR":MAILTO:theclubhousetr@gmail.com
END:VEVENT
BEGIN:VEVENT
DTSTART;TZID=America/New_York:20200202T190000
DTEND;TZID=America/New_York:20200202T230000
DTSTAMP:20260425T135655
CREATED:20200127T214423Z
LAST-MODIFIED:20200127T214423Z
UID:10000311-1580670000-1580684400@downtowntomsriver.com
SUMMARY:The Clubhouse Presents Original Music
DESCRIPTION:The Clubhouse presents original music live \nAdmission Fee: $5 \nFor more info\, contact Jimmy Mura \nEmail: theclubhousetr@gmail.com \nWebsite: the clubhousetr.com \nLocation: \nThe Downtown Shops @ 53 Main \n53 Main Street\, Toms River\, NJ 08753
URL:https://downtowntomsriver.com/event/the-clubhouse-presents-original-music/
LOCATION:Downtown Shops Activity Room\, 53 Main Street\, Toms River\, NJ\, 08753\, United States
CATEGORIES:Entertainment
ATTACH;FMTTYPE=image/jpeg:https://downtowntomsriver.com/wp-content/uploads/2020/01/clubhouse.jpg
ORGANIZER;CN="The Clubhouse TR":MAILTO:theclubhousetr@gmail.com
END:VEVENT
END:VCALENDAR