BEGIN:VCALENDAR
VERSION:2.0
PRODID:-// - ECPv6.15.15//NONSGML v1.0//EN
CALSCALE:GREGORIAN
METHOD:PUBLISH
X-ORIGINAL-URL:https://downtowntomsriver.com
X-WR-CALDESC:Events for 
REFRESH-INTERVAL;VALUE=DURATION:PT1H
X-Robots-Tag:noindex
X-PUBLISHED-TTL:PT1H
BEGIN:VTIMEZONE
TZID:America/New_York
BEGIN:DAYLIGHT
TZOFFSETFROM:-0500
TZOFFSETTO:-0400
TZNAME:EDT
DTSTART:20220313T070000
END:DAYLIGHT
BEGIN:STANDARD
TZOFFSETFROM:-0400
TZOFFSETTO:-0500
TZNAME:EST
DTSTART:20221106T060000
END:STANDARD
BEGIN:DAYLIGHT
TZOFFSETFROM:-0500
TZOFFSETTO:-0400
TZNAME:EDT
DTSTART:20230312T070000
END:DAYLIGHT
BEGIN:STANDARD
TZOFFSETFROM:-0400
TZOFFSETTO:-0500
TZNAME:EST
DTSTART:20231105T060000
END:STANDARD
BEGIN:DAYLIGHT
TZOFFSETFROM:-0500
TZOFFSETTO:-0400
TZNAME:EDT
DTSTART:20240310T070000
END:DAYLIGHT
BEGIN:STANDARD
TZOFFSETFROM:-0400
TZOFFSETTO:-0500
TZNAME:EST
DTSTART:20241103T060000
END:STANDARD
END:VTIMEZONE
BEGIN:VEVENT
DTSTART;TZID=America/New_York:20231117T190000
DTEND;TZID=America/New_York:20231117T203000
DTSTAMP:20260423T120124
CREATED:20231026T203253Z
LAST-MODIFIED:20231027T123829Z
UID:10000953-1700247600-1700253000@downtowntomsriver.com
SUMMARY:TRAC - Ceramic Paint Party by Suzy
DESCRIPTION:Join Suzy of Suzy Shore Essentials at her Ceramic Paint Party.  Pick one of three ceramic candle holders (selection is  first come first serve.) \nPaint\, glaze and kiln firing included in the price. \nThis is a BYOB\, family\, friendly event. \nReservations required call 732-644-5766
URL:https://downtowntomsriver.com/event/trac-ceramic-paint-party-by-suzy/
LOCATION:40 Main St\, Right Side\, Toms River\, 40 Main St\, Right Side\, TOMS RIVER\, NJ\, 08753\, United States
CATEGORIES:Arts & Cluture
ATTACH;FMTTYPE=image/jpeg:https://downtowntomsriver.com/wp-content/uploads/2023/10/Suzy-ceramic-class.jpg
END:VEVENT
END:VCALENDAR