BEGIN:VCALENDAR
VERSION:2.0
PRODID:-// - ECPv6.15.15//NONSGML v1.0//EN
CALSCALE:GREGORIAN
METHOD:PUBLISH
X-ORIGINAL-URL:https://downtowntomsriver.com
X-WR-CALDESC:Events for 
REFRESH-INTERVAL;VALUE=DURATION:PT1H
X-Robots-Tag:noindex
X-PUBLISHED-TTL:PT1H
BEGIN:VTIMEZONE
TZID:America/New_York
BEGIN:DAYLIGHT
TZOFFSETFROM:-0500
TZOFFSETTO:-0400
TZNAME:EDT
DTSTART:20240310T070000
END:DAYLIGHT
BEGIN:STANDARD
TZOFFSETFROM:-0400
TZOFFSETTO:-0500
TZNAME:EST
DTSTART:20241103T060000
END:STANDARD
BEGIN:DAYLIGHT
TZOFFSETFROM:-0500
TZOFFSETTO:-0400
TZNAME:EDT
DTSTART:20250309T070000
END:DAYLIGHT
BEGIN:STANDARD
TZOFFSETFROM:-0400
TZOFFSETTO:-0500
TZNAME:EST
DTSTART:20251102T060000
END:STANDARD
BEGIN:DAYLIGHT
TZOFFSETFROM:-0500
TZOFFSETTO:-0400
TZNAME:EDT
DTSTART:20260308T070000
END:DAYLIGHT
BEGIN:STANDARD
TZOFFSETFROM:-0400
TZOFFSETTO:-0500
TZNAME:EST
DTSTART:20261101T060000
END:STANDARD
END:VTIMEZONE
BEGIN:VEVENT
DTSTART;TZID=America/New_York:20250928T113000
DTEND;TZID=America/New_York:20250928T143000
DTSTAMP:20260423T102752
CREATED:20250916T174744Z
LAST-MODIFIED:20250916T174747Z
UID:10005611-1759059000-1759069800@downtowntomsriver.com
SUMMARY:DIY Tote Bags\, Coffee and Fall Treats: A Perfect Sunday In Downtown Toms River!
DESCRIPTION:It’s Tote-ally Fall\, y’all!\n– Design your dream Fall tote bag! Pick your bag size & color. Choose your accessories: patches\, pins & keychains. We’ll press it on the spot!\n– Enjoy complimentary iced coffee from Spire with any purchase\n– Shop cozy Fall bites from Water Lily Kitchen – sourdough bread\, baked goods\, jams + granola.\n \nConsider this your official Fall kickoff.
URL:https://downtowntomsriver.com/event/diy-tote-bags-coffee-and-fall-treats-a-perfect-sunday-in-downtown-toms-river/
LOCATION:Gifted on Washington\, 16 Washington St\, Toms River\, NJ\, 08753-8709\, United States
CATEGORIES:Arts & Cluture,Other,Sweets and Treats
ATTACH;FMTTYPE=image/jpeg:https://downtowntomsriver.com/wp-content/uploads/2025/09/Gifted-9-28-Event-Calendar-scaled.jpg
END:VEVENT
BEGIN:VEVENT
DTSTART;TZID=America/New_York:20250108T080000
DTEND;TZID=America/New_York:20250108T170000
DTSTAMP:20260423T102752
CREATED:20241227T180832Z
LAST-MODIFIED:20241227T180832Z
UID:10004085-1736323200-1736355600@downtowntomsriver.com
SUMMARY:Spire Coffeehouse Grand Opening Celebration
DESCRIPTION:Join us at the Downtown Shops @53 Main Street\, Toms River\, NJ for the grand opening celebration of Spire Coffeehouse’s newest location!\nWe’re brewing up something special and would love for you to be a part of the celebration! Drink specials and giveaways all day!
URL:https://downtowntomsriver.com/event/spire-coffeehouse-grand-opening-celebration/2025-01-08/2/
LOCATION:53\, 53 Main Street\, Toms River\, NJ\, 08753\, United States
ATTACH;FMTTYPE=image/png:https://downtowntomsriver.com/wp-content/uploads/2024/12/grand-opening-2-1.png
ORGANIZER;CN="Spire Coffeehouse":MAILTO:info@spirecoffeehouse.com
END:VEVENT
BEGIN:VEVENT
DTSTART;TZID=America/New_York:20250108T070000
DTEND;TZID=America/New_York:20250108T190000
DTSTAMP:20260423T102752
CREATED:20241227T180832Z
LAST-MODIFIED:20241227T180832Z
UID:10004084-1736319600-1736362800@downtowntomsriver.com
SUMMARY:Spire Coffeehouse Grand Opening Celebration
DESCRIPTION:Join us at the Downtown Shops @53 Main Street\, Toms River\, NJ for the grand opening celebration of Spire Coffeehouse’s newest location!\nWe’re brewing up something special and would love for you to be a part of the celebration! Drink specials and giveaways all day!
URL:https://downtowntomsriver.com/event/spire-coffeehouse-grand-opening-celebration/2025-01-08/1/
LOCATION:53\, 53 Main Street\, Toms River\, NJ\, 08753\, United States
ATTACH;FMTTYPE=image/png:https://downtowntomsriver.com/wp-content/uploads/2024/12/grand-opening-2-1.png
ORGANIZER;CN="Spire Coffeehouse":MAILTO:info@spirecoffeehouse.com
END:VEVENT
END:VCALENDAR