BEGIN:VCALENDAR
VERSION:2.0
PRODID:-// - ECPv6.15.15//NONSGML v1.0//EN
CALSCALE:GREGORIAN
METHOD:PUBLISH
X-ORIGINAL-URL:https://downtowntomsriver.com
X-WR-CALDESC:Events for 
REFRESH-INTERVAL;VALUE=DURATION:PT1H
X-Robots-Tag:noindex
X-PUBLISHED-TTL:PT1H
BEGIN:VTIMEZONE
TZID:America/New_York
BEGIN:DAYLIGHT
TZOFFSETFROM:-0500
TZOFFSETTO:-0400
TZNAME:EDT
DTSTART:20250309T070000
END:DAYLIGHT
BEGIN:STANDARD
TZOFFSETFROM:-0400
TZOFFSETTO:-0500
TZNAME:EST
DTSTART:20251102T060000
END:STANDARD
BEGIN:DAYLIGHT
TZOFFSETFROM:-0500
TZOFFSETTO:-0400
TZNAME:EDT
DTSTART:20260308T070000
END:DAYLIGHT
BEGIN:STANDARD
TZOFFSETFROM:-0400
TZOFFSETTO:-0500
TZNAME:EST
DTSTART:20261101T060000
END:STANDARD
BEGIN:DAYLIGHT
TZOFFSETFROM:-0500
TZOFFSETTO:-0400
TZNAME:EDT
DTSTART:20270314T070000
END:DAYLIGHT
BEGIN:STANDARD
TZOFFSETFROM:-0400
TZOFFSETTO:-0500
TZNAME:EST
DTSTART:20271107T060000
END:STANDARD
END:VTIMEZONE
BEGIN:VEVENT
DTSTART;TZID=America/New_York:20260510T140000
DTEND;TZID=America/New_York:20260510T170000
DTSTAMP:20260423T053320
CREATED:20260408T161638Z
LAST-MODIFIED:20260408T161638Z
UID:10007480-1778421600-1778432400@downtowntomsriver.com
SUMMARY:General John Lacey and the Battle of the Crooked Billet
DESCRIPTION:Sunday\, May 10\, 2026\, at 2:00 PM – General John Lacey and the Battle of the Crooked Billet\, presented by Scott Randolph \nRenowned historian Scott Randolph will tell us how General John Lacey became a hero during the Battle of the Crooked Billet. Randolph will discuss the General’s ties to Lacey Township\, named after him. He will also discuss the brutal atrocities committed under British Major John Graves Simcoe. (Simcoe is featured in the TV mini-series\, “Turn.”) \nScott has worked in radio\, film\, and television for over 30 years. He was an on-air talent for WJJZ Philadelphia\, 92 5XTU Philadelphia Atlantic City\, and WHWH Princeton. In his TV career he directed “Christina Cook” on PBS for over 10 years and was the director of “Comcast Newsmakers” for 15 years. He produced and directed the award-winning documentary\, “The Battle of the Crooked Billet\,” which premiered at Valley Forge National Park. \nThis event takes place at our museum at 26 Hadley Avenue in Toms River. There is no charge\, but donations are appreciated. To reserve your seat early please send your name\, zip code\, email address\, phone number\, and the name and date of the program (May 10\, 2026) to: oceancountyhistory.programs@gmail.com
URL:https://downtowntomsriver.com/event/general-john-lacey-and-the-battle-of-the-crooked-billet/
LOCATION:Ocean County Historical Society\, 26 Hadley Ave\, Toms River\, NJ\, 08753\, United States
CATEGORIES:History
END:VEVENT
END:VCALENDAR