BEGIN:VCALENDAR
VERSION:2.0
PRODID:-// - ECPv6.15.15//NONSGML v1.0//EN
CALSCALE:GREGORIAN
METHOD:PUBLISH
X-ORIGINAL-URL:https://downtowntomsriver.com
X-WR-CALDESC:Events for 
REFRESH-INTERVAL;VALUE=DURATION:PT1H
X-Robots-Tag:noindex
X-PUBLISHED-TTL:PT1H
BEGIN:VTIMEZONE
TZID:America/New_York
BEGIN:DAYLIGHT
TZOFFSETFROM:-0500
TZOFFSETTO:-0400
TZNAME:EDT
DTSTART:20220313T070000
END:DAYLIGHT
BEGIN:STANDARD
TZOFFSETFROM:-0400
TZOFFSETTO:-0500
TZNAME:EST
DTSTART:20221106T060000
END:STANDARD
BEGIN:DAYLIGHT
TZOFFSETFROM:-0500
TZOFFSETTO:-0400
TZNAME:EDT
DTSTART:20230312T070000
END:DAYLIGHT
BEGIN:STANDARD
TZOFFSETFROM:-0400
TZOFFSETTO:-0500
TZNAME:EST
DTSTART:20231105T060000
END:STANDARD
BEGIN:DAYLIGHT
TZOFFSETFROM:-0500
TZOFFSETTO:-0400
TZNAME:EDT
DTSTART:20240310T070000
END:DAYLIGHT
BEGIN:STANDARD
TZOFFSETFROM:-0400
TZOFFSETTO:-0500
TZNAME:EST
DTSTART:20241103T060000
END:STANDARD
END:VTIMEZONE
BEGIN:VEVENT
DTSTART;TZID=America/New_York:20230623T150000
DTEND;TZID=America/New_York:20230623T170000
DTSTAMP:20260423T143216
CREATED:20230417T212853Z
LAST-MODIFIED:20230418T195147Z
UID:10000767-1687532400-1687539600@downtowntomsriver.com
SUMMARY:Sculpture Day 4
DESCRIPTION:Learn how to polish your sculpture with sculpting tools.
URL:https://downtowntomsriver.com/event/sculpture-day-4/
LOCATION:Downtown Shops Activity Room\, 53 Main Street\, Toms River\, NJ\, 08753\, United States
CATEGORIES:Business Events
ATTACH;FMTTYPE=image/png:https://downtowntomsriver.com/wp-content/uploads/2023/04/Screen-Shot-2023-04-17-at-5.12.53-PM-3.png
ORGANIZER;CN="Mary Prendergast (Jodi Irvington Art &amp%3B Design Studio)":MAILTO:Mprendergast120@gmail.com
END:VEVENT
BEGIN:VEVENT
DTSTART;TZID=America/New_York:20230623T090000
DTEND;TZID=America/New_York:20230623T100000
DTSTAMP:20260423T143216
CREATED:20230417T213146Z
LAST-MODIFIED:20230418T195154Z
UID:10000768-1687510800-1687514400@downtowntomsriver.com
SUMMARY:Drawing Class for Kids -All Ages
DESCRIPTION:This art class is for kids of all ages and various abilities. Different techniques will be taught as well as freestyle art. Supplies will be provided for you.
URL:https://downtowntomsriver.com/event/drawing-class-for-kids-all-ages/
LOCATION:Downtown Shops Activity Room\, 53 Main Street\, Toms River\, NJ\, 08753\, United States
ATTACH;FMTTYPE=image/png:https://downtowntomsriver.com/wp-content/uploads/2023/04/Screen-Shot-2023-04-17-at-3.57.17-PM-1.png
ORGANIZER;CN="Mary Prendergast (Jodi Irvington Art &amp%3B Design Studio)":MAILTO:Mprendergast120@gmail.com
END:VEVENT
BEGIN:VEVENT
DTSTART;TZID=America/New_York:20230622T150000
DTEND;TZID=America/New_York:20230622T170000
DTSTAMP:20260423T143216
CREATED:20230417T212511Z
LAST-MODIFIED:20230418T195116Z
UID:10000766-1687446000-1687453200@downtowntomsriver.com
SUMMARY:Sculpture Day 3
DESCRIPTION:This class will be to learn how to position your sculpture you are creating into the object you want.
URL:https://downtowntomsriver.com/event/sculpture-day-3/
LOCATION:Downtown Shops Activity Room\, 53 Main Street\, Toms River\, NJ\, 08753\, United States
ATTACH;FMTTYPE=image/png:https://downtowntomsriver.com/wp-content/uploads/2023/04/Screen-Shot-2023-04-17-at-5.12.53-PM-2.png
ORGANIZER;CN="Mary Prendergast (Jodi Irvington Art &amp%3B Design Studio)":MAILTO:Mprendergast120@gmail.com
END:VEVENT
BEGIN:VEVENT
DTSTART;TZID=America/New_York:20230621T150000
DTEND;TZID=America/New_York:20230621T170000
DTSTAMP:20260423T143216
CREATED:20230417T211728Z
LAST-MODIFIED:20230418T195047Z
UID:10000765-1687359600-1687366800@downtowntomsriver.com
SUMMARY:Sculpture Day 2
DESCRIPTION:This class is a continuation of Day 1. You will continue applying clay to the armature you made in the first class.
URL:https://downtowntomsriver.com/event/sculpture-day-2/
LOCATION:Downtown Shops Activity Room\, 53 Main Street\, Toms River\, NJ\, 08753\, United States
ATTACH;FMTTYPE=image/png:https://downtowntomsriver.com/wp-content/uploads/2023/04/Screen-Shot-2023-04-17-at-5.12.53-PM-1.png
ORGANIZER;CN="Mary Prendergast (Jodi Irvington Art &amp%3B Design Studio)":MAILTO:Mprendergast120@gmail.com
END:VEVENT
BEGIN:VEVENT
DTSTART;TZID=America/New_York:20230620T150000
DTEND;TZID=America/New_York:20230620T170000
DTSTAMP:20260423T143216
CREATED:20230417T205541Z
LAST-MODIFIED:20230418T195033Z
UID:10000764-1687273200-1687280400@downtowntomsriver.com
SUMMARY:Sculpture Day 1
DESCRIPTION:This class is to learn how to make an armature and start applying clay.
URL:https://downtowntomsriver.com/event/sculpture-day-1/
LOCATION:Downtown Shops Activity Room\, 53 Main Street\, Toms River\, NJ\, 08753\, United States
ATTACH;FMTTYPE=image/png:https://downtowntomsriver.com/wp-content/uploads/2023/04/Screen-Shot-2023-04-17-at-5.12.53-PM.png
ORGANIZER;CN="Mary Prendergast (Jodi Irvington Art &amp%3B Design Studio)":MAILTO:Mprendergast120@gmail.com
END:VEVENT
BEGIN:VEVENT
DTSTART;TZID=America/New_York:20230616T170000
DTEND;TZID=America/New_York:20230616T183000
DTSTAMP:20260423T143216
CREATED:20230526T165729Z
LAST-MODIFIED:20230526T172205Z
UID:10000865-1686934800-1686940200@downtowntomsriver.com
SUMMARY:Beginner Calligraphy Class for ALL AGES
DESCRIPTION:Beginner Calligraphy Class for ALL AGES! \nMaterials are included in price.
URL:https://downtowntomsriver.com/event/beginner-calligraphy-class-for-all-ages/
LOCATION:Downtown Shops Activity Room\, 53 Main Street\, Toms River\, NJ\, 08753\, United States
CATEGORIES:Arts & Crafts
ATTACH;FMTTYPE=image/png:https://downtowntomsriver.com/wp-content/uploads/2023/05/images.png
ORGANIZER;CN="Mary Prendergast (Jodi Irvington Art &amp%3B Design Studio)":MAILTO:Mprendergast120@gmail.com
END:VEVENT
BEGIN:VEVENT
DTSTART;TZID=America/New_York:20230517T160000
DTEND;TZID=America/New_York:20230517T173000
DTSTAMP:20260423T143216
CREATED:20230417T205341Z
LAST-MODIFIED:20230418T194316Z
UID:10000763-1684339200-1684344600@downtowntomsriver.com
SUMMARY:Stained Glass Demonstration 2 Day Event Day 2
DESCRIPTION:Day 2 \nThis is a demonstration of how to cut\, foil\, and solder stained glass . It will be a 2 day event to cover each step of the process. For anyone that wants to try\, there will be time for you to try your hand at the different steps.
URL:https://downtowntomsriver.com/event/stained-glass-demonstration-2-day-event-day-2/
LOCATION:Downtown Shops Activity Room\, 53 Main Street\, Toms River\, NJ\, 08753\, United States
ATTACH;FMTTYPE=image/png:https://downtowntomsriver.com/wp-content/uploads/2023/04/Screen-Shot-2023-04-17-at-4.47.29-PM-1.png
ORGANIZER;CN="Mary Prendergast (Jodi Irvington Art &amp%3B Design Studio)":MAILTO:Mprendergast120@gmail.com
END:VEVENT
BEGIN:VEVENT
DTSTART;TZID=America/New_York:20230516T160000
DTEND;TZID=America/New_York:20230516T173000
DTSTAMP:20260423T143216
CREATED:20230417T195857Z
LAST-MODIFIED:20230418T194238Z
UID:10000762-1684252800-1684258200@downtowntomsriver.com
SUMMARY:Stained Glass Demonstration 2 Day Event
DESCRIPTION:This is a demonstration of how to cut\, foil\, and solder stained glass . It will be a 2 day event to cover each step of the process. For anyone that wants to try\, there will be time for you to try your hand at the different steps.
URL:https://downtowntomsriver.com/event/stained-glass-demonstration-2-day-event/
LOCATION:Downtown Shops Activity Room\, 53 Main Street\, Toms River\, NJ\, 08753\, United States
ATTACH;FMTTYPE=image/png:https://downtowntomsriver.com/wp-content/uploads/2023/04/Screen-Shot-2023-04-17-at-4.47.29-PM.png
ORGANIZER;CN="Mary Prendergast (Jodi Irvington Art &amp%3B Design Studio)":MAILTO:Mprendergast120@gmail.com
END:VEVENT
BEGIN:VEVENT
DTSTART;TZID=America/New_York:20230511T160000
DTEND;TZID=America/New_York:20230511T173000
DTSTAMP:20260423T143216
CREATED:20230417T190551Z
LAST-MODIFIED:20230420T163650Z
UID:10000761-1683820800-1683826200@downtowntomsriver.com
SUMMARY:Drawing Class for All ages and levels
DESCRIPTION:This class is for all ages and all levels of experience. Space is limited so sign up now!
URL:https://downtowntomsriver.com/event/drawing-class-for-all-ages-and-levels/
LOCATION:Downtown Shops Activity Room\, 53 Main Street\, Toms River\, NJ\, 08753\, United States
CATEGORIES:Arts & Crafts
ATTACH;FMTTYPE=image/png:https://downtowntomsriver.com/wp-content/uploads/2023/04/Screen-Shot-2023-04-17-at-3.57.17-PM.png
ORGANIZER;CN="Mary Prendergast (Jodi Irvington Art &amp%3B Design Studio)":MAILTO:Mprendergast120@gmail.com
END:VEVENT
BEGIN:VEVENT
DTSTART;TZID=America/New_York:20230223T190000
DTEND;TZID=America/New_York:20230223T203000
DTSTAMP:20260423T143216
CREATED:20230208T141711Z
LAST-MODIFIED:20230208T141711Z
UID:10000322-1677178800-1677184200@downtowntomsriver.com
SUMMARY:Learn to Draw (guaranteed sketch at the end)
DESCRIPTION:Learn to Draw\nIf you think you can’t draw\, you’re wrong! My unique method will help you create a drawing and begin to understand how you can create on your own.
URL:https://downtowntomsriver.com/event/learn-to-draw-guaranteed-sketch-at-the-end/
LOCATION:Downtown Shops Activity Room\, 53 Main Street\, Toms River\, NJ\, 08753\, United States
ORGANIZER;CN="Mary Prendergast (Jodi Irvington Art &amp%3B Design Studio)":MAILTO:Mprendergast120@gmail.com
END:VEVENT
END:VCALENDAR