BEGIN:VCALENDAR
VERSION:2.0
PRODID:-// - ECPv6.15.15//NONSGML v1.0//EN
CALSCALE:GREGORIAN
METHOD:PUBLISH
X-ORIGINAL-URL:https://downtowntomsriver.com
X-WR-CALDESC:Events for 
REFRESH-INTERVAL;VALUE=DURATION:PT1H
X-Robots-Tag:noindex
X-PUBLISHED-TTL:PT1H
BEGIN:VTIMEZONE
TZID:America/New_York
BEGIN:DAYLIGHT
TZOFFSETFROM:-0500
TZOFFSETTO:-0400
TZNAME:EDT
DTSTART:20240310T070000
END:DAYLIGHT
BEGIN:STANDARD
TZOFFSETFROM:-0400
TZOFFSETTO:-0500
TZNAME:EST
DTSTART:20241103T060000
END:STANDARD
BEGIN:DAYLIGHT
TZOFFSETFROM:-0500
TZOFFSETTO:-0400
TZNAME:EDT
DTSTART:20250309T070000
END:DAYLIGHT
BEGIN:STANDARD
TZOFFSETFROM:-0400
TZOFFSETTO:-0500
TZNAME:EST
DTSTART:20251102T060000
END:STANDARD
BEGIN:DAYLIGHT
TZOFFSETFROM:-0500
TZOFFSETTO:-0400
TZNAME:EDT
DTSTART:20260308T070000
END:DAYLIGHT
BEGIN:STANDARD
TZOFFSETFROM:-0400
TZOFFSETTO:-0500
TZNAME:EST
DTSTART:20261101T060000
END:STANDARD
END:VTIMEZONE
BEGIN:VEVENT
DTSTART;TZID=America/New_York:20251108T120000
DTEND;TZID=America/New_York:20251108T160000
DTSTAMP:20260423T081344
CREATED:20250808T130558Z
LAST-MODIFIED:20250808T130558Z
UID:10005558-1762603200-1762617600@downtowntomsriver.com
SUMMARY:🍂Autumn Vibes Sip & Shop Vendor Market🍂
DESCRIPTION:This FREE Local Craft & Vendor Market is hosted by Jenn Zazzara\, Shore Crafted\, bringing together local makers\, artisans and small businesses. Enjoy an intimate setting and shop unique\, one-of-a-kind items while sipping craft drinks! \n🧺Sip & Shop Local Craft & Vendor Market🧺 \nFall is in the air with all the warm autumn vibes you love. Join us for a seasonal vendor market filled with handcrafted goods\, cozy sips\, and local charm. Shop artisan makers\, enjoy fall-inspired treats\, and soak in the crisp\, creative spirit of the season. \nSip & Shop Vendor Market: Saturday\, November 8th | 12-4 pm at Garden State Distillery\, 13 Washington Street\, Toms River\, NJ  \nBring your friends\, grab a drink\, and support your local craft. See you there! \nQuestions? Contact Jenn Zazzara at shorecraftednj@gmail.com \nFor more details please visit: Autumn Vibes Sip & Shop | Facebook
URL:https://downtowntomsriver.com/event/%f0%9f%8d%82autumn-vibes-sip-shop-vendor-market%f0%9f%8d%82/
LOCATION:Garden State Distillery\, 13 Washington Street\, Toms River\, 08753\, United States
CATEGORIES:Arts & Crafts,Downtown Toms River Events,Toms River Artist Community
ATTACH;FMTTYPE=image/png:https://downtowntomsriver.com/wp-content/uploads/2025/08/Autumn-Vibes-Flyer.png
ORGANIZER;CN="Jenn Zazzara%2C Shore Crafted":MAILTO:shorecraftednj@gmail.com
END:VEVENT
BEGIN:VEVENT
DTSTART;TZID=America/New_York:20251011T120000
DTEND;TZID=America/New_York:20251011T160000
DTSTAMP:20260423T081344
CREATED:20250722T151041Z
LAST-MODIFIED:20250728T172444Z
UID:10005539-1760184000-1760198400@downtowntomsriver.com
SUMMARY:🍂Falling for Local Sip & Shop Vendor Market🍂
DESCRIPTION:This FREE Local Craft & Vendor Market is hosted by Jenn Zazzara\, Shore Crafted\, bringing together local makers\, artisans and small businesses. Enjoy an intimate setting and shop unique\, one-of-a-kind items while sipping craft drinks! \n🍂🥃Sip & Shop Local Craft & Vendor Market🥃🍂 \nCrisp air\, cozy finds\, and handmade vibes. Come sip\, shop\, and connect with local artisans and small businesses. It’s all about community\, creativity\, and that perfect fall feeling 🍂🛍️✨ \nSip & Shop Vendor Market: Saturday\, October 11th | 12-4 pm at Garden State Distillery\, 13 Washington Street\, Toms River\, NJ  \nSwing by–you don’t want to miss this cozy\, craft-filled fall vibe! \nQuestions? Contact Jenn Zazzara at shorecraftednj@gmail.com \nFor more details please visit: Falling for Local Sip & Shop | Facebook
URL:https://downtowntomsriver.com/event/%f0%9f%8d%82falling-for-local-sip-shop-vendor-market%f0%9f%8d%82/
LOCATION:Garden State Distillery\, 13 Washington Street\, Toms River\, 08753\, United States
CATEGORIES:Arts & Crafts,Downtown Toms River Events,Toms River Artist Community
ATTACH;FMTTYPE=image/png:https://downtowntomsriver.com/wp-content/uploads/2025/07/Falling-for-Local-Flyer.png
ORGANIZER;CN="Jenn Zazzara%2C Shore Crafted":MAILTO:shorecraftednj@gmail.com
END:VEVENT
BEGIN:VEVENT
DTSTART;TZID=America/New_York:20250913T120000
DTEND;TZID=America/New_York:20250913T160000
DTSTAMP:20260423T081344
CREATED:20250722T150742Z
LAST-MODIFIED:20250722T150742Z
UID:10005538-1757764800-1757779200@downtowntomsriver.com
SUMMARY:🌞Locals Summer Sip & Shop Vendor Market🌞
DESCRIPTION:This FREE Local Craft & Vendor Market is hosted by Jenn Zazzara\, Shore Crafted\, bringing together local makers\, artisans and small businesses. Enjoy an intimate setting and shop unique\, one-of-a-kind items while sipping craft drinks! \n🌞🍹Sip & Shop Local Craft & Vendor Market🍹🌞 \nJoin us for a laid-back locals summer market\, where good vibes meet handmade finds. Sip something refreshing\, shop from artisan makers\, and soak up the coastal energy with us. It’s all about creativity\, community\, and chill summer vibes 🌞🛍️🍹 \nSip & Shop Vendor Market: Saturday\, September 13th | 12-4 pm at Garden State Distillery\, 13 Washington Street\, Toms River\, NJ  \nSips\, makers\, and locals summer magic–don’t miss out. See you there! \nQuestions? Contact Jenn Zazzara at shorecraftednj@gmail.com \nFor more details please visit: Locals Summer Sip & Shop | Facebook
URL:https://downtowntomsriver.com/event/%f0%9f%8c%9elocals-summer-sip-shop-vendor-market%f0%9f%8c%9e/
LOCATION:Garden State Distillery\, 13 Washington Street\, Toms River\, 08753\, United States
CATEGORIES:Arts & Crafts,Downtown Toms River Events,Toms River Artist Community
ATTACH;FMTTYPE=image/png:https://downtowntomsriver.com/wp-content/uploads/2025/07/Locals-Summer-Flyer.png
ORGANIZER;CN="Jenn Zazzara%2C Shore Crafted":MAILTO:shorecraftednj@gmail.com
END:VEVENT
BEGIN:VEVENT
DTSTART;TZID=America/New_York:20250607T120000
DTEND;TZID=America/New_York:20250607T160000
DTSTAMP:20260423T081344
CREATED:20250501T163834Z
LAST-MODIFIED:20250501T163850Z
UID:10004204-1749297600-1749312000@downtowntomsriver.com
SUMMARY:🎉June Sip & Shop Vendor Market🎉
DESCRIPTION:This FREE Local Craft & Vendor Market is hosted by Jenn Zazzara\, Shore Crafted\, bringing together local makers\, artisans and small businesses. Enjoy an intimate setting and shop unique\, one-of-a-kind items while sipping craft drinks! \n🎉🥃Sip & Shop Local Craft & Vendor Market🥃🎉 \nLet’s celebrate all the dads + grads this season at our Sip & Shop Vendor Market! Discover unique finds from local artisans and enjoy a beautiful afternoon out with family and friends. Shop the perfect gift\, sip on something delicious and vibe with the community! \nSip & Shop Vendor Market: Saturday\, June 7th | 12-4 pm \nat Garden State Distillery\, 13 Washington Street\, Toms River\, NJ  \nDon’t miss this opportunity to shop local and find that perfect gift for the Dad + Grad in your life. See you there! \nQuestions? Contact Jenn Zazzara at shorecraftednj@gmail.com \nFor more details please visit: June Sip & Shop | Facebook
URL:https://downtowntomsriver.com/event/%f0%9f%8e%89june-sip-shop-vendor-market%f0%9f%8e%89-2/
LOCATION:Garden State Distillery\, 13 Washington Street\, Toms River\, 08753\, United States
CATEGORIES:Arts & Crafts,Downtown Toms River Events
ORGANIZER;CN="Jenn Zazzara%2C Shore Crafted":MAILTO:shorecraftednj@gmail.com
END:VEVENT
BEGIN:VEVENT
DTSTART;TZID=America/New_York:20250510T120000
DTEND;TZID=America/New_York:20250510T160000
DTSTAMP:20260423T081344
CREATED:20250214T202730Z
LAST-MODIFIED:20250214T202730Z
UID:10004190-1746878400-1746892800@downtowntomsriver.com
SUMMARY:🌺May Blooms Sip & Shop Vendor Market🌺
DESCRIPTION:This FREE Local Craft & Vendor Market is hosted by Jenn Zazzara\, Shore Crafted\, bringing together local makers\, artisans and small businesses. Enjoy an intimate setting and shop unique\, one-of-a-kind items while sipping craft drinks! \n🌺🥃Sip & Shop Local Craft & Vendor Market🥃🌺 \nLet’s celebrate the season of blooms at our Sip & Shop Vendor Market! Discover unique\,  one-of-a-kind gifts and enjoy a beautiful afternoon out with friends and family. Whether it’s a day with your mom or a ‘girls’ day out\, this event has something special for everyone! \nSip & Shop Vendor Market: Saturday\, May 10th | 12-4 pm \nat Garden State Distillery\, 13 Washington Street\, Toms River\, NJ  \nDon’t miss this opportunity to shop local and find that perfect Mother’s Day gift. See you there! \nQuestions? Contact Jenn Zazzara at shorecraftednj@gmail.com \nFor more details please visit: May Blooms Sip & Shop | Facebook \nDon’t miss this opportunity to shop local & find that perfect Mother’s Day gift🌺
URL:https://downtowntomsriver.com/event/%f0%9f%8c%bamay-blooms-sip-shop-vendor-market%f0%9f%8c%ba/
LOCATION:Garden State Distillery\, 13 Washington Street\, Toms River\, 08753\, United States
CATEGORIES:Arts & Crafts,Downtown Toms River Events
ATTACH;FMTTYPE=image/png:https://downtowntomsriver.com/wp-content/uploads/2025/02/May-Flyer.png
ORGANIZER;CN="Jenn Zazzara%2C Shore Crafted":MAILTO:shorecraftednj@gmail.com
END:VEVENT
BEGIN:VEVENT
DTSTART;TZID=America/New_York:20250412T120000
DTEND;TZID=America/New_York:20250412T160000
DTSTAMP:20260423T081344
CREATED:20250214T182254Z
LAST-MODIFIED:20250214T182254Z
UID:10004189-1744459200-1744473600@downtowntomsriver.com
SUMMARY:🌸April Sip & Shop Vendor Market🌸
DESCRIPTION:This FREE Local Craft & Vendor Market is hosted by Jenn Zazzara\, Shore Crafted\, bringing together local makers\, artisans and small businesses. Enjoy an intimate setting and shop unique\, one-of-a-kind items while sipping craft drinks! \n🌸🥃 Sip & Shop Local Craft & Vendor Market 🥃🌸 \nKick off Spring with us! Celebrate local talent and creativity at our Sip & Shop Vendor Market! Stop by for a tarot reading + shop unique\, handcrafted goods perfect for the season! \nSip & Shop Vendor Market: Saturday\, April 12th | 12-4 pm \nat Garden State Distillery\, 13 Washington Street\, Toms River\, NJ  \nBring your besties for a day of shopping\, sipping and laughter! Come support local artisans and enjoy an afternoon out with family and friends. \nQuestions? Contact Jenn Zazzara at shorecraftednj@gmail.com \nFor more details please visit: April Sip & Shop | Facebook \nSupport local artisans\, discover unique treasures\, and enjoy the vibrant community spirit. Bring your friends and family for an afternoon of fun and shopping!
URL:https://downtowntomsriver.com/event/%f0%9f%8c%b8april-sip-shop-vendor-market%f0%9f%8c%b8/
LOCATION:Garden State Distillery\, 13 Washington Street\, Toms River\, 08753\, United States
CATEGORIES:Arts & Crafts,Downtown Toms River Events
ATTACH;FMTTYPE=image/png:https://downtowntomsriver.com/wp-content/uploads/2025/02/April-Flyer.png
ORGANIZER;CN="Jenn Zazzara%2C Shore Crafted":MAILTO:shorecraftednj@gmail.com
END:VEVENT
BEGIN:VEVENT
DTSTART;TZID=America/New_York:20250315T120000
DTEND;TZID=America/New_York:20250315T160000
DTSTAMP:20260423T081344
CREATED:20250121T140329Z
LAST-MODIFIED:20250121T140329Z
UID:10004171-1742040000-1742054400@downtowntomsriver.com
SUMMARY:🌸Spring Fling Sip & Shop Vendor Market🌸
DESCRIPTION:This FREE Local Craft & Vendor Market is hosted by Jenn Zazzara\, Shore Crafted\, bringing together local makers\, artisans and small businesses. Enjoy an intimate setting and shop unique\, one-of-a-kind items while sipping craft drinks! \n🌸🥃 Sip & Shop Local Craft & Vendor Market 🥃🌸 \nCelebrate local talent and creativity at our Sip & Shop Vendor Market! Stop by for a tarot reading\, shop jewelry\, candles\, handcrafted gifts\, artisanal goodies\, clothing\, décor & more! Support your local craft and enjoy the vibrant community spirit✨ \nSip & Shop Vendor Market: Saturday\, March 15th | 12-4 pm \nat Garden State Distillery\, 13 Washington Street\, Toms River\, NJ  \nIt’s the perfect time for a spring fling and enjoy an afternoon out with family and friends. \nQuestions? Contact Jenn Zazzara at shorecraftednj@gmail.com \nFor more details please visit: Spring Fling Sip & Shop | Facebook
URL:https://downtowntomsriver.com/event/%f0%9f%8c%b8spring-fling-sip-shop-vendor-market%f0%9f%8c%b8/
LOCATION:Garden State Distillery\, 13 Washington Street\, Toms River\, 08753\, United States
ATTACH;FMTTYPE=image/png:https://downtowntomsriver.com/wp-content/uploads/2025/01/March-Flyer.png
ORGANIZER;CN="Jenn Zazzara%2C Shore Crafted":MAILTO:shorecraftednj@gmail.com
END:VEVENT
BEGIN:VEVENT
DTSTART;TZID=America/New_York:20250208T120000
DTEND;TZID=America/New_York:20250208T160000
DTSTAMP:20260423T081344
CREATED:20250102T134029Z
LAST-MODIFIED:20250102T134029Z
UID:10004090-1739016000-1739030400@downtowntomsriver.com
SUMMARY:💕Galentine’s Sip & Shop Vendor Market💕
DESCRIPTION:This FREE Local Craft & Vendor Market is hosted by Jenn Zazzara\, Shore Crafted\, bringing together local makers\, artisans and small businesses. Enjoy an intimate setting and shop unique\, one-of-a-kind items while sipping craft drinks! \n💕🥃 Sip & Shop Local Craft & Vendor Market 🥃💕 \nCelebrate local talent and creativity at our Sip & Shop Vendor Market! Stop by for a tarot reading\, shop jewelry\, crystals\, candles\, handcrafted gifts\, décor & more! Support your local craft and enjoy the vibrant community spirit✨ \nSip & Shop Vendor Market: Saturday\, February 8th | 12-4 pm \nat Garden State Distillery\, 13 Washington Street\, Toms River\, NJ  \nDon’t miss this opportunity to shop local & find that perfect Valentine’s Day gift💕 \nQuestions? Contact Jenn Zazzara at shorecraftednj@gmail.com \nFor more details please visit: Galentine’s Sip & Shop | Facebook
URL:https://downtowntomsriver.com/event/%f0%9f%92%95galentines-sip-shop-vendor-market%f0%9f%92%95/
LOCATION:Garden State Distillery\, 13 Washington Street\, Toms River\, 08753\, United States
CATEGORIES:Arts & Crafts,Downtown Toms River Events
ATTACH;FMTTYPE=image/png:https://downtowntomsriver.com/wp-content/uploads/2025/01/February-Flyer-3.png
ORGANIZER;CN="Jenn Zazzara%2C Shore Crafted":MAILTO:shorecraftednj@gmail.com
END:VEVENT
END:VCALENDAR