BEGIN:VCALENDAR
VERSION:2.0
PRODID:-// - ECPv6.15.15//NONSGML v1.0//EN
CALSCALE:GREGORIAN
METHOD:PUBLISH
X-ORIGINAL-URL:https://downtowntomsriver.com
X-WR-CALDESC:Events for 
REFRESH-INTERVAL;VALUE=DURATION:PT1H
X-Robots-Tag:noindex
X-PUBLISHED-TTL:PT1H
BEGIN:VTIMEZONE
TZID:America/New_York
BEGIN:DAYLIGHT
TZOFFSETFROM:-0500
TZOFFSETTO:-0400
TZNAME:EDT
DTSTART:20220313T070000
END:DAYLIGHT
BEGIN:STANDARD
TZOFFSETFROM:-0400
TZOFFSETTO:-0500
TZNAME:EST
DTSTART:20221106T060000
END:STANDARD
BEGIN:DAYLIGHT
TZOFFSETFROM:-0500
TZOFFSETTO:-0400
TZNAME:EDT
DTSTART:20230312T070000
END:DAYLIGHT
BEGIN:STANDARD
TZOFFSETFROM:-0400
TZOFFSETTO:-0500
TZNAME:EST
DTSTART:20231105T060000
END:STANDARD
BEGIN:DAYLIGHT
TZOFFSETFROM:-0500
TZOFFSETTO:-0400
TZNAME:EDT
DTSTART:20240310T070000
END:DAYLIGHT
BEGIN:STANDARD
TZOFFSETFROM:-0400
TZOFFSETTO:-0500
TZNAME:EST
DTSTART:20241103T060000
END:STANDARD
BEGIN:DAYLIGHT
TZOFFSETFROM:-0500
TZOFFSETTO:-0400
TZNAME:EDT
DTSTART:20250309T070000
END:DAYLIGHT
BEGIN:STANDARD
TZOFFSETFROM:-0400
TZOFFSETTO:-0500
TZNAME:EST
DTSTART:20251102T060000
END:STANDARD
END:VTIMEZONE
BEGIN:VEVENT
DTSTART;TZID=America/New_York:20240814T170000
DTEND;TZID=America/New_York:20240814T210000
DTSTAMP:20260423T124137
CREATED:20240702T130222Z
LAST-MODIFIED:20240702T130222Z
UID:10002825-1723654800-1723669200@downtowntomsriver.com
SUMMARY:🌸🍹Sip & Shop Local Craft Vendor Fair 🍹🌸
DESCRIPTION:🌈 Celebrate local talent and creativity at our Sip & Shop Vendor Fair! Enjoy a delightful afternoon filled with: \n🛍️ Shopping Galore: Discover a variety of vendors offering everything from handcrafted crafts to delicious artisanal foods beautiful jewelry unique home decor and more! This is the perfect opportunity to find one-of-a-kind gifts and treasures you won’t find anywhere else. \n💎 Shimmering Jewelry: Find stunning handcrafted jewelry pieces that add a touch of elegance to your style. Each piece is unique making it a special addition to your collection. \n🍫 Tasty Treats: Satisfy your cravings with mouthwatering artisanal foods perfect for a sweet indulgence. From gourmet chocolates to savory snacks there’s something to delight every palate. \n🖼️ Home Decor Delights: Enhance your home with unique decor items that bring charm and character to any space. Whether you’re looking for a statement piece or subtle accents you’ll find decor that speaks to your personal style. \n🍷 Sip & Socialize: Enjoy a selection of beverages from Garden State Distillery as you shop. It’s a great way to relax unwind and make new friends while supporting local artisans. \n👨‍👩‍👧‍👦 Family Fun: This event is family-friendly so bring your loved ones for a day of fun. There’s something for everyone to enjoy from shopping to tasty treats and more. \nSupport local artisans uncover unique treasures and enjoy the vibrant atmosphere of our Sip & Shop event. Bring your friends and family for a day of fun and festivities! 🌟 \nContact: Jaime Zazzara\, jaimezazzara@gmail.com
URL:https://downtowntomsriver.com/event/%f0%9f%8c%b8%f0%9f%8d%b9sip-shop-local-craft-vendor-fair-%f0%9f%8d%b9%f0%9f%8c%b8/
LOCATION:Garden State Distillery\, 13 Washington Street\, Toms River\, 08753\, United States
ATTACH;FMTTYPE=image/png:https://downtowntomsriver.com/wp-content/uploads/2024/07/June-Sip-Shop-1920-x-1080-px-7.png
ORGANIZER;CN="Jaime Zazzara":MAILTO:jaimezazzara@gmail.com
END:VEVENT
BEGIN:VEVENT
DTSTART;TZID=America/New_York:20240710T170000
DTEND;TZID=America/New_York:20240710T210000
DTSTAMP:20260423T124137
CREATED:20240621T131113Z
LAST-MODIFIED:20240621T131113Z
UID:10002819-1720630800-1720645200@downtowntomsriver.com
SUMMARY:🍷🌸 July Sip & Shop Vendor Fair 🍷🌸
DESCRIPTION:🍷🌸 July Sip & Shop Vendor Fair 🍷🌸 \n\n🌞 Get ready for a sensational summer experience at the July Sip & Shop Vendor Fair! 🛍️ Hosted by Jaime Zazzara JZ HEALS this exciting event will take place at Garden State Distillery 13 Washington Street Toms River NJ. \n📅 Dates: Wednesday June 12th \n⏰ Time: 5-9 pm \n📍 Venue: Garden State Distillery \nFacebook Event: \nhttps://www.facebook.com/events/974479200713324 \n🎉 Mark your calendars and join us for an unforgettable evening filled with: \n🍹 Sipping Delights: Indulge in refreshing beverages served by Garden State Distillery adding a cool and relaxing touch to your summer shopping spree. \n🛍️ Shopping Extravaganza: We love to showcase a variety of talented local vendors at each event offering unique products ranging from handmade crafts to artisanal foods jewelry home decor and much more! \n🌟 Community Vibes: Immerse yourself in the vibrant atmosphere and connect with fellow attendees fostering a sense of community and camaraderie. \n🚗 Cruisin Downtown: Don’t miss out on the added excitement of the Cruisin Downtown event happening simultaneously! With classic cars lining the streets it’s the perfect backdrop for your summer evening adventure. \nWhether you’re seeking trendy fashion pieces handcrafted gems delicious treats or simply looking to soak up the summer vibes the Summer Sip & Shop Vendor Fair has something for everyone. Bring your friends and family for an evening of fun shopping and celebration under the stars! 🌟 \nQuestions? Contact Jaime Zazzara at jaimezazzara@gmail.com
URL:https://downtowntomsriver.com/event/%f0%9f%8d%b7%f0%9f%8c%b8-july-sip-shop-vendor-fair-%f0%9f%8d%b7%f0%9f%8c%b8/
LOCATION:Garden State Distillery\, 13 Washington Street\, Toms River\, 08753\, United States
ATTACH;FMTTYPE=image/png:https://downtowntomsriver.com/wp-content/uploads/2024/06/unnamed-4.png
ORGANIZER;CN="Jaime Zazzara":MAILTO:jaimezazzara@gmail.com
END:VEVENT
BEGIN:VEVENT
DTSTART;TZID=America/New_York:20240612T170000
DTEND;TZID=America/New_York:20240612T210000
DTSTAMP:20260423T124137
CREATED:20240416T190710Z
LAST-MODIFIED:20240416T190710Z
UID:10002053-1718211600-1718226000@downtowntomsriver.com
SUMMARY:🍷🌸 June Sip & Shop  Vendor Fair  🍷🌸
DESCRIPTION:🌞 Get ready for a sensational summer experience at the July Sip & Shop Vendor Fair! 🛍️ Hosted by Jaime Zazzara\, JZ HEALS\, this exciting event will take place at Garden State Distillery\, 13 Washington Street\, Toms River\, NJ. \n📅 Dates: Wednesday\, June 12th\n⏰ Time: 5-9 pm\n📍 Venue: Garden State Distillery \n🎉 Mark your calendars and join us for an unforgettable evening filled with: \n🍹 Sipping Delights: Indulge in refreshing beverages served by Garden State Distillery\, adding a cool and relaxing touch to your summer shopping spree. \n🛍️ Shopping Extravaganza: We love to showcase a variety of talented local vendors at each event\, offering unique products ranging from handmade crafts to artisanal foods\, jewelry\, home decor\, and much more! \n🌟 Community Vibes: Immerse yourself in the vibrant atmosphere and connect with fellow attendees\, fostering a sense of community and camaraderie. \n🎶 Live Entertainment: Enjoy live music and entertainment throughout the evening\, creating a festive ambiance as you shop and sip. \n🚗 Cruisin Downtown: Don’t miss out on the added excitement of the Cruisin Downtown event happening simultaneously! With classic cars lining the streets\, it’s the perfect backdrop for your summer evening adventure.\n🎁 Raffles and Prizes: Participate in exciting raffles and stand a chance to win fabulous prizes from our vendors. \nVendor Line Up:\n📿 Dawn Michelle Psychic Medium LLC – Offering readings. Facebook\n💎 Touchstone Crystal – Exquisite Swarovski jewelry. Facebook Group\, Website\n💍 Fused Connection Permanent Jewelry – Stunning 14K gold-filled & sterling silver chain options. Instagram\n🧼 Simply Essentials Body Co. – Luxurious soap\, scrubs\, and body butters. Instagram\n📿 The Lady of Knots – Handmade gemstone bracelets with healing properties. Website\n🎨 House of Fun and Crafts – Unique upcycled small wood pieces and resin items. Etsy\n💎 Treasured Jewelry Exclusives – Bohemian style handcrafted jewelry. Instagram\n💫 Serendipity – Beautiful handmade beaded jewelry. Facebook\, Instagram\, Etsy\n🎀 Krafty Krafters – Handmade wreaths\, wooden signs\, and crafts.\n✨ The Glitter Cat – Stunning epoxied tumblers\, coasters\, and more. Facebook\n🌊 Pkskreationsnj – Authentic Seaglass Jewelry and home accessories. Facebook\, Website\n🏡 Love Anthony – Farm to shore home decor and unique handcrafted items. Instagram\n🍫 The Chocolate Art Gallery – Indulge in prepackaged candy. Website\n🎨 RusntSuch Vintage – Handmade vintage art. Instagram\, Facebook\n🥖 NJ Sourdough Bread – Freshly baked sourdough bread. Email\n🍪 Taylor Ray Cookies\, LLC – Delicious freshly baked cookies. Instagram\, Website\n🕶️ Lady Optical LLC – Authentic designer sunglasses & eyeglasses at discounted prices. Instagram\nWhether you’re seeking trendy fashion pieces\, handcrafted gems\, delicious treats\, or simply looking to soak up the summer vibes\, the Summer Sip & Shop Vendor Fair has something for everyone. Bring your friends and family for an evening of fun\, shopping\, and celebration under the stars! 🌟 \nQuestions? Contact Jaime Zazzara at jaimezazzara@gmail.com
URL:https://downtowntomsriver.com/event/%f0%9f%8d%b7%f0%9f%8c%b8-june-sip-shop-vendor-fair-%f0%9f%8d%b7%f0%9f%8c%b8/
LOCATION:Garden State Distillery\, 13 Washington Street\, Toms River\, 08753\, United States
ATTACH;FMTTYPE=image/png:https://downtowntomsriver.com/wp-content/uploads/2024/04/unnamed-1.png
ORGANIZER;CN="Jaime Zazzara":MAILTO:jaimezazzara@gmail.com
END:VEVENT
BEGIN:VEVENT
DTSTART;TZID=America/New_York:20240413T120000
DTEND;TZID=America/New_York:20240413T160000
DTSTAMP:20260423T124137
CREATED:20240412T160742Z
LAST-MODIFIED:20240412T160742Z
UID:10002051-1713009600-1713024000@downtowntomsriver.com
SUMMARY:April Showers Sip & Shop
DESCRIPTION:April Showers Sip & Shop Spectacular Vendor Fair \n Date: Saturday\, April 13th\n Time: 12-4 pm\n Venue: Garden State Distillery\, 13 Washington Street\, Toms River\, NJFacebook Event: https://fb.me/e/3DfQ5dCTq \n\n\n Get ready for a springtime celebration of local talent and creativity! Join us for an unforgettable day filled with: \n\n\n Shopping Galore: Explore a diverse range of vendors offering everything from handcrafted crafts to delectable artisanal foods\, stunning jewelry\, unique home decor\, and much more! \n\n\n Shimmering Jewelry: Adorn yourself with exquisite handcrafted jewelry pieces that radiate beauty and personality. \n\n\n Tasty Treats: Indulge your taste buds with mouthwatering artisanal treats\, perfect for satisfying your sweet cravings. \n\n\n Home Decor Delights: Spruce up your living space with one-of-a-kind decor finds that add charm and character to any room. \n\n\nDon’t miss out on this opportunity to support local artisans\, discover unique treasures\, and soak up the vibrant atmosphere of our April Showers Sip & Shop Spectacular! Bring your friends and family for a day of fun and festivities!  \nSign up here:\nhttps://www.eventbrite.com/e/april-showers-sip-shop-vendor-event-tickets-881938581037?aff=oddtdtcreator
URL:https://downtowntomsriver.com/event/april-showers-sip-shop/
LOCATION:Garden State Distillery\, 13 Washington Street\, Toms River\, 08753\, United States
ORGANIZER;CN="Jaime Zazzara":MAILTO:jaimezazzara@gmail.com
END:VEVENT
BEGIN:VEVENT
DTSTART;TZID=America/New_York:20240316T120000
DTEND;TZID=America/New_York:20240316T160000
DTSTAMP:20260423T124137
CREATED:20240104T142409Z
LAST-MODIFIED:20240104T144128Z
UID:10002008-1710590400-1710604800@downtowntomsriver.com
SUMMARY:🌸 Vendor Fair: Spring Fling Sip & Shop 🌸
DESCRIPTION:🌸 Exciting News! Join Us at the Spring Fling Sip & Shop 🌸 \n📸 Facebook Event: https://www.facebook.com/share/3wxbnGwgBMkyqGV7/?mibextid=9l3rBW \nMark your calendars for the most awaited event of the season – the Spring Fling Sip & Shop at Garden State Distillery! 🛍️🥂 \n📅 Date: Saturday March 16th \n⏰ Time: 12:00 PM – 4:00 PM \n📍 Location: Garden State Distillery 13 Washington Street Toms River NJ \nWhy you should be there: \n🛍️ Shop Unique Treasures: Explore a treasure trove of handcrafted items jewelry wellness products and more. Discover hidden gems you won’t find anywhere else! \n🥂 Sip on Craft Spirits: Enjoy the finest craft spirits from Garden State Distillery while you shop in style! \n🤝 Support Local Businesses: By joining us you’re supporting local entrepreneurs and artisans who pour their hearts into their creations. \n🌿 Add Greenery to Your Space: Lush Botanicals will bring tropical indoor plants to add life to your home. \n🔮 Tarot Insights: Get tarot card readings and insights from Madam Metatron or Dawn Michelle. \n🌊 Coastal Decor: Don’t Worry Beach Happy will transport you to the beach with their coastal decor and sea-inspired art. \n🎨 Art and Crafts: Serendipity offers handmade beaded jewelry Easter jewelry and home decor. \nAnd that’s just the beginning! Here’s the complete list of our fantastic vendors: \n🧘‍♀️Jaime Zazzara JZ HEALS LLC – Empowerment Events ~ Books ~ Journal ~ Life Coaching. \n⛵️Wind Therapy Wellness Retreats – Luxury Wellness Retreats aboard a Sailboat. \n💫 Dawn Michelle Psychic Medium LLC – Offering Readings. \n🌊 Lee & the Sea – Handcrafted natural sea glass jewelry and accessories. \n🧵 ACA Crafters – Various crafts including bowl cozies kitchen angels and more. \n🌙 Artemis Heart – Laser-cut wooden decor and jewelry. \n🌿 Lush Botanicals – Tropical indoor plants. \n💎 Crystal Vibes Bracelets – Handmade crystal bracelets with cleansing and reiki energy. \n🌿 Happy Edibles & Body Essentials – Infused body essentials. \n✨ Serendipity – Handmade beaded jewelry Easter jewelry and home decor. \n🌊 Don’t Worry Beach Happy – Sea glass shell and sea tile art/coastal decor. \n🔮 Madam Metatron Tarot Reading – Tarot card readings. \n🍭 The Eye Candy Shoppe. \n💅 Color Street – Nail polish strips. \n🌈 Zalvino’s Hippie House – Tie-dye shirts bandanas tapestries and more. \n👚 Savvi The Lifestyle Brand – Apparel Beauty & Wellness. \n🐾 Paws and Purls – Crochet plushies keychains and accessories. \nInvite your friends and family and let’s make this day unforgettable! See you there! 🌼🛍️🥂
URL:https://downtowntomsriver.com/event/%f0%9f%8c%b8-vendor-fair-spring-fling-sip-shop-%f0%9f%8c%b8/
ATTACH;FMTTYPE=image/png:https://downtowntomsriver.com/wp-content/uploads/2024/01/Spring-Fling-Sip-Shop-1920-x-1080-px.png
ORGANIZER;CN="Jaime Zazzara":MAILTO:jaimezazzara@gmail.com
END:VEVENT
BEGIN:VEVENT
DTSTART;TZID=America/New_York:20240213T080000
DTEND;TZID=America/New_York:20240213T170000
DTSTAMP:20260423T124137
CREATED:20240213T195513Z
LAST-MODIFIED:20240213T195513Z
UID:10002025-1707811200-1707843600@downtowntomsriver.com
SUMMARY:🌸 April Showers Sip & Shop Spectacular Vendor Fair 🌸
DESCRIPTION:🌸 April Showers Sip & Shop Spectacular Vendor Fair 🌸 \n🎉 Date: Saturday\, April 13th\n⏰ Time: 12-4 pm\n📍 Venue: Garden State Distillery\, 13 Washington Street\, Toms River\, NJ \nFacebook Event: https://www.facebook.com/share/5pwHNJYtMwMQrVzV/?mibextid=9l3rBW \n🌈 Get ready for a springtime celebration of local talent and creativity! Join us for an unforgettable day filled with: \n🛍️ Shopping Galore: Explore a diverse range of vendors offering everything from handcrafted crafts to delectable artisanal foods\, stunning jewelry\, unique home decor\, and much more! \n💎 Shimmering Jewelry: Adorn yourself with exquisite handcrafted jewelry pieces that radiate beauty and personality. \n🍫 Tasty Treats: Indulge your taste buds with mouthwatering artisanal treats\, perfect for satisfying your sweet cravings. \n🖼️ Home Decor Delights: Spruce up your living space with one-of-a-kind decor finds that add charm and character to any room. \nDon’t miss out on this opportunity to support local artisans\, discover unique treasures\, and soak up the vibrant atmosphere of our April Showers Sip & Shop Spectacular! Bring your friends and family for a day of fun and festivities! 🌟 \n🧘‍♀️ Jaime Zazzara\, JZ HEALS\, LLC 🧘‍♀️ – Empowerment Events\, Sound Healing Meditation\, Life Coaching.\nWebsite: https://www.jzheals.com \n⛵️ Wind Therapy Wellness Retreats ⛵️ – Wellness Retreats: Luxury Wellness Retreats aboard a Sailboat.\nWebsite: https://www.windtherapywellnessretreats.com \n💎 Touchstone Crystal 💎 – Dazzling Swarovski jewelry.\nWebsite: https://www.touchstonecrystal.com/jaimeebickford \n🛁🌼 Shells Bath & Body 🛁🌼 – Homemade soaps and more.\nWebsite: https://www.shellsbathbody.com \n✨📿 Treasured Jewelry Exclusives ✨📿 – Handcrafted bohemian jewelry. \n🐝🥄 Bee Stamped by Dawn 🐝🥄 – Unique handcrafted vintage spoon rings and more.\nWebsite: https://www.beestampedbydawn.com \n🔮✨ Meraki Soul Centered Healing 🔮✨ – Crystals\, body butter\, soap\, candles\, and jewelry.\nFacebook: https://www.facebook.com/merakisoulcenteredhealing \n🌿🍫 Happy Edibles & Body Essentials 🌿🍫 – Infused edibles and body essentials for wellness.\nInstagram: https://www.instagram.com/happynorganic2 \n🏖️🐚 Beach Glass Creations NJ 🏖️🐚 – Art created from sea glass\, shells\, pottery\, and driftwood.\nInstagram: https://www.instagram.com/beachglasscreationsnj \n🌟🔮 Redsky Light 🌟🔮 – Spiritual tools\, Orgonite pendants\, and more.\nFacebook: https://www.facebook.com/Redsky\nInstagram: https://www.instagram.com/light333bluebird \n🧶👜 KandACrochet 🧶👜 – Crocheted products including hanging flowers\, bags\, shirts\, keychains\, and plushies.\nFacebook: https://www.facebook.com/KandAcrochet2288 \n💎📦 Metaphysical Corridor 💎📦 – Jewelry boxes and wire-wrapped crystals.\n– Facebook: https://www.facebook.com/Metcorridor \n🍭👁️ The Eye Candy Shoppe 🍭👁️ – Handmade beaded jewelry\, including Spring pieces and Mother’s Day gifts. \nSerendipity Shopee\nHandmade beaded jewelry. Everything from bracelets and necklaces to rings and earrings.\n– Instagram: https://www.instagram.com/serendipityshoppe38\n– Facebook: https://www.facebook.com/SerendipityShopee\n– Etsy: https://www.etsy.com/shop/Serendipityshoppee \n🔮✨ Melissa Spiritual Works 🔮✨ – Offerings include readings and Reiki-infused jewelry. \n📿✨ Isabella Jolie Jewelry 📿✨ – Handcrafted Jewelry.\n– Instagram: https://www.instagram.com/IsabellaJolieJewelry\n– Website: https://www.IsabellaJolieJewelry.com \n🍫🖼️ The Chocolate Art Gallery 🍫🖼️ – Prepackaged candy.\n– Website: https://www.thechocolateartgallery.com\n– Facebook: https://www.facebook.com/TheChocolateArtGalleryOrderSite \n🎨🪑 RustnSuch Vintage 🎨🪑 – Eclectic Vintage Upcycled Art.\n– Instagram: https://www.instagram.com/rustnsuchvintage\n– Facebook: https://www.facebook.com/RustnSuch \nThis event is organized by Jaime Zazzara @JZHEALS. For more information\, contact Jaime at 908-910-2898 or via email: jaimezazzara@gmail.com
URL:https://downtowntomsriver.com/event/%f0%9f%8c%b8-april-showers-sip-shop-spectacular-vendor-fair-%f0%9f%8c%b8-2/
LOCATION:Garden State Distillery\, 13 Washington Street\, Toms River\, 08753\, United States
ORGANIZER;CN="Jaime Zazzara":MAILTO:jaimezazzara@gmail.com
END:VEVENT
BEGIN:VEVENT
DTSTART;TZID=America/New_York:20240213T080000
DTEND;TZID=America/New_York:20240213T170000
DTSTAMP:20260423T124137
CREATED:20240213T195413Z
LAST-MODIFIED:20240213T195413Z
UID:10002024-1707811200-1707843600@downtowntomsriver.com
SUMMARY:🌸 April Showers Sip & Shop Spectacular Vendor Fair 🌸
DESCRIPTION:🌸 April Showers Sip & Shop Spectacular Vendor Fair 🌸 \n🎉 Date: Saturday\, April 13th\n⏰ Time: 12-4 pm\n📍 Venue: Garden State Distillery\, 13 Washington Street\, Toms River\, NJ \nFacebook Event: https://www.facebook.com/share/5pwHNJYtMwMQrVzV/?mibextid=9l3rBW \n🌈 Get ready for a springtime celebration of local talent and creativity! Join us for an unforgettable day filled with: \n🛍️ Shopping Galore: Explore a diverse range of vendors offering everything from handcrafted crafts to delectable artisanal foods\, stunning jewelry\, unique home decor\, and much more! \n💎 Shimmering Jewelry: Adorn yourself with exquisite handcrafted jewelry pieces that radiate beauty and personality. \n🍫 Tasty Treats: Indulge your taste buds with mouthwatering artisanal treats\, perfect for satisfying your sweet cravings. \n🖼️ Home Decor Delights: Spruce up your living space with one-of-a-kind decor finds that add charm and character to any room. \nDon’t miss out on this opportunity to support local artisans\, discover unique treasures\, and soak up the vibrant atmosphere of our April Showers Sip & Shop Spectacular! Bring your friends and family for a day of fun and festivities! 🌟 \n🧘‍♀️ Jaime Zazzara\, JZ HEALS\, LLC 🧘‍♀️ – Empowerment Events\, Sound Healing Meditation\, Life Coaching.\nWebsite: https://www.jzheals.com \n⛵️ Wind Therapy Wellness Retreats ⛵️ – Wellness Retreats: Luxury Wellness Retreats aboard a Sailboat.\nWebsite: https://www.windtherapywellnessretreats.com \n💎 Touchstone Crystal 💎 – Dazzling Swarovski jewelry.\nWebsite: https://www.touchstonecrystal.com/jaimeebickford \n🛁🌼 Shells Bath & Body 🛁🌼 – Homemade soaps and more.\nWebsite: https://www.shellsbathbody.com \n✨📿 Treasured Jewelry Exclusives ✨📿 – Handcrafted bohemian jewelry. \n🐝🥄 Bee Stamped by Dawn 🐝🥄 – Unique handcrafted vintage spoon rings and more.\nWebsite: https://www.beestampedbydawn.com \n🔮✨ Meraki Soul Centered Healing 🔮✨ – Crystals\, body butter\, soap\, candles\, and jewelry.\nFacebook: https://www.facebook.com/merakisoulcenteredhealing \n🌿🍫 Happy Edibles & Body Essentials 🌿🍫 – Infused edibles and body essentials for wellness.\nInstagram: https://www.instagram.com/happynorganic2 \n🏖️🐚 Beach Glass Creations NJ 🏖️🐚 – Art created from sea glass\, shells\, pottery\, and driftwood.\nInstagram: https://www.instagram.com/beachglasscreationsnj \n🌟🔮 Redsky Light 🌟🔮 – Spiritual tools\, Orgonite pendants\, and more.\nFacebook: https://www.facebook.com/Redsky\nInstagram: https://www.instagram.com/light333bluebird \n🧶👜 KandACrochet 🧶👜 – Crocheted products including hanging flowers\, bags\, shirts\, keychains\, and plushies.\nFacebook: https://www.facebook.com/KandAcrochet2288 \n💎📦 Metaphysical Corridor 💎📦 – Jewelry boxes and wire-wrapped crystals.\n– Facebook: https://www.facebook.com/Metcorridor \n🍭👁️ The Eye Candy Shoppe 🍭👁️ – Handmade beaded jewelry\, including Spring pieces and Mother’s Day gifts. \nSerendipity Shopee\nHandmade beaded jewelry. Everything from bracelets and necklaces to rings and earrings.\n– Instagram: https://www.instagram.com/serendipityshoppe38\n– Facebook: https://www.facebook.com/SerendipityShopee\n– Etsy: https://www.etsy.com/shop/Serendipityshoppee \n🔮✨ Melissa Spiritual Works 🔮✨ – Offerings include readings and Reiki-infused jewelry. \n📿✨ Isabella Jolie Jewelry 📿✨ – Handcrafted Jewelry.\n– Instagram: https://www.instagram.com/IsabellaJolieJewelry\n– Website: https://www.IsabellaJolieJewelry.com \n🍫🖼️ The Chocolate Art Gallery 🍫🖼️ – Prepackaged candy.\n– Website: https://www.thechocolateartgallery.com\n– Facebook: https://www.facebook.com/TheChocolateArtGalleryOrderSite \n🎨🪑 RustnSuch Vintage 🎨🪑 – Eclectic Vintage Upcycled Art.\n– Instagram: https://www.instagram.com/rustnsuchvintage\n– Facebook: https://www.facebook.com/RustnSuch \nThis event is organized by Jaime Zazzara @JZHEALS. For more information\, contact Jaime at 908-910-2898 or via email: jaimezazzara@gmail.com
URL:https://downtowntomsriver.com/event/%f0%9f%8c%b8-april-showers-sip-shop-spectacular-vendor-fair-%f0%9f%8c%b8/
LOCATION:Garden State Distillery\, 13 Washington Street\, Toms River\, 08753\, United States
ATTACH;FMTTYPE=image/png:https://downtowntomsriver.com/wp-content/uploads/2024/02/AprilSipShop.png
ORGANIZER;CN="Jaime Zazzara":MAILTO:jaimezazzara@gmail.com
END:VEVENT
BEGIN:VEVENT
DTSTART;TZID=America/New_York:20240210T120000
DTEND;TZID=America/New_York:20240210T160000
DTSTAMP:20260423T124137
CREATED:20231226T191925Z
LAST-MODIFIED:20231227T132901Z
UID:10002002-1707566400-1707580800@downtowntomsriver.com
SUMMARY:Valentine's Sip & Shop Craft Vendor Fair at Garden State Distillery!
DESCRIPTION:🎉🍷 Join us for the Galentine’s Sip & Shop Vendor Fair at Garden State Distillery! 🛍️✨ \n📅 Date: Saturday\, February 10th\n⏰ Time: 12-4 pm\n📍 Venue: Garden State Distillery\, 13 Washington Street\, Toms River\, NJ \n✨ Experience the perfect blend of local vendors showcasing their finest goods at a fantastic distillery setting! Sip on exquisite drinks while discovering incredible finds. Whether it’s a day with your partner or a girls’ day out\, this event has something special for everyone! ✨ \n💝 Valentine’s Day Gifts 💖\nFind the perfect gift for your loved one! \n👭 Girls’ Day Out 🌟\nGather your gal pals for a fabulous day of shopping\, sipping\, and laughter! \n🌟 Vendor Lineup🌟 \n❤️Lu Linxx 🎀: For elegant permanent jewelry.\n❤️Sparklekat 🌈: Discover vibrant polymer clay earrings and sun catchers.\n❤️Sol Inspired Soap 🛁: Indulge in handcrafted soaps\, scrubs\, and candles.\n❤️Lush Botanicals 🌿: Explore tropical indoor plants for a refreshing touch.\n❤️Unique Creations by Triple C ❤️: Adorable gnomes and Valentine’s Day decor.\n❤️Crafted Pearl 🐚: Artisan sea shell items for unique gifts.\n❤️Tracy Ann Jewelry 💎: Find one-of-a-kind jewelry pieces.\n❤️Beach Glass Creations NJ 🌊: Stunning art made from sea glass.\n❤️Tommy’s Treasures 🌟: Beautiful creations made from driftwood.\n❤️Metaphysical Corridor 🔮: Discover wrapped crystals and essential oils.\n❤️The Eye Candy Shoppe 🍭: Indulge in dehydrated candy delights.\n❤️The House Of Fun And Crafts ♻️: Unique upcycled wood products redone with resin.\n❤️Live Whole Massage & Holistics LLC 💆‍♀️: Enjoy chair massages and aromatherapy products.\n❤️Savvi The Lifestyle Brand 👗: Explore apparel\, beauty\, and wellness items.\n❤️PinkBeauty Organic Skincare 🌸: Handcrafted European style facial care.\n❤️Auntie Tats’s Candle Shoppe 🕯️: Find coconut/soy candles for a cozy ambiance. \nDon’t miss this opportunity to shop local and find that perfect Valentine’s Day gift or spend a delightful day with your friends exploring unique items! See you there! 🎀🥂
URL:https://downtowntomsriver.com/event/valentines-sip-shop-craft-vendor-fair-at-garden-state-distillery/
LOCATION:Garden State Distillery\, 13 Washington Street\, Toms River\, 08753\, United States
ATTACH;FMTTYPE=image/png:https://downtowntomsriver.com/wp-content/uploads/2023/12/Galentines.png
ORGANIZER;CN="Jaime Zazzara":MAILTO:jaimezazzara@gmail.com
END:VEVENT
BEGIN:VEVENT
DTSTART;TZID=America/New_York:20231230T180000
DTEND;TZID=America/New_York:20231230T193000
DTSTAMP:20260423T124137
CREATED:20231115T180925Z
LAST-MODIFIED:20231115T190220Z
UID:10001447-1703959200-1703964600@downtowntomsriver.com
SUMMARY:🌟 Exciting New Year's Event! 🌟  Meditate & Manifest with Singing Bowls
DESCRIPTION:🌟 Exciting New Year’s Event! 🌟\nJoin us for Meditate & Manifest with Singing Bowls\n📆December 30th\, 6-7:30 PM\n📍Toms River Fitness\n🧘‍♀️led by Jaime Zazzara \n🌈 Release and let go with a Forgiveness Ritual\, clearing your heart and mind for a renewed mindset in 2024. \n🎉 Set intentions with a NYE Ritual\, experience a guided meditation\, and enjoy a LIVE Sound Healing session with Chakra Singing Bowls. \nWhat’s in store:\n📜 Release & Let Go of 2023\n🌌 NYE Ritual for 2024\n🧘 Guided Forgiveness Meditation\n🎶 LIVE Sound Healing with Crystal Chakra Bowls\n🔮 Affirmation & Oracle Card pulls\n🌬️ Energy Clearing with Sage \nRemember to bring your yoga mat\, blanket\, pillow\, and feel free to bring a journal and crystals for a comfortable experience! \nFor any questions\, contact Jaime Zazzara at 908-910-2898. Let’s welcome 2024 with positivity and intention! 🙏✨ \nOffering: $40 via Venmo @jaime-zazzara
URL:https://downtowntomsriver.com/event/%f0%9f%8c%9f-exciting-new-years-event-%f0%9f%8c%9f-meditate-manifest-with-singing-bowls/
LOCATION:Toms River Fitness\, 213 NJ-37\, Toms Rievr\, NJ\, 08753\, United States
ATTACH;FMTTYPE=image/png:https://downtowntomsriver.com/wp-content/uploads/2023/11/NYE-Event-Cover-US-Letter-3.png
ORGANIZER;CN="Jaime Zazzara":MAILTO:jaimezazzara@gmail.com
END:VEVENT
END:VCALENDAR