BEGIN:VCALENDAR
VERSION:2.0
PRODID:-// - ECPv6.15.15//NONSGML v1.0//EN
CALSCALE:GREGORIAN
METHOD:PUBLISH
X-ORIGINAL-URL:https://downtowntomsriver.com
X-WR-CALDESC:Events for 
REFRESH-INTERVAL;VALUE=DURATION:PT1H
X-Robots-Tag:noindex
X-PUBLISHED-TTL:PT1H
BEGIN:VTIMEZONE
TZID:America/New_York
BEGIN:DAYLIGHT
TZOFFSETFROM:-0500
TZOFFSETTO:-0400
TZNAME:EDT
DTSTART:20190310T070000
END:DAYLIGHT
BEGIN:STANDARD
TZOFFSETFROM:-0400
TZOFFSETTO:-0500
TZNAME:EST
DTSTART:20191103T060000
END:STANDARD
BEGIN:DAYLIGHT
TZOFFSETFROM:-0500
TZOFFSETTO:-0400
TZNAME:EDT
DTSTART:20200308T070000
END:DAYLIGHT
BEGIN:STANDARD
TZOFFSETFROM:-0400
TZOFFSETTO:-0500
TZNAME:EST
DTSTART:20201101T060000
END:STANDARD
BEGIN:DAYLIGHT
TZOFFSETFROM:-0500
TZOFFSETTO:-0400
TZNAME:EDT
DTSTART:20210314T070000
END:DAYLIGHT
BEGIN:STANDARD
TZOFFSETFROM:-0400
TZOFFSETTO:-0500
TZNAME:EST
DTSTART:20211107T060000
END:STANDARD
BEGIN:DAYLIGHT
TZOFFSETFROM:-0500
TZOFFSETTO:-0400
TZNAME:EDT
DTSTART:20220313T070000
END:DAYLIGHT
BEGIN:STANDARD
TZOFFSETFROM:-0400
TZOFFSETTO:-0500
TZNAME:EST
DTSTART:20221106T060000
END:STANDARD
END:VTIMEZONE
BEGIN:VEVENT
DTSTART;TZID=America/New_York:20210703T170000
DTEND;TZID=America/New_York:20210703T230000
DTSTAMP:20260423T184910
CREATED:20210121T163110Z
LAST-MODIFIED:20210122T134027Z
UID:10000474-1625331600-1625353200@downtowntomsriver.com
SUMMARY:Downtown Night Out
DESCRIPTION:Downtown Night Out is returning in 2021!  We had such a blast last year we are bringing it back.  Every Friday and Saturday downtown restaurants and businesses will be open for dining\, drinking\, shopping and entertaining.  A section of Washington Street (between Robbins St. and Main St.) will be closed for outdoor dining. \n 
URL:https://downtowntomsriver.com/event/downtown-night-out-2/2021-07-03/
CATEGORIES:Downtown Toms River Events
ORGANIZER;CN="Downtown Toms River BID":MAILTO:info@downtowntomsriver.com
END:VEVENT
BEGIN:VEVENT
DTSTART;TZID=America/New_York:20210702T170000
DTEND;TZID=America/New_York:20210702T230000
DTSTAMP:20260423T184910
CREATED:20210121T163110Z
LAST-MODIFIED:20210122T134027Z
UID:10000473-1625245200-1625266800@downtowntomsriver.com
SUMMARY:Downtown Night Out
DESCRIPTION:Downtown Night Out is returning in 2021!  We had such a blast last year we are bringing it back.  Every Friday and Saturday downtown restaurants and businesses will be open for dining\, drinking\, shopping and entertaining.  A section of Washington Street (between Robbins St. and Main St.) will be closed for outdoor dining. \n 
URL:https://downtowntomsriver.com/event/downtown-night-out-2/2021-07-02/
CATEGORIES:Downtown Toms River Events
ORGANIZER;CN="Downtown Toms River BID":MAILTO:info@downtowntomsriver.com
END:VEVENT
BEGIN:VEVENT
DTSTART;TZID=America/New_York:20210630T100000
DTEND;TZID=America/New_York:20210630T160000
DTSTAMP:20260423T184910
CREATED:20210120T190611Z
LAST-MODIFIED:20210121T121030Z
UID:10000429-1625047200-1625068800@downtowntomsriver.com
SUMMARY:Downtown Toms River Farmers' Market
DESCRIPTION:Every Wednesday from 10am-4pm join the Downtown Toms River Business Improvement District at the weekly Farmers’ Market located at 700 Main St. (behind New Life Church).  4 Local NJ farms\, Organic farm\,  NJ Winery\, gourmet Italian Specialties\, baked goods\, honey\, pickles\, olives\, and much more!  Food truck and smoothie truck on premises every week. \n  \n 
URL:https://downtowntomsriver.com/event/downtown-toms-river-farmers-market-2/2021-06-30/
CATEGORIES:Downtown Toms River Events
ORGANIZER;CN="Downtown Toms River BID":MAILTO:info@downtowntomsriver.com
END:VEVENT
BEGIN:VEVENT
DTSTART;TZID=America/New_York:20210626T170000
DTEND;TZID=America/New_York:20210626T230000
DTSTAMP:20260423T184910
CREATED:20210121T163110Z
LAST-MODIFIED:20210122T134027Z
UID:10000472-1624726800-1624748400@downtowntomsriver.com
SUMMARY:Downtown Night Out
DESCRIPTION:Downtown Night Out is returning in 2021!  We had such a blast last year we are bringing it back.  Every Friday and Saturday downtown restaurants and businesses will be open for dining\, drinking\, shopping and entertaining.  A section of Washington Street (between Robbins St. and Main St.) will be closed for outdoor dining. \n 
URL:https://downtowntomsriver.com/event/downtown-night-out-2/2021-06-26/
CATEGORIES:Downtown Toms River Events
ORGANIZER;CN="Downtown Toms River BID":MAILTO:info@downtowntomsriver.com
END:VEVENT
BEGIN:VEVENT
DTSTART;TZID=America/New_York:20210625T170000
DTEND;TZID=America/New_York:20210625T230000
DTSTAMP:20260423T184910
CREATED:20210121T163110Z
LAST-MODIFIED:20210122T134027Z
UID:10000471-1624640400-1624662000@downtowntomsriver.com
SUMMARY:Downtown Night Out
DESCRIPTION:Downtown Night Out is returning in 2021!  We had such a blast last year we are bringing it back.  Every Friday and Saturday downtown restaurants and businesses will be open for dining\, drinking\, shopping and entertaining.  A section of Washington Street (between Robbins St. and Main St.) will be closed for outdoor dining. \n 
URL:https://downtowntomsriver.com/event/downtown-night-out-2/2021-06-25/
CATEGORIES:Downtown Toms River Events
ORGANIZER;CN="Downtown Toms River BID":MAILTO:info@downtowntomsriver.com
END:VEVENT
BEGIN:VEVENT
DTSTART;TZID=America/New_York:20210623T100000
DTEND;TZID=America/New_York:20210623T160000
DTSTAMP:20260423T184910
CREATED:20210120T190611Z
LAST-MODIFIED:20210121T121030Z
UID:10000428-1624442400-1624464000@downtowntomsriver.com
SUMMARY:Downtown Toms River Farmers' Market
DESCRIPTION:Every Wednesday from 10am-4pm join the Downtown Toms River Business Improvement District at the weekly Farmers’ Market located at 700 Main St. (behind New Life Church).  4 Local NJ farms\, Organic farm\,  NJ Winery\, gourmet Italian Specialties\, baked goods\, honey\, pickles\, olives\, and much more!  Food truck and smoothie truck on premises every week. \n  \n 
URL:https://downtowntomsriver.com/event/downtown-toms-river-farmers-market-2/2021-06-23/
CATEGORIES:Downtown Toms River Events
ORGANIZER;CN="Downtown Toms River BID":MAILTO:info@downtowntomsriver.com
END:VEVENT
BEGIN:VEVENT
DTSTART;TZID=America/New_York:20210619T170000
DTEND;TZID=America/New_York:20210619T230000
DTSTAMP:20260423T184910
CREATED:20210121T163110Z
LAST-MODIFIED:20210122T134027Z
UID:10000470-1624122000-1624143600@downtowntomsriver.com
SUMMARY:Downtown Night Out
DESCRIPTION:Downtown Night Out is returning in 2021!  We had such a blast last year we are bringing it back.  Every Friday and Saturday downtown restaurants and businesses will be open for dining\, drinking\, shopping and entertaining.  A section of Washington Street (between Robbins St. and Main St.) will be closed for outdoor dining. \n 
URL:https://downtowntomsriver.com/event/downtown-night-out-2/2021-06-19/
CATEGORIES:Downtown Toms River Events
ORGANIZER;CN="Downtown Toms River BID":MAILTO:info@downtowntomsriver.com
END:VEVENT
BEGIN:VEVENT
DTSTART;TZID=America/New_York:20210618T170000
DTEND;TZID=America/New_York:20210618T230000
DTSTAMP:20260423T184910
CREATED:20210121T163110Z
LAST-MODIFIED:20210122T134027Z
UID:10000469-1624035600-1624057200@downtowntomsriver.com
SUMMARY:Downtown Night Out
DESCRIPTION:Downtown Night Out is returning in 2021!  We had such a blast last year we are bringing it back.  Every Friday and Saturday downtown restaurants and businesses will be open for dining\, drinking\, shopping and entertaining.  A section of Washington Street (between Robbins St. and Main St.) will be closed for outdoor dining. \n 
URL:https://downtowntomsriver.com/event/downtown-night-out-2/2021-06-18/
CATEGORIES:Downtown Toms River Events
ORGANIZER;CN="Downtown Toms River BID":MAILTO:info@downtowntomsriver.com
END:VEVENT
BEGIN:VEVENT
DTSTART;TZID=America/New_York:20210616T100000
DTEND;TZID=America/New_York:20210616T160000
DTSTAMP:20260423T184910
CREATED:20210120T190611Z
LAST-MODIFIED:20210121T121030Z
UID:10000427-1623837600-1623859200@downtowntomsriver.com
SUMMARY:Downtown Toms River Farmers' Market
DESCRIPTION:Every Wednesday from 10am-4pm join the Downtown Toms River Business Improvement District at the weekly Farmers’ Market located at 700 Main St. (behind New Life Church).  4 Local NJ farms\, Organic farm\,  NJ Winery\, gourmet Italian Specialties\, baked goods\, honey\, pickles\, olives\, and much more!  Food truck and smoothie truck on premises every week. \n  \n 
URL:https://downtowntomsriver.com/event/downtown-toms-river-farmers-market-2/2021-06-16/
CATEGORIES:Downtown Toms River Events
ORGANIZER;CN="Downtown Toms River BID":MAILTO:info@downtowntomsriver.com
END:VEVENT
BEGIN:VEVENT
DTSTART;TZID=America/New_York:20210612T170000
DTEND;TZID=America/New_York:20210612T230000
DTSTAMP:20260423T184910
CREATED:20210121T163110Z
LAST-MODIFIED:20210122T134027Z
UID:10000468-1623517200-1623538800@downtowntomsriver.com
SUMMARY:Downtown Night Out
DESCRIPTION:Downtown Night Out is returning in 2021!  We had such a blast last year we are bringing it back.  Every Friday and Saturday downtown restaurants and businesses will be open for dining\, drinking\, shopping and entertaining.  A section of Washington Street (between Robbins St. and Main St.) will be closed for outdoor dining. \n 
URL:https://downtowntomsriver.com/event/downtown-night-out-2/2021-06-12/
CATEGORIES:Downtown Toms River Events
ORGANIZER;CN="Downtown Toms River BID":MAILTO:info@downtowntomsriver.com
END:VEVENT
BEGIN:VEVENT
DTSTART;TZID=America/New_York:20210611T170000
DTEND;TZID=America/New_York:20210611T230000
DTSTAMP:20260423T184910
CREATED:20210121T163110Z
LAST-MODIFIED:20210122T134027Z
UID:10000467-1623430800-1623452400@downtowntomsriver.com
SUMMARY:Downtown Night Out
DESCRIPTION:Downtown Night Out is returning in 2021!  We had such a blast last year we are bringing it back.  Every Friday and Saturday downtown restaurants and businesses will be open for dining\, drinking\, shopping and entertaining.  A section of Washington Street (between Robbins St. and Main St.) will be closed for outdoor dining. \n 
URL:https://downtowntomsriver.com/event/downtown-night-out-2/2021-06-11/
CATEGORIES:Downtown Toms River Events
ORGANIZER;CN="Downtown Toms River BID":MAILTO:info@downtowntomsriver.com
END:VEVENT
BEGIN:VEVENT
DTSTART;TZID=America/New_York:20210609T100000
DTEND;TZID=America/New_York:20210609T160000
DTSTAMP:20260423T184910
CREATED:20210120T190611Z
LAST-MODIFIED:20210121T121030Z
UID:10000426-1623232800-1623254400@downtowntomsriver.com
SUMMARY:Downtown Toms River Farmers' Market
DESCRIPTION:Every Wednesday from 10am-4pm join the Downtown Toms River Business Improvement District at the weekly Farmers’ Market located at 700 Main St. (behind New Life Church).  4 Local NJ farms\, Organic farm\,  NJ Winery\, gourmet Italian Specialties\, baked goods\, honey\, pickles\, olives\, and much more!  Food truck and smoothie truck on premises every week. \n  \n 
URL:https://downtowntomsriver.com/event/downtown-toms-river-farmers-market-2/2021-06-09/
CATEGORIES:Downtown Toms River Events
ORGANIZER;CN="Downtown Toms River BID":MAILTO:info@downtowntomsriver.com
END:VEVENT
BEGIN:VEVENT
DTSTART;TZID=America/New_York:20210605T170000
DTEND;TZID=America/New_York:20210605T230000
DTSTAMP:20260423T184910
CREATED:20210121T163110Z
LAST-MODIFIED:20210122T134027Z
UID:10000466-1622912400-1622934000@downtowntomsriver.com
SUMMARY:Downtown Night Out
DESCRIPTION:Downtown Night Out is returning in 2021!  We had such a blast last year we are bringing it back.  Every Friday and Saturday downtown restaurants and businesses will be open for dining\, drinking\, shopping and entertaining.  A section of Washington Street (between Robbins St. and Main St.) will be closed for outdoor dining. \n 
URL:https://downtowntomsriver.com/event/downtown-night-out-2/2021-06-05/
CATEGORIES:Downtown Toms River Events
ORGANIZER;CN="Downtown Toms River BID":MAILTO:info@downtowntomsriver.com
END:VEVENT
BEGIN:VEVENT
DTSTART;TZID=America/New_York:20210604T170000
DTEND;TZID=America/New_York:20210604T230000
DTSTAMP:20260423T184910
CREATED:20210121T163110Z
LAST-MODIFIED:20210122T134027Z
UID:10000465-1622826000-1622847600@downtowntomsriver.com
SUMMARY:Downtown Night Out
DESCRIPTION:Downtown Night Out is returning in 2021!  We had such a blast last year we are bringing it back.  Every Friday and Saturday downtown restaurants and businesses will be open for dining\, drinking\, shopping and entertaining.  A section of Washington Street (between Robbins St. and Main St.) will be closed for outdoor dining. \n 
URL:https://downtowntomsriver.com/event/downtown-night-out-2/2021-06-04/
CATEGORIES:Downtown Toms River Events
ORGANIZER;CN="Downtown Toms River BID":MAILTO:info@downtowntomsriver.com
END:VEVENT
BEGIN:VEVENT
DTSTART;TZID=America/New_York:20210602T100000
DTEND;TZID=America/New_York:20210602T160000
DTSTAMP:20260423T184910
CREATED:20210120T190611Z
LAST-MODIFIED:20210121T121030Z
UID:10000425-1622628000-1622649600@downtowntomsriver.com
SUMMARY:Downtown Toms River Farmers' Market
DESCRIPTION:Every Wednesday from 10am-4pm join the Downtown Toms River Business Improvement District at the weekly Farmers’ Market located at 700 Main St. (behind New Life Church).  4 Local NJ farms\, Organic farm\,  NJ Winery\, gourmet Italian Specialties\, baked goods\, honey\, pickles\, olives\, and much more!  Food truck and smoothie truck on premises every week. \n  \n 
URL:https://downtowntomsriver.com/event/downtown-toms-river-farmers-market-2/2021-06-02/
CATEGORIES:Downtown Toms River Events
ORGANIZER;CN="Downtown Toms River BID":MAILTO:info@downtowntomsriver.com
END:VEVENT
BEGIN:VEVENT
DTSTART;TZID=America/New_York:20210529T170000
DTEND;TZID=America/New_York:20210529T230000
DTSTAMP:20260423T184910
CREATED:20210121T163110Z
LAST-MODIFIED:20210122T134027Z
UID:10000464-1622307600-1622329200@downtowntomsriver.com
SUMMARY:Downtown Night Out
DESCRIPTION:Downtown Night Out is returning in 2021!  We had such a blast last year we are bringing it back.  Every Friday and Saturday downtown restaurants and businesses will be open for dining\, drinking\, shopping and entertaining.  A section of Washington Street (between Robbins St. and Main St.) will be closed for outdoor dining. \n 
URL:https://downtowntomsriver.com/event/downtown-night-out-2/2021-05-29/
CATEGORIES:Downtown Toms River Events
ORGANIZER;CN="Downtown Toms River BID":MAILTO:info@downtowntomsriver.com
END:VEVENT
BEGIN:VEVENT
DTSTART;TZID=America/New_York:20210528T170000
DTEND;TZID=America/New_York:20210528T230000
DTSTAMP:20260423T184910
CREATED:20210121T163110Z
LAST-MODIFIED:20210122T134027Z
UID:10000463-1622221200-1622242800@downtowntomsriver.com
SUMMARY:Downtown Night Out
DESCRIPTION:Downtown Night Out is returning in 2021!  We had such a blast last year we are bringing it back.  Every Friday and Saturday downtown restaurants and businesses will be open for dining\, drinking\, shopping and entertaining.  A section of Washington Street (between Robbins St. and Main St.) will be closed for outdoor dining. \n 
URL:https://downtowntomsriver.com/event/downtown-night-out-2/2021-05-28/
CATEGORIES:Downtown Toms River Events
ORGANIZER;CN="Downtown Toms River BID":MAILTO:info@downtowntomsriver.com
END:VEVENT
BEGIN:VEVENT
DTSTART;TZID=America/New_York:20210526T100000
DTEND;TZID=America/New_York:20210526T160000
DTSTAMP:20260423T184910
CREATED:20210120T190611Z
LAST-MODIFIED:20210121T121030Z
UID:10000424-1622023200-1622044800@downtowntomsriver.com
SUMMARY:Downtown Toms River Farmers' Market
DESCRIPTION:Every Wednesday from 10am-4pm join the Downtown Toms River Business Improvement District at the weekly Farmers’ Market located at 700 Main St. (behind New Life Church).  4 Local NJ farms\, Organic farm\,  NJ Winery\, gourmet Italian Specialties\, baked goods\, honey\, pickles\, olives\, and much more!  Food truck and smoothie truck on premises every week. \n  \n 
URL:https://downtowntomsriver.com/event/downtown-toms-river-farmers-market-2/2021-05-26/
CATEGORIES:Downtown Toms River Events
ORGANIZER;CN="Downtown Toms River BID":MAILTO:info@downtowntomsriver.com
END:VEVENT
BEGIN:VEVENT
DTSTART;TZID=America/New_York:20210522T170000
DTEND;TZID=America/New_York:20210522T230000
DTSTAMP:20260423T184910
CREATED:20210121T163110Z
LAST-MODIFIED:20210122T134027Z
UID:10000462-1621702800-1621724400@downtowntomsriver.com
SUMMARY:Downtown Night Out
DESCRIPTION:Downtown Night Out is returning in 2021!  We had such a blast last year we are bringing it back.  Every Friday and Saturday downtown restaurants and businesses will be open for dining\, drinking\, shopping and entertaining.  A section of Washington Street (between Robbins St. and Main St.) will be closed for outdoor dining. \n 
URL:https://downtowntomsriver.com/event/downtown-night-out-2/2021-05-22/
CATEGORIES:Downtown Toms River Events
ORGANIZER;CN="Downtown Toms River BID":MAILTO:info@downtowntomsriver.com
END:VEVENT
BEGIN:VEVENT
DTSTART;TZID=America/New_York:20210521T170000
DTEND;TZID=America/New_York:20210521T230000
DTSTAMP:20260423T184910
CREATED:20210121T163110Z
LAST-MODIFIED:20210122T134027Z
UID:10000461-1621616400-1621638000@downtowntomsriver.com
SUMMARY:Downtown Night Out
DESCRIPTION:Downtown Night Out is returning in 2021!  We had such a blast last year we are bringing it back.  Every Friday and Saturday downtown restaurants and businesses will be open for dining\, drinking\, shopping and entertaining.  A section of Washington Street (between Robbins St. and Main St.) will be closed for outdoor dining. \n 
URL:https://downtowntomsriver.com/event/downtown-night-out-2/2021-05-21/
CATEGORIES:Downtown Toms River Events
ORGANIZER;CN="Downtown Toms River BID":MAILTO:info@downtowntomsriver.com
END:VEVENT
BEGIN:VEVENT
DTSTART;TZID=America/New_York:20210519T100000
DTEND;TZID=America/New_York:20210519T160000
DTSTAMP:20260423T184910
CREATED:20210120T190611Z
LAST-MODIFIED:20210121T121030Z
UID:10000423-1621418400-1621440000@downtowntomsriver.com
SUMMARY:Downtown Toms River Farmers' Market
DESCRIPTION:Every Wednesday from 10am-4pm join the Downtown Toms River Business Improvement District at the weekly Farmers’ Market located at 700 Main St. (behind New Life Church).  4 Local NJ farms\, Organic farm\,  NJ Winery\, gourmet Italian Specialties\, baked goods\, honey\, pickles\, olives\, and much more!  Food truck and smoothie truck on premises every week. \n  \n 
URL:https://downtowntomsriver.com/event/downtown-toms-river-farmers-market-2/2021-05-19/
CATEGORIES:Downtown Toms River Events
ORGANIZER;CN="Downtown Toms River BID":MAILTO:info@downtowntomsriver.com
END:VEVENT
BEGIN:VEVENT
DTSTART;TZID=America/New_York:20210515T170000
DTEND;TZID=America/New_York:20210515T230000
DTSTAMP:20260423T184910
CREATED:20210121T163110Z
LAST-MODIFIED:20210122T134027Z
UID:10000460-1621098000-1621119600@downtowntomsriver.com
SUMMARY:Downtown Night Out
DESCRIPTION:Downtown Night Out is returning in 2021!  We had such a blast last year we are bringing it back.  Every Friday and Saturday downtown restaurants and businesses will be open for dining\, drinking\, shopping and entertaining.  A section of Washington Street (between Robbins St. and Main St.) will be closed for outdoor dining. \n 
URL:https://downtowntomsriver.com/event/downtown-night-out-2/2021-05-15/
CATEGORIES:Downtown Toms River Events
ORGANIZER;CN="Downtown Toms River BID":MAILTO:info@downtowntomsriver.com
END:VEVENT
BEGIN:VEVENT
DTSTART;TZID=America/New_York:20210514T170000
DTEND;TZID=America/New_York:20210514T230000
DTSTAMP:20260423T184910
CREATED:20210121T163110Z
LAST-MODIFIED:20210122T134027Z
UID:10000459-1621011600-1621033200@downtowntomsriver.com
SUMMARY:Downtown Night Out
DESCRIPTION:Downtown Night Out is returning in 2021!  We had such a blast last year we are bringing it back.  Every Friday and Saturday downtown restaurants and businesses will be open for dining\, drinking\, shopping and entertaining.  A section of Washington Street (between Robbins St. and Main St.) will be closed for outdoor dining. \n 
URL:https://downtowntomsriver.com/event/downtown-night-out-2/2021-05-14/
CATEGORIES:Downtown Toms River Events
ORGANIZER;CN="Downtown Toms River BID":MAILTO:info@downtowntomsriver.com
END:VEVENT
BEGIN:VEVENT
DTSTART;TZID=America/New_York:20210508T170000
DTEND;TZID=America/New_York:20210508T230000
DTSTAMP:20260423T184910
CREATED:20210121T163110Z
LAST-MODIFIED:20210122T134027Z
UID:10000458-1620493200-1620514800@downtowntomsriver.com
SUMMARY:Downtown Night Out
DESCRIPTION:Downtown Night Out is returning in 2021!  We had such a blast last year we are bringing it back.  Every Friday and Saturday downtown restaurants and businesses will be open for dining\, drinking\, shopping and entertaining.  A section of Washington Street (between Robbins St. and Main St.) will be closed for outdoor dining. \n 
URL:https://downtowntomsriver.com/event/downtown-night-out-2/2021-05-08/
CATEGORIES:Downtown Toms River Events
ORGANIZER;CN="Downtown Toms River BID":MAILTO:info@downtowntomsriver.com
END:VEVENT
BEGIN:VEVENT
DTSTART;TZID=America/New_York:20210507T170000
DTEND;TZID=America/New_York:20210507T230000
DTSTAMP:20260423T184910
CREATED:20210121T163110Z
LAST-MODIFIED:20210122T134027Z
UID:10000457-1620406800-1620428400@downtowntomsriver.com
SUMMARY:Downtown Night Out
DESCRIPTION:Downtown Night Out is returning in 2021!  We had such a blast last year we are bringing it back.  Every Friday and Saturday downtown restaurants and businesses will be open for dining\, drinking\, shopping and entertaining.  A section of Washington Street (between Robbins St. and Main St.) will be closed for outdoor dining. \n 
URL:https://downtowntomsriver.com/event/downtown-night-out-2/2021-05-07/
CATEGORIES:Downtown Toms River Events
ORGANIZER;CN="Downtown Toms River BID":MAILTO:info@downtowntomsriver.com
END:VEVENT
BEGIN:VEVENT
DTSTART;TZID=America/New_York:20210501T170000
DTEND;TZID=America/New_York:20210501T230000
DTSTAMP:20260423T184910
CREATED:20210121T163110Z
LAST-MODIFIED:20210122T134027Z
UID:10000456-1619888400-1619910000@downtowntomsriver.com
SUMMARY:Downtown Night Out
DESCRIPTION:Downtown Night Out is returning in 2021!  We had such a blast last year we are bringing it back.  Every Friday and Saturday downtown restaurants and businesses will be open for dining\, drinking\, shopping and entertaining.  A section of Washington Street (between Robbins St. and Main St.) will be closed for outdoor dining. \n 
URL:https://downtowntomsriver.com/event/downtown-night-out-2/2021-05-01/
CATEGORIES:Downtown Toms River Events
ORGANIZER;CN="Downtown Toms River BID":MAILTO:info@downtowntomsriver.com
END:VEVENT
BEGIN:VEVENT
DTSTART;TZID=America/New_York:20201028T100000
DTEND;TZID=America/New_York:20201028T160000
DTSTAMP:20260423T184910
CREATED:20200515T175239Z
LAST-MODIFIED:20200826T122112Z
UID:10000347-1603879200-1603900800@downtowntomsriver.com
SUMMARY:Downtown Toms River Farmers' Market
DESCRIPTION:The Downtown Toms River Farmers’ Market is kicking off its’ 2020 season in a new location. The market will be located in the parking lot behind The New Life Church at 700 Main Street. 3 local farms offering fruits & vegetables\, as well as vendors selling baked goods\, gourmet foods\, honey\, pickles & olives\, spice mixes\, jams & jellies\, CBD products\, homemade dog treats\, and wine. Food truck and smoothie truck on premise every week. Free parking is available. \nSpecial accommodations are being taken during the Covid-19 pandemic. Please visit our Farmers’ Market page on our website for a complete listing of updated guidelines prior to your visit. https://downtowntomsriver.com/
URL:https://downtowntomsriver.com/event/downtown-toms-river-farmers-market/2020-10-28/
LOCATION:New Life Church\, 700 Main St.\, Toms River\, NJ\, 08753\, United States
ATTACH;FMTTYPE=image/jpeg:https://downtowntomsriver.com/wp-content/uploads/2020/05/farmers.jpg
ORGANIZER;CN="Downtown Toms River BID":MAILTO:info@downtowntomsriver.com
END:VEVENT
BEGIN:VEVENT
DTSTART;TZID=America/New_York:20201021T100000
DTEND;TZID=America/New_York:20201021T160000
DTSTAMP:20260423T184910
CREATED:20200515T175239Z
LAST-MODIFIED:20200826T122112Z
UID:10000346-1603274400-1603296000@downtowntomsriver.com
SUMMARY:Downtown Toms River Farmers' Market
DESCRIPTION:The Downtown Toms River Farmers’ Market is kicking off its’ 2020 season in a new location. The market will be located in the parking lot behind The New Life Church at 700 Main Street. 3 local farms offering fruits & vegetables\, as well as vendors selling baked goods\, gourmet foods\, honey\, pickles & olives\, spice mixes\, jams & jellies\, CBD products\, homemade dog treats\, and wine. Food truck and smoothie truck on premise every week. Free parking is available. \nSpecial accommodations are being taken during the Covid-19 pandemic. Please visit our Farmers’ Market page on our website for a complete listing of updated guidelines prior to your visit. https://downtowntomsriver.com/
URL:https://downtowntomsriver.com/event/downtown-toms-river-farmers-market/2020-10-21/
LOCATION:New Life Church\, 700 Main St.\, Toms River\, NJ\, 08753\, United States
ATTACH;FMTTYPE=image/jpeg:https://downtowntomsriver.com/wp-content/uploads/2020/05/farmers.jpg
ORGANIZER;CN="Downtown Toms River BID":MAILTO:info@downtowntomsriver.com
END:VEVENT
BEGIN:VEVENT
DTSTART;TZID=America/New_York:20201014T100000
DTEND;TZID=America/New_York:20201014T160000
DTSTAMP:20260423T184910
CREATED:20200515T175239Z
LAST-MODIFIED:20200826T122112Z
UID:10000345-1602669600-1602691200@downtowntomsriver.com
SUMMARY:Downtown Toms River Farmers' Market
DESCRIPTION:The Downtown Toms River Farmers’ Market is kicking off its’ 2020 season in a new location. The market will be located in the parking lot behind The New Life Church at 700 Main Street. 3 local farms offering fruits & vegetables\, as well as vendors selling baked goods\, gourmet foods\, honey\, pickles & olives\, spice mixes\, jams & jellies\, CBD products\, homemade dog treats\, and wine. Food truck and smoothie truck on premise every week. Free parking is available. \nSpecial accommodations are being taken during the Covid-19 pandemic. Please visit our Farmers’ Market page on our website for a complete listing of updated guidelines prior to your visit. https://downtowntomsriver.com/
URL:https://downtowntomsriver.com/event/downtown-toms-river-farmers-market/2020-10-14/
LOCATION:New Life Church\, 700 Main St.\, Toms River\, NJ\, 08753\, United States
ATTACH;FMTTYPE=image/jpeg:https://downtowntomsriver.com/wp-content/uploads/2020/05/farmers.jpg
ORGANIZER;CN="Downtown Toms River BID":MAILTO:info@downtowntomsriver.com
END:VEVENT
BEGIN:VEVENT
DTSTART;TZID=America/New_York:20201007T100000
DTEND;TZID=America/New_York:20201007T160000
DTSTAMP:20260423T184910
CREATED:20200515T175239Z
LAST-MODIFIED:20200826T122112Z
UID:10000344-1602064800-1602086400@downtowntomsriver.com
SUMMARY:Downtown Toms River Farmers' Market
DESCRIPTION:The Downtown Toms River Farmers’ Market is kicking off its’ 2020 season in a new location. The market will be located in the parking lot behind The New Life Church at 700 Main Street. 3 local farms offering fruits & vegetables\, as well as vendors selling baked goods\, gourmet foods\, honey\, pickles & olives\, spice mixes\, jams & jellies\, CBD products\, homemade dog treats\, and wine. Food truck and smoothie truck on premise every week. Free parking is available. \nSpecial accommodations are being taken during the Covid-19 pandemic. Please visit our Farmers’ Market page on our website for a complete listing of updated guidelines prior to your visit. https://downtowntomsriver.com/
URL:https://downtowntomsriver.com/event/downtown-toms-river-farmers-market/2020-10-07/
LOCATION:New Life Church\, 700 Main St.\, Toms River\, NJ\, 08753\, United States
ATTACH;FMTTYPE=image/jpeg:https://downtowntomsriver.com/wp-content/uploads/2020/05/farmers.jpg
ORGANIZER;CN="Downtown Toms River BID":MAILTO:info@downtowntomsriver.com
END:VEVENT
END:VCALENDAR