BEGIN:VCALENDAR
VERSION:2.0
PRODID:-// - ECPv6.15.15//NONSGML v1.0//EN
CALSCALE:GREGORIAN
METHOD:PUBLISH
X-ORIGINAL-URL:https://downtowntomsriver.com
X-WR-CALDESC:Events for 
REFRESH-INTERVAL;VALUE=DURATION:PT1H
X-Robots-Tag:noindex
X-PUBLISHED-TTL:PT1H
BEGIN:VTIMEZONE
TZID:America/New_York
BEGIN:DAYLIGHT
TZOFFSETFROM:-0500
TZOFFSETTO:-0400
TZNAME:EDT
DTSTART:20220313T070000
END:DAYLIGHT
BEGIN:STANDARD
TZOFFSETFROM:-0400
TZOFFSETTO:-0500
TZNAME:EST
DTSTART:20221106T060000
END:STANDARD
BEGIN:DAYLIGHT
TZOFFSETFROM:-0500
TZOFFSETTO:-0400
TZNAME:EDT
DTSTART:20230312T070000
END:DAYLIGHT
BEGIN:STANDARD
TZOFFSETFROM:-0400
TZOFFSETTO:-0500
TZNAME:EST
DTSTART:20231105T060000
END:STANDARD
BEGIN:DAYLIGHT
TZOFFSETFROM:-0500
TZOFFSETTO:-0400
TZNAME:EDT
DTSTART:20240310T070000
END:DAYLIGHT
BEGIN:STANDARD
TZOFFSETFROM:-0400
TZOFFSETTO:-0500
TZNAME:EST
DTSTART:20241103T060000
END:STANDARD
END:VTIMEZONE
BEGIN:VEVENT
DTSTART;TZID=America/New_York:20230915T170000
DTEND;TZID=America/New_York:20230915T210000
DTSTAMP:20260423T130849
CREATED:20230505T190541Z
LAST-MODIFIED:20230505T190933Z
UID:10000810-1694797200-1694811600@downtowntomsriver.com
SUMMARY:Downtown Night Out
DESCRIPTION:Enjoy outdoor dining with the Downtown Districts restaurants\, distillery\, brewery and small businesses!
URL:https://downtowntomsriver.com/event/downtown-night-out-4/2023-09-15/
LOCATION:Washington Street\, Toms River NJ\, 33 Washington St.\, Toms River\, 08753\, United States
CATEGORIES:Downtown Toms River Events
ATTACH;FMTTYPE=image/jpeg:https://downtowntomsriver.com/wp-content/uploads/2023/05/340879431_148515614589249_9157111285139196440_n.jpg
ORGANIZER;CN="Downtown Toms River BID":MAILTO:info@downtowntomsriver.com
END:VEVENT
BEGIN:VEVENT
DTSTART;TZID=America/New_York:20230909T170000
DTEND;TZID=America/New_York:20230909T210000
DTSTAMP:20260423T130849
CREATED:20230505T190541Z
LAST-MODIFIED:20230505T190933Z
UID:10000809-1694278800-1694293200@downtowntomsriver.com
SUMMARY:Downtown Night Out
DESCRIPTION:Enjoy outdoor dining with the Downtown Districts restaurants\, distillery\, brewery and small businesses!
URL:https://downtowntomsriver.com/event/downtown-night-out-4/2023-09-09/
LOCATION:Washington Street\, Toms River NJ\, 33 Washington St.\, Toms River\, 08753\, United States
CATEGORIES:Downtown Toms River Events
ATTACH;FMTTYPE=image/jpeg:https://downtowntomsriver.com/wp-content/uploads/2023/05/340879431_148515614589249_9157111285139196440_n.jpg
ORGANIZER;CN="Downtown Toms River BID":MAILTO:info@downtowntomsriver.com
END:VEVENT
BEGIN:VEVENT
DTSTART;TZID=America/New_York:20230908T170000
DTEND;TZID=America/New_York:20230908T210000
DTSTAMP:20260423T130849
CREATED:20230505T190541Z
LAST-MODIFIED:20230505T190933Z
UID:10000808-1694192400-1694206800@downtowntomsriver.com
SUMMARY:Downtown Night Out
DESCRIPTION:Enjoy outdoor dining with the Downtown Districts restaurants\, distillery\, brewery and small businesses!
URL:https://downtowntomsriver.com/event/downtown-night-out-4/2023-09-08/
LOCATION:Washington Street\, Toms River NJ\, 33 Washington St.\, Toms River\, 08753\, United States
CATEGORIES:Downtown Toms River Events
ATTACH;FMTTYPE=image/jpeg:https://downtowntomsriver.com/wp-content/uploads/2023/05/340879431_148515614589249_9157111285139196440_n.jpg
ORGANIZER;CN="Downtown Toms River BID":MAILTO:info@downtowntomsriver.com
END:VEVENT
BEGIN:VEVENT
DTSTART;TZID=America/New_York:20230902T170000
DTEND;TZID=America/New_York:20230902T210000
DTSTAMP:20260423T130849
CREATED:20230505T190541Z
LAST-MODIFIED:20230505T190933Z
UID:10000807-1693674000-1693688400@downtowntomsriver.com
SUMMARY:Downtown Night Out
DESCRIPTION:Enjoy outdoor dining with the Downtown Districts restaurants\, distillery\, brewery and small businesses!
URL:https://downtowntomsriver.com/event/downtown-night-out-4/2023-09-02/
LOCATION:Washington Street\, Toms River NJ\, 33 Washington St.\, Toms River\, 08753\, United States
CATEGORIES:Downtown Toms River Events
ATTACH;FMTTYPE=image/jpeg:https://downtowntomsriver.com/wp-content/uploads/2023/05/340879431_148515614589249_9157111285139196440_n.jpg
ORGANIZER;CN="Downtown Toms River BID":MAILTO:info@downtowntomsriver.com
END:VEVENT
BEGIN:VEVENT
DTSTART;TZID=America/New_York:20230901T170000
DTEND;TZID=America/New_York:20230901T210000
DTSTAMP:20260423T130849
CREATED:20230505T190541Z
LAST-MODIFIED:20230505T190933Z
UID:10000806-1693587600-1693602000@downtowntomsriver.com
SUMMARY:Downtown Night Out
DESCRIPTION:Enjoy outdoor dining with the Downtown Districts restaurants\, distillery\, brewery and small businesses!
URL:https://downtowntomsriver.com/event/downtown-night-out-4/2023-09-01/
LOCATION:Washington Street\, Toms River NJ\, 33 Washington St.\, Toms River\, 08753\, United States
CATEGORIES:Downtown Toms River Events
ATTACH;FMTTYPE=image/jpeg:https://downtowntomsriver.com/wp-content/uploads/2023/05/340879431_148515614589249_9157111285139196440_n.jpg
ORGANIZER;CN="Downtown Toms River BID":MAILTO:info@downtowntomsriver.com
END:VEVENT
BEGIN:VEVENT
DTSTART;TZID=America/New_York:20230826T170000
DTEND;TZID=America/New_York:20230826T210000
DTSTAMP:20260423T130849
CREATED:20230505T190541Z
LAST-MODIFIED:20230505T190933Z
UID:10000805-1693069200-1693083600@downtowntomsriver.com
SUMMARY:Downtown Night Out
DESCRIPTION:Enjoy outdoor dining with the Downtown Districts restaurants\, distillery\, brewery and small businesses!
URL:https://downtowntomsriver.com/event/downtown-night-out-4/2023-08-26/
LOCATION:Washington Street\, Toms River NJ\, 33 Washington St.\, Toms River\, 08753\, United States
CATEGORIES:Downtown Toms River Events
ATTACH;FMTTYPE=image/jpeg:https://downtowntomsriver.com/wp-content/uploads/2023/05/340879431_148515614589249_9157111285139196440_n.jpg
ORGANIZER;CN="Downtown Toms River BID":MAILTO:info@downtowntomsriver.com
END:VEVENT
BEGIN:VEVENT
DTSTART;TZID=America/New_York:20230825T170000
DTEND;TZID=America/New_York:20230825T210000
DTSTAMP:20260423T130849
CREATED:20230505T190541Z
LAST-MODIFIED:20230505T190933Z
UID:10000804-1692982800-1692997200@downtowntomsriver.com
SUMMARY:Downtown Night Out
DESCRIPTION:Enjoy outdoor dining with the Downtown Districts restaurants\, distillery\, brewery and small businesses!
URL:https://downtowntomsriver.com/event/downtown-night-out-4/2023-08-25/
LOCATION:Washington Street\, Toms River NJ\, 33 Washington St.\, Toms River\, 08753\, United States
CATEGORIES:Downtown Toms River Events
ATTACH;FMTTYPE=image/jpeg:https://downtowntomsriver.com/wp-content/uploads/2023/05/340879431_148515614589249_9157111285139196440_n.jpg
ORGANIZER;CN="Downtown Toms River BID":MAILTO:info@downtowntomsriver.com
END:VEVENT
BEGIN:VEVENT
DTSTART;TZID=America/New_York:20230819T170000
DTEND;TZID=America/New_York:20230819T210000
DTSTAMP:20260423T130849
CREATED:20230505T190541Z
LAST-MODIFIED:20230505T190933Z
UID:10000803-1692464400-1692478800@downtowntomsriver.com
SUMMARY:Downtown Night Out
DESCRIPTION:Enjoy outdoor dining with the Downtown Districts restaurants\, distillery\, brewery and small businesses!
URL:https://downtowntomsriver.com/event/downtown-night-out-4/2023-08-19/
LOCATION:Washington Street\, Toms River NJ\, 33 Washington St.\, Toms River\, 08753\, United States
CATEGORIES:Downtown Toms River Events
ATTACH;FMTTYPE=image/jpeg:https://downtowntomsriver.com/wp-content/uploads/2023/05/340879431_148515614589249_9157111285139196440_n.jpg
ORGANIZER;CN="Downtown Toms River BID":MAILTO:info@downtowntomsriver.com
END:VEVENT
BEGIN:VEVENT
DTSTART;TZID=America/New_York:20230818T170000
DTEND;TZID=America/New_York:20230818T210000
DTSTAMP:20260423T130849
CREATED:20230505T190541Z
LAST-MODIFIED:20230505T190933Z
UID:10000802-1692378000-1692392400@downtowntomsriver.com
SUMMARY:Downtown Night Out
DESCRIPTION:Enjoy outdoor dining with the Downtown Districts restaurants\, distillery\, brewery and small businesses!
URL:https://downtowntomsriver.com/event/downtown-night-out-4/2023-08-18/
LOCATION:Washington Street\, Toms River NJ\, 33 Washington St.\, Toms River\, 08753\, United States
CATEGORIES:Downtown Toms River Events
ATTACH;FMTTYPE=image/jpeg:https://downtowntomsriver.com/wp-content/uploads/2023/05/340879431_148515614589249_9157111285139196440_n.jpg
ORGANIZER;CN="Downtown Toms River BID":MAILTO:info@downtowntomsriver.com
END:VEVENT
BEGIN:VEVENT
DTSTART;TZID=America/New_York:20230812T170000
DTEND;TZID=America/New_York:20230812T210000
DTSTAMP:20260423T130849
CREATED:20230505T190541Z
LAST-MODIFIED:20230505T190933Z
UID:10000801-1691859600-1691874000@downtowntomsriver.com
SUMMARY:Downtown Night Out
DESCRIPTION:Enjoy outdoor dining with the Downtown Districts restaurants\, distillery\, brewery and small businesses!
URL:https://downtowntomsriver.com/event/downtown-night-out-4/2023-08-12/
LOCATION:Washington Street\, Toms River NJ\, 33 Washington St.\, Toms River\, 08753\, United States
CATEGORIES:Downtown Toms River Events
ATTACH;FMTTYPE=image/jpeg:https://downtowntomsriver.com/wp-content/uploads/2023/05/340879431_148515614589249_9157111285139196440_n.jpg
ORGANIZER;CN="Downtown Toms River BID":MAILTO:info@downtowntomsriver.com
END:VEVENT
BEGIN:VEVENT
DTSTART;TZID=America/New_York:20230811T170000
DTEND;TZID=America/New_York:20230811T210000
DTSTAMP:20260423T130849
CREATED:20230505T190541Z
LAST-MODIFIED:20230505T190933Z
UID:10000800-1691773200-1691787600@downtowntomsriver.com
SUMMARY:Downtown Night Out
DESCRIPTION:Enjoy outdoor dining with the Downtown Districts restaurants\, distillery\, brewery and small businesses!
URL:https://downtowntomsriver.com/event/downtown-night-out-4/2023-08-11/
LOCATION:Washington Street\, Toms River NJ\, 33 Washington St.\, Toms River\, 08753\, United States
CATEGORIES:Downtown Toms River Events
ATTACH;FMTTYPE=image/jpeg:https://downtowntomsriver.com/wp-content/uploads/2023/05/340879431_148515614589249_9157111285139196440_n.jpg
ORGANIZER;CN="Downtown Toms River BID":MAILTO:info@downtowntomsriver.com
END:VEVENT
BEGIN:VEVENT
DTSTART;TZID=America/New_York:20230805T170000
DTEND;TZID=America/New_York:20230805T210000
DTSTAMP:20260423T130849
CREATED:20230505T190541Z
LAST-MODIFIED:20230505T190933Z
UID:10000799-1691254800-1691269200@downtowntomsriver.com
SUMMARY:Downtown Night Out
DESCRIPTION:Enjoy outdoor dining with the Downtown Districts restaurants\, distillery\, brewery and small businesses!
URL:https://downtowntomsriver.com/event/downtown-night-out-4/2023-08-05/
LOCATION:Washington Street\, Toms River NJ\, 33 Washington St.\, Toms River\, 08753\, United States
CATEGORIES:Downtown Toms River Events
ATTACH;FMTTYPE=image/jpeg:https://downtowntomsriver.com/wp-content/uploads/2023/05/340879431_148515614589249_9157111285139196440_n.jpg
ORGANIZER;CN="Downtown Toms River BID":MAILTO:info@downtowntomsriver.com
END:VEVENT
BEGIN:VEVENT
DTSTART;TZID=America/New_York:20230804T170000
DTEND;TZID=America/New_York:20230804T210000
DTSTAMP:20260423T130849
CREATED:20230505T190541Z
LAST-MODIFIED:20230505T190933Z
UID:10000798-1691168400-1691182800@downtowntomsriver.com
SUMMARY:Downtown Night Out
DESCRIPTION:Enjoy outdoor dining with the Downtown Districts restaurants\, distillery\, brewery and small businesses!
URL:https://downtowntomsriver.com/event/downtown-night-out-4/2023-08-04/
LOCATION:Washington Street\, Toms River NJ\, 33 Washington St.\, Toms River\, 08753\, United States
CATEGORIES:Downtown Toms River Events
ATTACH;FMTTYPE=image/jpeg:https://downtowntomsriver.com/wp-content/uploads/2023/05/340879431_148515614589249_9157111285139196440_n.jpg
ORGANIZER;CN="Downtown Toms River BID":MAILTO:info@downtowntomsriver.com
END:VEVENT
BEGIN:VEVENT
DTSTART;TZID=America/New_York:20230729T170000
DTEND;TZID=America/New_York:20230729T210000
DTSTAMP:20260423T130849
CREATED:20230505T190541Z
LAST-MODIFIED:20230505T190933Z
UID:10000797-1690650000-1690664400@downtowntomsriver.com
SUMMARY:Downtown Night Out
DESCRIPTION:Enjoy outdoor dining with the Downtown Districts restaurants\, distillery\, brewery and small businesses!
URL:https://downtowntomsriver.com/event/downtown-night-out-4/2023-07-29/
LOCATION:Washington Street\, Toms River NJ\, 33 Washington St.\, Toms River\, 08753\, United States
CATEGORIES:Downtown Toms River Events
ATTACH;FMTTYPE=image/jpeg:https://downtowntomsriver.com/wp-content/uploads/2023/05/340879431_148515614589249_9157111285139196440_n.jpg
ORGANIZER;CN="Downtown Toms River BID":MAILTO:info@downtowntomsriver.com
END:VEVENT
BEGIN:VEVENT
DTSTART;TZID=America/New_York:20230728T170000
DTEND;TZID=America/New_York:20230728T210000
DTSTAMP:20260423T130849
CREATED:20230505T190541Z
LAST-MODIFIED:20230505T190933Z
UID:10000796-1690563600-1690578000@downtowntomsriver.com
SUMMARY:Downtown Night Out
DESCRIPTION:Enjoy outdoor dining with the Downtown Districts restaurants\, distillery\, brewery and small businesses!
URL:https://downtowntomsriver.com/event/downtown-night-out-4/2023-07-28/
LOCATION:Washington Street\, Toms River NJ\, 33 Washington St.\, Toms River\, 08753\, United States
CATEGORIES:Downtown Toms River Events
ATTACH;FMTTYPE=image/jpeg:https://downtowntomsriver.com/wp-content/uploads/2023/05/340879431_148515614589249_9157111285139196440_n.jpg
ORGANIZER;CN="Downtown Toms River BID":MAILTO:info@downtowntomsriver.com
END:VEVENT
BEGIN:VEVENT
DTSTART;TZID=America/New_York:20230722T170000
DTEND;TZID=America/New_York:20230722T210000
DTSTAMP:20260423T130849
CREATED:20230505T190541Z
LAST-MODIFIED:20230505T190933Z
UID:10000795-1690045200-1690059600@downtowntomsriver.com
SUMMARY:Downtown Night Out
DESCRIPTION:Enjoy outdoor dining with the Downtown Districts restaurants\, distillery\, brewery and small businesses!
URL:https://downtowntomsriver.com/event/downtown-night-out-4/2023-07-22/
LOCATION:Washington Street\, Toms River NJ\, 33 Washington St.\, Toms River\, 08753\, United States
CATEGORIES:Downtown Toms River Events
ATTACH;FMTTYPE=image/jpeg:https://downtowntomsriver.com/wp-content/uploads/2023/05/340879431_148515614589249_9157111285139196440_n.jpg
ORGANIZER;CN="Downtown Toms River BID":MAILTO:info@downtowntomsriver.com
END:VEVENT
BEGIN:VEVENT
DTSTART;TZID=America/New_York:20230721T170000
DTEND;TZID=America/New_York:20230721T210000
DTSTAMP:20260423T130849
CREATED:20230505T190541Z
LAST-MODIFIED:20230505T190933Z
UID:10000794-1689958800-1689973200@downtowntomsriver.com
SUMMARY:Downtown Night Out
DESCRIPTION:Enjoy outdoor dining with the Downtown Districts restaurants\, distillery\, brewery and small businesses!
URL:https://downtowntomsriver.com/event/downtown-night-out-4/2023-07-21/
LOCATION:Washington Street\, Toms River NJ\, 33 Washington St.\, Toms River\, 08753\, United States
CATEGORIES:Downtown Toms River Events
ATTACH;FMTTYPE=image/jpeg:https://downtowntomsriver.com/wp-content/uploads/2023/05/340879431_148515614589249_9157111285139196440_n.jpg
ORGANIZER;CN="Downtown Toms River BID":MAILTO:info@downtowntomsriver.com
END:VEVENT
BEGIN:VEVENT
DTSTART;TZID=America/New_York:20230715T170000
DTEND;TZID=America/New_York:20230715T210000
DTSTAMP:20260423T130849
CREATED:20230505T190541Z
LAST-MODIFIED:20230505T190933Z
UID:10000793-1689440400-1689454800@downtowntomsriver.com
SUMMARY:Downtown Night Out
DESCRIPTION:Enjoy outdoor dining with the Downtown Districts restaurants\, distillery\, brewery and small businesses!
URL:https://downtowntomsriver.com/event/downtown-night-out-4/2023-07-15/
LOCATION:Washington Street\, Toms River NJ\, 33 Washington St.\, Toms River\, 08753\, United States
CATEGORIES:Downtown Toms River Events
ATTACH;FMTTYPE=image/jpeg:https://downtowntomsriver.com/wp-content/uploads/2023/05/340879431_148515614589249_9157111285139196440_n.jpg
ORGANIZER;CN="Downtown Toms River BID":MAILTO:info@downtowntomsriver.com
END:VEVENT
BEGIN:VEVENT
DTSTART;TZID=America/New_York:20230714T170000
DTEND;TZID=America/New_York:20230714T210000
DTSTAMP:20260423T130849
CREATED:20230505T190541Z
LAST-MODIFIED:20230505T190933Z
UID:10000792-1689354000-1689368400@downtowntomsriver.com
SUMMARY:Downtown Night Out
DESCRIPTION:Enjoy outdoor dining with the Downtown Districts restaurants\, distillery\, brewery and small businesses!
URL:https://downtowntomsriver.com/event/downtown-night-out-4/2023-07-14/
LOCATION:Washington Street\, Toms River NJ\, 33 Washington St.\, Toms River\, 08753\, United States
CATEGORIES:Downtown Toms River Events
ATTACH;FMTTYPE=image/jpeg:https://downtowntomsriver.com/wp-content/uploads/2023/05/340879431_148515614589249_9157111285139196440_n.jpg
ORGANIZER;CN="Downtown Toms River BID":MAILTO:info@downtowntomsriver.com
END:VEVENT
BEGIN:VEVENT
DTSTART;TZID=America/New_York:20230708T170000
DTEND;TZID=America/New_York:20230708T210000
DTSTAMP:20260423T130849
CREATED:20230505T190541Z
LAST-MODIFIED:20230505T190933Z
UID:10000791-1688835600-1688850000@downtowntomsriver.com
SUMMARY:Downtown Night Out
DESCRIPTION:Enjoy outdoor dining with the Downtown Districts restaurants\, distillery\, brewery and small businesses!
URL:https://downtowntomsriver.com/event/downtown-night-out-4/2023-07-08/
LOCATION:Washington Street\, Toms River NJ\, 33 Washington St.\, Toms River\, 08753\, United States
CATEGORIES:Downtown Toms River Events
ATTACH;FMTTYPE=image/jpeg:https://downtowntomsriver.com/wp-content/uploads/2023/05/340879431_148515614589249_9157111285139196440_n.jpg
ORGANIZER;CN="Downtown Toms River BID":MAILTO:info@downtowntomsriver.com
END:VEVENT
BEGIN:VEVENT
DTSTART;TZID=America/New_York:20230707T170000
DTEND;TZID=America/New_York:20230707T210000
DTSTAMP:20260423T130849
CREATED:20230505T190541Z
LAST-MODIFIED:20230505T190933Z
UID:10000790-1688749200-1688763600@downtowntomsriver.com
SUMMARY:Downtown Night Out
DESCRIPTION:Enjoy outdoor dining with the Downtown Districts restaurants\, distillery\, brewery and small businesses!
URL:https://downtowntomsriver.com/event/downtown-night-out-4/2023-07-07/
LOCATION:Washington Street\, Toms River NJ\, 33 Washington St.\, Toms River\, 08753\, United States
CATEGORIES:Downtown Toms River Events
ATTACH;FMTTYPE=image/jpeg:https://downtowntomsriver.com/wp-content/uploads/2023/05/340879431_148515614589249_9157111285139196440_n.jpg
ORGANIZER;CN="Downtown Toms River BID":MAILTO:info@downtowntomsriver.com
END:VEVENT
BEGIN:VEVENT
DTSTART;TZID=America/New_York:20230701T170000
DTEND;TZID=America/New_York:20230701T210000
DTSTAMP:20260423T130849
CREATED:20230505T190541Z
LAST-MODIFIED:20230505T190933Z
UID:10000789-1688230800-1688245200@downtowntomsriver.com
SUMMARY:Downtown Night Out
DESCRIPTION:Enjoy outdoor dining with the Downtown Districts restaurants\, distillery\, brewery and small businesses!
URL:https://downtowntomsriver.com/event/downtown-night-out-4/2023-07-01/
LOCATION:Washington Street\, Toms River NJ\, 33 Washington St.\, Toms River\, 08753\, United States
CATEGORIES:Downtown Toms River Events
ATTACH;FMTTYPE=image/jpeg:https://downtowntomsriver.com/wp-content/uploads/2023/05/340879431_148515614589249_9157111285139196440_n.jpg
ORGANIZER;CN="Downtown Toms River BID":MAILTO:info@downtowntomsriver.com
END:VEVENT
BEGIN:VEVENT
DTSTART;TZID=America/New_York:20230630T170000
DTEND;TZID=America/New_York:20230630T210000
DTSTAMP:20260423T130849
CREATED:20230505T190541Z
LAST-MODIFIED:20230505T190933Z
UID:10000788-1688144400-1688158800@downtowntomsriver.com
SUMMARY:Downtown Night Out
DESCRIPTION:Enjoy outdoor dining with the Downtown Districts restaurants\, distillery\, brewery and small businesses!
URL:https://downtowntomsriver.com/event/downtown-night-out-4/2023-06-30/
LOCATION:Washington Street\, Toms River NJ\, 33 Washington St.\, Toms River\, 08753\, United States
CATEGORIES:Downtown Toms River Events
ATTACH;FMTTYPE=image/jpeg:https://downtowntomsriver.com/wp-content/uploads/2023/05/340879431_148515614589249_9157111285139196440_n.jpg
ORGANIZER;CN="Downtown Toms River BID":MAILTO:info@downtowntomsriver.com
END:VEVENT
BEGIN:VEVENT
DTSTART;TZID=America/New_York:20230624T170000
DTEND;TZID=America/New_York:20230624T210000
DTSTAMP:20260423T130849
CREATED:20230505T190541Z
LAST-MODIFIED:20230505T190933Z
UID:10000787-1687626000-1687640400@downtowntomsriver.com
SUMMARY:Downtown Night Out
DESCRIPTION:Enjoy outdoor dining with the Downtown Districts restaurants\, distillery\, brewery and small businesses!
URL:https://downtowntomsriver.com/event/downtown-night-out-4/2023-06-24/
LOCATION:Washington Street\, Toms River NJ\, 33 Washington St.\, Toms River\, 08753\, United States
CATEGORIES:Downtown Toms River Events
ATTACH;FMTTYPE=image/jpeg:https://downtowntomsriver.com/wp-content/uploads/2023/05/340879431_148515614589249_9157111285139196440_n.jpg
ORGANIZER;CN="Downtown Toms River BID":MAILTO:info@downtowntomsriver.com
END:VEVENT
BEGIN:VEVENT
DTSTART;TZID=America/New_York:20230623T170000
DTEND;TZID=America/New_York:20230623T210000
DTSTAMP:20260423T130849
CREATED:20230505T190541Z
LAST-MODIFIED:20230505T190933Z
UID:10000786-1687539600-1687554000@downtowntomsriver.com
SUMMARY:Downtown Night Out
DESCRIPTION:Enjoy outdoor dining with the Downtown Districts restaurants\, distillery\, brewery and small businesses!
URL:https://downtowntomsriver.com/event/downtown-night-out-4/2023-06-23/
LOCATION:Washington Street\, Toms River NJ\, 33 Washington St.\, Toms River\, 08753\, United States
CATEGORIES:Downtown Toms River Events
ATTACH;FMTTYPE=image/jpeg:https://downtowntomsriver.com/wp-content/uploads/2023/05/340879431_148515614589249_9157111285139196440_n.jpg
ORGANIZER;CN="Downtown Toms River BID":MAILTO:info@downtowntomsriver.com
END:VEVENT
BEGIN:VEVENT
DTSTART;TZID=America/New_York:20230617T170000
DTEND;TZID=America/New_York:20230617T210000
DTSTAMP:20260423T130849
CREATED:20230505T190541Z
LAST-MODIFIED:20230505T190933Z
UID:10000785-1687021200-1687035600@downtowntomsriver.com
SUMMARY:Downtown Night Out
DESCRIPTION:Enjoy outdoor dining with the Downtown Districts restaurants\, distillery\, brewery and small businesses!
URL:https://downtowntomsriver.com/event/downtown-night-out-4/2023-06-17/
LOCATION:Washington Street\, Toms River NJ\, 33 Washington St.\, Toms River\, 08753\, United States
CATEGORIES:Downtown Toms River Events
ATTACH;FMTTYPE=image/jpeg:https://downtowntomsriver.com/wp-content/uploads/2023/05/340879431_148515614589249_9157111285139196440_n.jpg
ORGANIZER;CN="Downtown Toms River BID":MAILTO:info@downtowntomsriver.com
END:VEVENT
BEGIN:VEVENT
DTSTART;TZID=America/New_York:20230616T170000
DTEND;TZID=America/New_York:20230616T210000
DTSTAMP:20260423T130849
CREATED:20230505T190541Z
LAST-MODIFIED:20230505T190933Z
UID:10000784-1686934800-1686949200@downtowntomsriver.com
SUMMARY:Downtown Night Out
DESCRIPTION:Enjoy outdoor dining with the Downtown Districts restaurants\, distillery\, brewery and small businesses!
URL:https://downtowntomsriver.com/event/downtown-night-out-4/2023-06-16/
LOCATION:Washington Street\, Toms River NJ\, 33 Washington St.\, Toms River\, 08753\, United States
CATEGORIES:Downtown Toms River Events
ATTACH;FMTTYPE=image/jpeg:https://downtowntomsriver.com/wp-content/uploads/2023/05/340879431_148515614589249_9157111285139196440_n.jpg
ORGANIZER;CN="Downtown Toms River BID":MAILTO:info@downtowntomsriver.com
END:VEVENT
BEGIN:VEVENT
DTSTART;TZID=America/New_York:20230610T170000
DTEND;TZID=America/New_York:20230610T210000
DTSTAMP:20260423T130849
CREATED:20230505T190541Z
LAST-MODIFIED:20230505T190933Z
UID:10000783-1686416400-1686430800@downtowntomsriver.com
SUMMARY:Downtown Night Out
DESCRIPTION:Enjoy outdoor dining with the Downtown Districts restaurants\, distillery\, brewery and small businesses!
URL:https://downtowntomsriver.com/event/downtown-night-out-4/2023-06-10/
LOCATION:Washington Street\, Toms River NJ\, 33 Washington St.\, Toms River\, 08753\, United States
CATEGORIES:Downtown Toms River Events
ATTACH;FMTTYPE=image/jpeg:https://downtowntomsriver.com/wp-content/uploads/2023/05/340879431_148515614589249_9157111285139196440_n.jpg
ORGANIZER;CN="Downtown Toms River BID":MAILTO:info@downtowntomsriver.com
END:VEVENT
BEGIN:VEVENT
DTSTART;TZID=America/New_York:20230609T170000
DTEND;TZID=America/New_York:20230609T210000
DTSTAMP:20260423T130849
CREATED:20230505T190541Z
LAST-MODIFIED:20230505T190933Z
UID:10000782-1686330000-1686344400@downtowntomsriver.com
SUMMARY:Downtown Night Out
DESCRIPTION:Enjoy outdoor dining with the Downtown Districts restaurants\, distillery\, brewery and small businesses!
URL:https://downtowntomsriver.com/event/downtown-night-out-4/2023-06-09/
LOCATION:Washington Street\, Toms River NJ\, 33 Washington St.\, Toms River\, 08753\, United States
CATEGORIES:Downtown Toms River Events
ATTACH;FMTTYPE=image/jpeg:https://downtowntomsriver.com/wp-content/uploads/2023/05/340879431_148515614589249_9157111285139196440_n.jpg
ORGANIZER;CN="Downtown Toms River BID":MAILTO:info@downtowntomsriver.com
END:VEVENT
BEGIN:VEVENT
DTSTART;TZID=America/New_York:20230603T170000
DTEND;TZID=America/New_York:20230603T210000
DTSTAMP:20260423T130849
CREATED:20230505T190541Z
LAST-MODIFIED:20230505T190933Z
UID:10000781-1685811600-1685826000@downtowntomsriver.com
SUMMARY:Downtown Night Out
DESCRIPTION:Enjoy outdoor dining with the Downtown Districts restaurants\, distillery\, brewery and small businesses!
URL:https://downtowntomsriver.com/event/downtown-night-out-4/2023-06-03/
LOCATION:Washington Street\, Toms River NJ\, 33 Washington St.\, Toms River\, 08753\, United States
CATEGORIES:Downtown Toms River Events
ATTACH;FMTTYPE=image/jpeg:https://downtowntomsriver.com/wp-content/uploads/2023/05/340879431_148515614589249_9157111285139196440_n.jpg
ORGANIZER;CN="Downtown Toms River BID":MAILTO:info@downtowntomsriver.com
END:VEVENT
END:VCALENDAR