BEGIN:VCALENDAR
VERSION:2.0
PRODID:-// - ECPv6.15.15//NONSGML v1.0//EN
CALSCALE:GREGORIAN
METHOD:PUBLISH
X-ORIGINAL-URL:https://downtowntomsriver.com
X-WR-CALDESC:Events for 
REFRESH-INTERVAL;VALUE=DURATION:PT1H
X-Robots-Tag:noindex
X-PUBLISHED-TTL:PT1H
BEGIN:VTIMEZONE
TZID:America/New_York
BEGIN:DAYLIGHT
TZOFFSETFROM:-0500
TZOFFSETTO:-0400
TZNAME:EDT
DTSTART:20220313T070000
END:DAYLIGHT
BEGIN:STANDARD
TZOFFSETFROM:-0400
TZOFFSETTO:-0500
TZNAME:EST
DTSTART:20221106T060000
END:STANDARD
BEGIN:DAYLIGHT
TZOFFSETFROM:-0500
TZOFFSETTO:-0400
TZNAME:EDT
DTSTART:20230312T070000
END:DAYLIGHT
BEGIN:STANDARD
TZOFFSETFROM:-0400
TZOFFSETTO:-0500
TZNAME:EST
DTSTART:20231105T060000
END:STANDARD
BEGIN:DAYLIGHT
TZOFFSETFROM:-0500
TZOFFSETTO:-0400
TZNAME:EDT
DTSTART:20240310T070000
END:DAYLIGHT
BEGIN:STANDARD
TZOFFSETFROM:-0400
TZOFFSETTO:-0500
TZNAME:EST
DTSTART:20241103T060000
END:STANDARD
BEGIN:DAYLIGHT
TZOFFSETFROM:-0500
TZOFFSETTO:-0400
TZNAME:EDT
DTSTART:20250309T070000
END:DAYLIGHT
BEGIN:STANDARD
TZOFFSETFROM:-0400
TZOFFSETTO:-0500
TZNAME:EST
DTSTART:20251102T060000
END:STANDARD
END:VTIMEZONE
BEGIN:VEVENT
DTSTART;TZID=America/New_York:20240302T120000
DTEND;TZID=America/New_York:20240302T180000
DTSTAMP:20260423T113324
CREATED:20240206T195134Z
LAST-MODIFIED:20240206T195134Z
UID:10002022-1709380800-1709402400@downtowntomsriver.com
SUMMARY:Downtown Irish Festival
DESCRIPTION:Location\nWashington Street\nTime\nMarch 2nd 12pm – 6pm\nJoin The Downtown Toms River Business Improvement District for our Irish Festival. The street will be filled with merchandise vendors\, handcrafters\, and live entertainment. Local businesses\, restaurants\, brewery and distillery open on the street. Free Admission & Free Parking in downtown during the event. \n  \nFor vendor opportunities https://downtowntomsriver.com/become-a-vendor/
URL:https://downtowntomsriver.com/event/downtown-irish-festival/
LOCATION:Washington Street\, Toms River NJ\, 33 Washington St.\, Toms River\, 08753\, United States
CATEGORIES:Entertainment
ATTACH;FMTTYPE=image/png:https://downtowntomsriver.com/wp-content/uploads/2024/02/Green-Modern-ST.-Patricks-Party-Flyer.png
ORGANIZER;CN="Downtown Toms River BID":MAILTO:info@downtowntomsriver.com
END:VEVENT
BEGIN:VEVENT
DTSTART;TZID=America/New_York:20231209T120000
DTEND;TZID=America/New_York:20231209T180000
DTSTAMP:20260423T113324
CREATED:20230925T163836Z
LAST-MODIFIED:20231121T192913Z
UID:10000928-1702123200-1702144800@downtowntomsriver.com
SUMMARY:Winter Wonderland
DESCRIPTION:Dec. 2nd & Dec. 9th 12pm – 6pm \nThe courtyard will be transformed into a Winter Wonderland Village. Vendors\, kid’s activities\, hot chocolate station\, holiday music and more.  Downtown businesses will be open.
URL:https://downtowntomsriver.com/event/winter-wonderland-2/
LOCATION:Town Hall Court Yard\, 33 Washington St.\, Toms River\, NJ\, 08753\, United States
ORGANIZER;CN="Downtown Toms River BID":MAILTO:info@downtowntomsriver.com
END:VEVENT
BEGIN:VEVENT
DTSTART;TZID=America/New_York:20231202T120000
DTEND;TZID=America/New_York:20231202T180000
DTSTAMP:20260423T113324
CREATED:20230925T163627Z
LAST-MODIFIED:20231121T193003Z
UID:10000927-1701518400-1701540000@downtowntomsriver.com
SUMMARY:Winter Wonderland
DESCRIPTION:Dec. 2nd & Dec. 9th 12pm – 6pm \nThe courtyard will be transformed into a Winter Wonderland Village. Vendors\, kid’s activities\, hot chocolate station\, holiday music and more.  Downtown businesses will be open.
URL:https://downtowntomsriver.com/event/winter-wonderland/
LOCATION:Town Hall Court Yard\, 33 Washington St.\, Toms River\, NJ\, 08753\, United States
ORGANIZER;CN="Downtown Toms River BID":MAILTO:info@downtowntomsriver.com
END:VEVENT
BEGIN:VEVENT
DTSTART;TZID=America/New_York:20231201T170000
DTEND;TZID=America/New_York:20231201T190000
DTSTAMP:20260423T113324
CREATED:20230925T163438Z
LAST-MODIFIED:20231121T193046Z
UID:10000926-1701450000-1701457200@downtowntomsriver.com
SUMMARY:Downtown Tree Lighting
DESCRIPTION:Friday\, Dec. 1st  5pm-7pm. \nLive entertainment begins at 5pm. Santa arrives on the fire truck at 7pm to light the tree. Photos with Santa will follow the tree lighting in Town Hall.  Live music and entertainment.
URL:https://downtowntomsriver.com/event/downtown-tree-lighting/
LOCATION:Town Hall Court Yard\, 33 Washington St.\, Toms River\, NJ\, 08753\, United States
ORGANIZER;CN="Downtown Toms River BID":MAILTO:info@downtowntomsriver.com
END:VEVENT
BEGIN:VEVENT
DTSTART;VALUE=DATE:20231125
DTEND;VALUE=DATE:20231126
DTSTAMP:20260423T113324
CREATED:20230925T164034Z
LAST-MODIFIED:20231121T193227Z
UID:10000929-1700870400-1700956799@downtowntomsriver.com
SUMMARY:Downtown Small Business Saturday
DESCRIPTION:Show your love and support for local business and come out Saturday\, Nov. 25th for Small Business Saturday. \nFree 4 hour parking in the Irons Street lot\, located behind The Wells Fargo Bank!
URL:https://downtowntomsriver.com/event/downtown-small-business-saturday/
LOCATION:Downtown Shops Activity Room\, 53 Main Street\, Toms River\, NJ\, 08753\, United States
ORGANIZER;CN="Downtown Toms River BID":MAILTO:info@downtowntomsriver.com
END:VEVENT
BEGIN:VEVENT
DTSTART;TZID=America/New_York:20231028T170000
DTEND;TZID=America/New_York:20231028T210000
DTSTAMP:20260423T113324
CREATED:20230505T190541Z
LAST-MODIFIED:20230505T190933Z
UID:10000823-1698512400-1698526800@downtowntomsriver.com
SUMMARY:Downtown Night Out
DESCRIPTION:Enjoy outdoor dining with the Downtown Districts restaurants\, distillery\, brewery and small businesses!
URL:https://downtowntomsriver.com/event/downtown-night-out-4/2023-10-28/
LOCATION:Washington Street\, Toms River NJ\, 33 Washington St.\, Toms River\, 08753\, United States
CATEGORIES:Downtown Toms River Events
ATTACH;FMTTYPE=image/jpeg:https://downtowntomsriver.com/wp-content/uploads/2023/05/340879431_148515614589249_9157111285139196440_n.jpg
ORGANIZER;CN="Downtown Toms River BID":MAILTO:info@downtowntomsriver.com
END:VEVENT
BEGIN:VEVENT
DTSTART;TZID=America/New_York:20231027T170000
DTEND;TZID=America/New_York:20231027T210000
DTSTAMP:20260423T113324
CREATED:20230505T190541Z
LAST-MODIFIED:20230505T190933Z
UID:10000822-1698426000-1698440400@downtowntomsriver.com
SUMMARY:Downtown Night Out
DESCRIPTION:Enjoy outdoor dining with the Downtown Districts restaurants\, distillery\, brewery and small businesses!
URL:https://downtowntomsriver.com/event/downtown-night-out-4/2023-10-27/
LOCATION:Washington Street\, Toms River NJ\, 33 Washington St.\, Toms River\, 08753\, United States
CATEGORIES:Downtown Toms River Events
ATTACH;FMTTYPE=image/jpeg:https://downtowntomsriver.com/wp-content/uploads/2023/05/340879431_148515614589249_9157111285139196440_n.jpg
ORGANIZER;CN="Downtown Toms River BID":MAILTO:info@downtowntomsriver.com
END:VEVENT
BEGIN:VEVENT
DTSTART;TZID=America/New_York:20231021T170000
DTEND;TZID=America/New_York:20231021T210000
DTSTAMP:20260423T113324
CREATED:20230505T190541Z
LAST-MODIFIED:20230505T190933Z
UID:10000821-1697907600-1697922000@downtowntomsriver.com
SUMMARY:Downtown Night Out
DESCRIPTION:Enjoy outdoor dining with the Downtown Districts restaurants\, distillery\, brewery and small businesses!
URL:https://downtowntomsriver.com/event/downtown-night-out-4/2023-10-21/
LOCATION:Washington Street\, Toms River NJ\, 33 Washington St.\, Toms River\, 08753\, United States
CATEGORIES:Downtown Toms River Events
ATTACH;FMTTYPE=image/jpeg:https://downtowntomsriver.com/wp-content/uploads/2023/05/340879431_148515614589249_9157111285139196440_n.jpg
ORGANIZER;CN="Downtown Toms River BID":MAILTO:info@downtowntomsriver.com
END:VEVENT
BEGIN:VEVENT
DTSTART;TZID=America/New_York:20231020T170000
DTEND;TZID=America/New_York:20231020T210000
DTSTAMP:20260423T113324
CREATED:20230505T190541Z
LAST-MODIFIED:20230505T190933Z
UID:10000820-1697821200-1697835600@downtowntomsriver.com
SUMMARY:Downtown Night Out
DESCRIPTION:Enjoy outdoor dining with the Downtown Districts restaurants\, distillery\, brewery and small businesses!
URL:https://downtowntomsriver.com/event/downtown-night-out-4/2023-10-20/
LOCATION:Washington Street\, Toms River NJ\, 33 Washington St.\, Toms River\, 08753\, United States
CATEGORIES:Downtown Toms River Events
ATTACH;FMTTYPE=image/jpeg:https://downtowntomsriver.com/wp-content/uploads/2023/05/340879431_148515614589249_9157111285139196440_n.jpg
ORGANIZER;CN="Downtown Toms River BID":MAILTO:info@downtowntomsriver.com
END:VEVENT
BEGIN:VEVENT
DTSTART;TZID=America/New_York:20231014T170000
DTEND;TZID=America/New_York:20231014T210000
DTSTAMP:20260423T113324
CREATED:20230505T190541Z
LAST-MODIFIED:20230505T190933Z
UID:10000819-1697302800-1697317200@downtowntomsriver.com
SUMMARY:Downtown Night Out
DESCRIPTION:Enjoy outdoor dining with the Downtown Districts restaurants\, distillery\, brewery and small businesses!
URL:https://downtowntomsriver.com/event/downtown-night-out-4/2023-10-14/
LOCATION:Washington Street\, Toms River NJ\, 33 Washington St.\, Toms River\, 08753\, United States
CATEGORIES:Downtown Toms River Events
ATTACH;FMTTYPE=image/jpeg:https://downtowntomsriver.com/wp-content/uploads/2023/05/340879431_148515614589249_9157111285139196440_n.jpg
ORGANIZER;CN="Downtown Toms River BID":MAILTO:info@downtowntomsriver.com
END:VEVENT
BEGIN:VEVENT
DTSTART;TZID=America/New_York:20231013T170000
DTEND;TZID=America/New_York:20231013T210000
DTSTAMP:20260423T113324
CREATED:20230505T190541Z
LAST-MODIFIED:20230505T190933Z
UID:10000818-1697216400-1697230800@downtowntomsriver.com
SUMMARY:Downtown Night Out
DESCRIPTION:Enjoy outdoor dining with the Downtown Districts restaurants\, distillery\, brewery and small businesses!
URL:https://downtowntomsriver.com/event/downtown-night-out-4/2023-10-13/
LOCATION:Washington Street\, Toms River NJ\, 33 Washington St.\, Toms River\, 08753\, United States
CATEGORIES:Downtown Toms River Events
ATTACH;FMTTYPE=image/jpeg:https://downtowntomsriver.com/wp-content/uploads/2023/05/340879431_148515614589249_9157111285139196440_n.jpg
ORGANIZER;CN="Downtown Toms River BID":MAILTO:info@downtowntomsriver.com
END:VEVENT
BEGIN:VEVENT
DTSTART;TZID=America/New_York:20231013T080000
DTEND;TZID=America/New_York:20231031T170000
DTSTAMP:20260423T113324
CREATED:20230925T161709Z
LAST-MODIFIED:20230925T162057Z
UID:10000924-1697184000-1698771600@downtowntomsriver.com
SUMMARY:Downtown Scarecrow Walk
DESCRIPTION:From Friday\, October 13th – Tuesday\, October 31st\, scarecrows will decorate the downtown and be vying for your vote. The streets will be lined with these cast of characters so be sure to come down and help pick the winners by voting for the scarecrow you like best.\nWe’re all about local in Downtown Toms River so while you’re here\, grab a bite to eat and browse!\nVoting ballots will be available at participating businesses in Downtown Toms River wherever this poster is displayed.\nThe contest is open to all ages\, and there is no entry fee\, but you must register. For more information on how to enter a scarecrow into the walk along with a complete listing of rules visit our website:\n\n\nwww.downtowntomsriver.com
URL:https://downtowntomsriver.com/event/downtown-scarecrow-walk/
LOCATION:Washington Street\, Toms River NJ\, 33 Washington St.\, Toms River\, 08753\, United States
ORGANIZER;CN="Downtown Toms River BID":MAILTO:info@downtowntomsriver.com
END:VEVENT
BEGIN:VEVENT
DTSTART;TZID=America/New_York:20231007T170000
DTEND;TZID=America/New_York:20231007T210000
DTSTAMP:20260423T113324
CREATED:20230505T190541Z
LAST-MODIFIED:20230505T190933Z
UID:10000817-1696698000-1696712400@downtowntomsriver.com
SUMMARY:Downtown Night Out
DESCRIPTION:Enjoy outdoor dining with the Downtown Districts restaurants\, distillery\, brewery and small businesses!
URL:https://downtowntomsriver.com/event/downtown-night-out-4/2023-10-07/
LOCATION:Washington Street\, Toms River NJ\, 33 Washington St.\, Toms River\, 08753\, United States
CATEGORIES:Downtown Toms River Events
ATTACH;FMTTYPE=image/jpeg:https://downtowntomsriver.com/wp-content/uploads/2023/05/340879431_148515614589249_9157111285139196440_n.jpg
ORGANIZER;CN="Downtown Toms River BID":MAILTO:info@downtowntomsriver.com
END:VEVENT
BEGIN:VEVENT
DTSTART;TZID=America/New_York:20231006T170000
DTEND;TZID=America/New_York:20231006T210000
DTSTAMP:20260423T113324
CREATED:20230505T190541Z
LAST-MODIFIED:20230505T190933Z
UID:10000816-1696611600-1696626000@downtowntomsriver.com
SUMMARY:Downtown Night Out
DESCRIPTION:Enjoy outdoor dining with the Downtown Districts restaurants\, distillery\, brewery and small businesses!
URL:https://downtowntomsriver.com/event/downtown-night-out-4/2023-10-06/
LOCATION:Washington Street\, Toms River NJ\, 33 Washington St.\, Toms River\, 08753\, United States
CATEGORIES:Downtown Toms River Events
ATTACH;FMTTYPE=image/jpeg:https://downtowntomsriver.com/wp-content/uploads/2023/05/340879431_148515614589249_9157111285139196440_n.jpg
ORGANIZER;CN="Downtown Toms River BID":MAILTO:info@downtowntomsriver.com
END:VEVENT
BEGIN:VEVENT
DTSTART;TZID=America/New_York:20230930T170000
DTEND;TZID=America/New_York:20230930T210000
DTSTAMP:20260423T113324
CREATED:20230505T190541Z
LAST-MODIFIED:20230505T190933Z
UID:10000815-1696093200-1696107600@downtowntomsriver.com
SUMMARY:Downtown Night Out
DESCRIPTION:Enjoy outdoor dining with the Downtown Districts restaurants\, distillery\, brewery and small businesses!
URL:https://downtowntomsriver.com/event/downtown-night-out-4/2023-09-30/
LOCATION:Washington Street\, Toms River NJ\, 33 Washington St.\, Toms River\, 08753\, United States
CATEGORIES:Downtown Toms River Events
ATTACH;FMTTYPE=image/jpeg:https://downtowntomsriver.com/wp-content/uploads/2023/05/340879431_148515614589249_9157111285139196440_n.jpg
ORGANIZER;CN="Downtown Toms River BID":MAILTO:info@downtowntomsriver.com
END:VEVENT
BEGIN:VEVENT
DTSTART;TZID=America/New_York:20230929T170000
DTEND;TZID=America/New_York:20230929T210000
DTSTAMP:20260423T113324
CREATED:20230505T190541Z
LAST-MODIFIED:20230505T190933Z
UID:10000814-1696006800-1696021200@downtowntomsriver.com
SUMMARY:Downtown Night Out
DESCRIPTION:Enjoy outdoor dining with the Downtown Districts restaurants\, distillery\, brewery and small businesses!
URL:https://downtowntomsriver.com/event/downtown-night-out-4/2023-09-29/
LOCATION:Washington Street\, Toms River NJ\, 33 Washington St.\, Toms River\, 08753\, United States
CATEGORIES:Downtown Toms River Events
ATTACH;FMTTYPE=image/jpeg:https://downtowntomsriver.com/wp-content/uploads/2023/05/340879431_148515614589249_9157111285139196440_n.jpg
ORGANIZER;CN="Downtown Toms River BID":MAILTO:info@downtowntomsriver.com
END:VEVENT
BEGIN:VEVENT
DTSTART;TZID=America/New_York:20230923T170000
DTEND;TZID=America/New_York:20230923T210000
DTSTAMP:20260423T113324
CREATED:20230505T190541Z
LAST-MODIFIED:20230505T190933Z
UID:10000813-1695488400-1695502800@downtowntomsriver.com
SUMMARY:Downtown Night Out
DESCRIPTION:Enjoy outdoor dining with the Downtown Districts restaurants\, distillery\, brewery and small businesses!
URL:https://downtowntomsriver.com/event/downtown-night-out-4/2023-09-23/
LOCATION:Washington Street\, Toms River NJ\, 33 Washington St.\, Toms River\, 08753\, United States
CATEGORIES:Downtown Toms River Events
ATTACH;FMTTYPE=image/jpeg:https://downtowntomsriver.com/wp-content/uploads/2023/05/340879431_148515614589249_9157111285139196440_n.jpg
ORGANIZER;CN="Downtown Toms River BID":MAILTO:info@downtowntomsriver.com
END:VEVENT
BEGIN:VEVENT
DTSTART;TZID=America/New_York:20230922T170000
DTEND;TZID=America/New_York:20230922T210000
DTSTAMP:20260423T113324
CREATED:20230505T190541Z
LAST-MODIFIED:20230505T190933Z
UID:10000812-1695402000-1695416400@downtowntomsriver.com
SUMMARY:Downtown Night Out
DESCRIPTION:Enjoy outdoor dining with the Downtown Districts restaurants\, distillery\, brewery and small businesses!
URL:https://downtowntomsriver.com/event/downtown-night-out-4/2023-09-22/
LOCATION:Washington Street\, Toms River NJ\, 33 Washington St.\, Toms River\, 08753\, United States
CATEGORIES:Downtown Toms River Events
ATTACH;FMTTYPE=image/jpeg:https://downtowntomsriver.com/wp-content/uploads/2023/05/340879431_148515614589249_9157111285139196440_n.jpg
ORGANIZER;CN="Downtown Toms River BID":MAILTO:info@downtowntomsriver.com
END:VEVENT
BEGIN:VEVENT
DTSTART;TZID=America/New_York:20230916T170000
DTEND;TZID=America/New_York:20230916T210000
DTSTAMP:20260423T113324
CREATED:20230505T190541Z
LAST-MODIFIED:20230505T190933Z
UID:10000811-1694883600-1694898000@downtowntomsriver.com
SUMMARY:Downtown Night Out
DESCRIPTION:Enjoy outdoor dining with the Downtown Districts restaurants\, distillery\, brewery and small businesses!
URL:https://downtowntomsriver.com/event/downtown-night-out-4/2023-09-16/
LOCATION:Washington Street\, Toms River NJ\, 33 Washington St.\, Toms River\, 08753\, United States
CATEGORIES:Downtown Toms River Events
ATTACH;FMTTYPE=image/jpeg:https://downtowntomsriver.com/wp-content/uploads/2023/05/340879431_148515614589249_9157111285139196440_n.jpg
ORGANIZER;CN="Downtown Toms River BID":MAILTO:info@downtowntomsriver.com
END:VEVENT
BEGIN:VEVENT
DTSTART;TZID=America/New_York:20230916T120000
DTEND;TZID=America/New_York:20230916T180000
DTSTAMP:20260423T113324
CREATED:20230831T140555Z
LAST-MODIFIED:20230831T142555Z
UID:10000911-1694865600-1694887200@downtowntomsriver.com
SUMMARY:Comfort Food Festival
DESCRIPTION:Join The Downtown Toms River Business Improvement District for our Comfort Food Festival on Washington Street! In addition to the amazing food\, the street will be filled with merchandise vendors\, free kids activities\, live entertainment and a beer & wine garden provided by Toms River Volunteer Fire Co. #1. Local businesses\, restaurants\, brewery and distillery open on the street.\nFree Admission & Free Parking in downtown during the event.
URL:https://downtowntomsriver.com/event/comfort-food-festival-2/
LOCATION:Washington Street\, Toms River NJ\, 33 Washington St.\, Toms River\, 08753\, United States
CATEGORIES:Downtown Toms River Events,Entertainment
ATTACH;FMTTYPE=image/png:https://downtowntomsriver.com/wp-content/uploads/2023/08/COMFORT-FOOD-FEST.png
ORGANIZER;CN="Downtown Toms River BID":MAILTO:info@downtowntomsriver.com
END:VEVENT
BEGIN:VEVENT
DTSTART;TZID=America/New_York:20230915T170000
DTEND;TZID=America/New_York:20230915T210000
DTSTAMP:20260423T113324
CREATED:20230505T190541Z
LAST-MODIFIED:20230505T190933Z
UID:10000810-1694797200-1694811600@downtowntomsriver.com
SUMMARY:Downtown Night Out
DESCRIPTION:Enjoy outdoor dining with the Downtown Districts restaurants\, distillery\, brewery and small businesses!
URL:https://downtowntomsriver.com/event/downtown-night-out-4/2023-09-15/
LOCATION:Washington Street\, Toms River NJ\, 33 Washington St.\, Toms River\, 08753\, United States
CATEGORIES:Downtown Toms River Events
ATTACH;FMTTYPE=image/jpeg:https://downtowntomsriver.com/wp-content/uploads/2023/05/340879431_148515614589249_9157111285139196440_n.jpg
ORGANIZER;CN="Downtown Toms River BID":MAILTO:info@downtowntomsriver.com
END:VEVENT
BEGIN:VEVENT
DTSTART;TZID=America/New_York:20230909T170000
DTEND;TZID=America/New_York:20230909T210000
DTSTAMP:20260423T113324
CREATED:20230505T190541Z
LAST-MODIFIED:20230505T190933Z
UID:10000809-1694278800-1694293200@downtowntomsriver.com
SUMMARY:Downtown Night Out
DESCRIPTION:Enjoy outdoor dining with the Downtown Districts restaurants\, distillery\, brewery and small businesses!
URL:https://downtowntomsriver.com/event/downtown-night-out-4/2023-09-09/
LOCATION:Washington Street\, Toms River NJ\, 33 Washington St.\, Toms River\, 08753\, United States
CATEGORIES:Downtown Toms River Events
ATTACH;FMTTYPE=image/jpeg:https://downtowntomsriver.com/wp-content/uploads/2023/05/340879431_148515614589249_9157111285139196440_n.jpg
ORGANIZER;CN="Downtown Toms River BID":MAILTO:info@downtowntomsriver.com
END:VEVENT
BEGIN:VEVENT
DTSTART;TZID=America/New_York:20230908T170000
DTEND;TZID=America/New_York:20230908T210000
DTSTAMP:20260423T113324
CREATED:20230505T190541Z
LAST-MODIFIED:20230505T190933Z
UID:10000808-1694192400-1694206800@downtowntomsriver.com
SUMMARY:Downtown Night Out
DESCRIPTION:Enjoy outdoor dining with the Downtown Districts restaurants\, distillery\, brewery and small businesses!
URL:https://downtowntomsriver.com/event/downtown-night-out-4/2023-09-08/
LOCATION:Washington Street\, Toms River NJ\, 33 Washington St.\, Toms River\, 08753\, United States
CATEGORIES:Downtown Toms River Events
ATTACH;FMTTYPE=image/jpeg:https://downtowntomsriver.com/wp-content/uploads/2023/05/340879431_148515614589249_9157111285139196440_n.jpg
ORGANIZER;CN="Downtown Toms River BID":MAILTO:info@downtowntomsriver.com
END:VEVENT
BEGIN:VEVENT
DTSTART;TZID=America/New_York:20230902T170000
DTEND;TZID=America/New_York:20230902T210000
DTSTAMP:20260423T113324
CREATED:20230505T190541Z
LAST-MODIFIED:20230505T190933Z
UID:10000807-1693674000-1693688400@downtowntomsriver.com
SUMMARY:Downtown Night Out
DESCRIPTION:Enjoy outdoor dining with the Downtown Districts restaurants\, distillery\, brewery and small businesses!
URL:https://downtowntomsriver.com/event/downtown-night-out-4/2023-09-02/
LOCATION:Washington Street\, Toms River NJ\, 33 Washington St.\, Toms River\, 08753\, United States
CATEGORIES:Downtown Toms River Events
ATTACH;FMTTYPE=image/jpeg:https://downtowntomsriver.com/wp-content/uploads/2023/05/340879431_148515614589249_9157111285139196440_n.jpg
ORGANIZER;CN="Downtown Toms River BID":MAILTO:info@downtowntomsriver.com
END:VEVENT
BEGIN:VEVENT
DTSTART;TZID=America/New_York:20230901T170000
DTEND;TZID=America/New_York:20230901T210000
DTSTAMP:20260423T113324
CREATED:20230505T190541Z
LAST-MODIFIED:20230505T190933Z
UID:10000806-1693587600-1693602000@downtowntomsriver.com
SUMMARY:Downtown Night Out
DESCRIPTION:Enjoy outdoor dining with the Downtown Districts restaurants\, distillery\, brewery and small businesses!
URL:https://downtowntomsriver.com/event/downtown-night-out-4/2023-09-01/
LOCATION:Washington Street\, Toms River NJ\, 33 Washington St.\, Toms River\, 08753\, United States
CATEGORIES:Downtown Toms River Events
ATTACH;FMTTYPE=image/jpeg:https://downtowntomsriver.com/wp-content/uploads/2023/05/340879431_148515614589249_9157111285139196440_n.jpg
ORGANIZER;CN="Downtown Toms River BID":MAILTO:info@downtowntomsriver.com
END:VEVENT
BEGIN:VEVENT
DTSTART;TZID=America/New_York:20230826T170000
DTEND;TZID=America/New_York:20230826T210000
DTSTAMP:20260423T113324
CREATED:20230505T190541Z
LAST-MODIFIED:20230505T190933Z
UID:10000805-1693069200-1693083600@downtowntomsriver.com
SUMMARY:Downtown Night Out
DESCRIPTION:Enjoy outdoor dining with the Downtown Districts restaurants\, distillery\, brewery and small businesses!
URL:https://downtowntomsriver.com/event/downtown-night-out-4/2023-08-26/
LOCATION:Washington Street\, Toms River NJ\, 33 Washington St.\, Toms River\, 08753\, United States
CATEGORIES:Downtown Toms River Events
ATTACH;FMTTYPE=image/jpeg:https://downtowntomsriver.com/wp-content/uploads/2023/05/340879431_148515614589249_9157111285139196440_n.jpg
ORGANIZER;CN="Downtown Toms River BID":MAILTO:info@downtowntomsriver.com
END:VEVENT
BEGIN:VEVENT
DTSTART;TZID=America/New_York:20230825T170000
DTEND;TZID=America/New_York:20230825T210000
DTSTAMP:20260423T113324
CREATED:20230505T190541Z
LAST-MODIFIED:20230505T190933Z
UID:10000804-1692982800-1692997200@downtowntomsriver.com
SUMMARY:Downtown Night Out
DESCRIPTION:Enjoy outdoor dining with the Downtown Districts restaurants\, distillery\, brewery and small businesses!
URL:https://downtowntomsriver.com/event/downtown-night-out-4/2023-08-25/
LOCATION:Washington Street\, Toms River NJ\, 33 Washington St.\, Toms River\, 08753\, United States
CATEGORIES:Downtown Toms River Events
ATTACH;FMTTYPE=image/jpeg:https://downtowntomsriver.com/wp-content/uploads/2023/05/340879431_148515614589249_9157111285139196440_n.jpg
ORGANIZER;CN="Downtown Toms River BID":MAILTO:info@downtowntomsriver.com
END:VEVENT
BEGIN:VEVENT
DTSTART;TZID=America/New_York:20230819T170000
DTEND;TZID=America/New_York:20230819T210000
DTSTAMP:20260423T113324
CREATED:20230505T190541Z
LAST-MODIFIED:20230505T190933Z
UID:10000803-1692464400-1692478800@downtowntomsriver.com
SUMMARY:Downtown Night Out
DESCRIPTION:Enjoy outdoor dining with the Downtown Districts restaurants\, distillery\, brewery and small businesses!
URL:https://downtowntomsriver.com/event/downtown-night-out-4/2023-08-19/
LOCATION:Washington Street\, Toms River NJ\, 33 Washington St.\, Toms River\, 08753\, United States
CATEGORIES:Downtown Toms River Events
ATTACH;FMTTYPE=image/jpeg:https://downtowntomsriver.com/wp-content/uploads/2023/05/340879431_148515614589249_9157111285139196440_n.jpg
ORGANIZER;CN="Downtown Toms River BID":MAILTO:info@downtowntomsriver.com
END:VEVENT
BEGIN:VEVENT
DTSTART;TZID=America/New_York:20230818T170000
DTEND;TZID=America/New_York:20230818T210000
DTSTAMP:20260423T113324
CREATED:20230505T190541Z
LAST-MODIFIED:20230505T190933Z
UID:10000802-1692378000-1692392400@downtowntomsriver.com
SUMMARY:Downtown Night Out
DESCRIPTION:Enjoy outdoor dining with the Downtown Districts restaurants\, distillery\, brewery and small businesses!
URL:https://downtowntomsriver.com/event/downtown-night-out-4/2023-08-18/
LOCATION:Washington Street\, Toms River NJ\, 33 Washington St.\, Toms River\, 08753\, United States
CATEGORIES:Downtown Toms River Events
ATTACH;FMTTYPE=image/jpeg:https://downtowntomsriver.com/wp-content/uploads/2023/05/340879431_148515614589249_9157111285139196440_n.jpg
ORGANIZER;CN="Downtown Toms River BID":MAILTO:info@downtowntomsriver.com
END:VEVENT
BEGIN:VEVENT
DTSTART;TZID=America/New_York:20230812T170000
DTEND;TZID=America/New_York:20230812T210000
DTSTAMP:20260423T113324
CREATED:20230505T190541Z
LAST-MODIFIED:20230505T190933Z
UID:10000801-1691859600-1691874000@downtowntomsriver.com
SUMMARY:Downtown Night Out
DESCRIPTION:Enjoy outdoor dining with the Downtown Districts restaurants\, distillery\, brewery and small businesses!
URL:https://downtowntomsriver.com/event/downtown-night-out-4/2023-08-12/
LOCATION:Washington Street\, Toms River NJ\, 33 Washington St.\, Toms River\, 08753\, United States
CATEGORIES:Downtown Toms River Events
ATTACH;FMTTYPE=image/jpeg:https://downtowntomsriver.com/wp-content/uploads/2023/05/340879431_148515614589249_9157111285139196440_n.jpg
ORGANIZER;CN="Downtown Toms River BID":MAILTO:info@downtowntomsriver.com
END:VEVENT
END:VCALENDAR