BEGIN:VCALENDAR
VERSION:2.0
PRODID:-// - ECPv6.15.15//NONSGML v1.0//EN
CALSCALE:GREGORIAN
METHOD:PUBLISH
X-ORIGINAL-URL:https://downtowntomsriver.com
X-WR-CALDESC:Events for 
REFRESH-INTERVAL;VALUE=DURATION:PT1H
X-Robots-Tag:noindex
X-PUBLISHED-TTL:PT1H
BEGIN:VTIMEZONE
TZID:America/New_York
BEGIN:DAYLIGHT
TZOFFSETFROM:-0500
TZOFFSETTO:-0400
TZNAME:EDT
DTSTART:20240310T070000
END:DAYLIGHT
BEGIN:STANDARD
TZOFFSETFROM:-0400
TZOFFSETTO:-0500
TZNAME:EST
DTSTART:20241103T060000
END:STANDARD
BEGIN:DAYLIGHT
TZOFFSETFROM:-0500
TZOFFSETTO:-0400
TZNAME:EDT
DTSTART:20250309T070000
END:DAYLIGHT
BEGIN:STANDARD
TZOFFSETFROM:-0400
TZOFFSETTO:-0500
TZNAME:EST
DTSTART:20251102T060000
END:STANDARD
BEGIN:DAYLIGHT
TZOFFSETFROM:-0500
TZOFFSETTO:-0400
TZNAME:EDT
DTSTART:20260308T070000
END:DAYLIGHT
BEGIN:STANDARD
TZOFFSETFROM:-0400
TZOFFSETTO:-0500
TZNAME:EST
DTSTART:20261101T060000
END:STANDARD
END:VTIMEZONE
BEGIN:VEVENT
DTSTART;TZID=America/New_York:20250528T100000
DTEND;TZID=America/New_York:20250528T140000
DTSTAMP:20260423T110445
CREATED:20250501T163440Z
LAST-MODIFIED:20250501T163703Z
UID:10004285-1748426400-1748440800@downtowntomsriver.com
SUMMARY:Greater Toms River Chamber of Commerce: Women's Wellness Day - May 28th\, 2025
DESCRIPTION:GTRCC Hosts a day of wellness and revitalization with Body Soul Being and Ageless Aesthetics – \n  \nRegistration Ticket – $75 – Register now\, while spots last! – \nIncludes Mat Pilates Session\, Sound Bath\, Revive and Renew Hand Treatment\, Lunch\, Goodie Bag- \n*One Add-on Service Per Attendee* – \nGTRCC-\nName: Colleen Smith –\nPhone: (732) 349-0220 ext. 1 –\nEmail: colleen@tomsriverchamber.com – \n1 Pelican Dr #2 | Bayville \n  \nREGISTRATION LINK: members.tomsriverchamber.com/ap/Events/Register/WqFzGnZfaCJCE?fbclid=IwZXh0bgNhZW0CMTEAAR6gvLWKtraNxHqluPwar-te5A3drbBNrN7NBEQk4vq5E52IBK3bWilcaD6-WQ_aem_hadmfjFvDoMDS8UJrg5z1A
URL:https://downtowntomsriver.com/event/greater-toms-river-chamber-of-commerce-womens-wellness-day-may-28th-2025/
ATTACH;FMTTYPE=image/webp:https://downtowntomsriver.com/wp-content/uploads/2025/05/Women-In-Leadership-Wellness-Day-2025-4.webp
ORGANIZER;CN="Colleen Smith":MAILTO:colleen@tomsriverchamber.com
END:VEVENT
END:VCALENDAR