BEGIN:VCALENDAR
VERSION:2.0
PRODID:-// - ECPv6.15.15//NONSGML v1.0//EN
CALSCALE:GREGORIAN
METHOD:PUBLISH
X-ORIGINAL-URL:https://downtowntomsriver.com
X-WR-CALDESC:Events for 
REFRESH-INTERVAL;VALUE=DURATION:PT1H
X-Robots-Tag:noindex
X-PUBLISHED-TTL:PT1H
BEGIN:VTIMEZONE
TZID:America/New_York
BEGIN:DAYLIGHT
TZOFFSETFROM:-0500
TZOFFSETTO:-0400
TZNAME:EDT
DTSTART:20230312T070000
END:DAYLIGHT
BEGIN:STANDARD
TZOFFSETFROM:-0400
TZOFFSETTO:-0500
TZNAME:EST
DTSTART:20231105T060000
END:STANDARD
BEGIN:DAYLIGHT
TZOFFSETFROM:-0500
TZOFFSETTO:-0400
TZNAME:EDT
DTSTART:20240310T070000
END:DAYLIGHT
BEGIN:STANDARD
TZOFFSETFROM:-0400
TZOFFSETTO:-0500
TZNAME:EST
DTSTART:20241103T060000
END:STANDARD
BEGIN:DAYLIGHT
TZOFFSETFROM:-0500
TZOFFSETTO:-0400
TZNAME:EDT
DTSTART:20250309T070000
END:DAYLIGHT
BEGIN:STANDARD
TZOFFSETFROM:-0400
TZOFFSETTO:-0500
TZNAME:EST
DTSTART:20251102T060000
END:STANDARD
END:VTIMEZONE
BEGIN:VEVENT
DTSTART;TZID=America/New_York:20241026T130000
DTEND;TZID=America/New_York:20241026T150000
DTSTAMP:20260423T113333
CREATED:20241008T154119Z
LAST-MODIFIED:20241008T154119Z
UID:10003937-1729947600-1729954800@downtowntomsriver.com
SUMMARY:Trunk or Treat at Aqua-Tots Swim School
DESCRIPTION:🎃 Join us for a spooktacular Trunk or Treat event at Aqua-Tots Swim School! 🎃 \n  \n🗓 Date: Saturday\, October 26 \n⏰ Time: 1:00 PM – 3:00 PM \n📍 Location: Aqua-Tots Swim School\, Toms River \n  \nBring the whole family for a fun afternoon of trick-or-treating from creatively decorated trunks and vehicles! Wear your costumes\, collect candy\, and enjoy some Halloween fun in a safe and festive environment. \n  \nIf you’d like to participate by decorating your trunk or vehicle\, please email us at tomsriverinfo@aqua-tots.com to reserve your spot! \n  \nWe can’t wait to celebrate with you!
URL:https://downtowntomsriver.com/event/trunk-or-treat-at-aqua-tots-swim-school/
LOCATION:Aqua-Tots Swim School\, 1358 Hooper Avenue\, Toms River\, NJ\, 08753\, United States
CATEGORIES:Entertainment,Kids
ORGANIZER;CN="Aqua-Tots Swim School Toms River":MAILTO:tomsriverinfo@aqua-tots.com
END:VEVENT
BEGIN:VEVENT
DTSTART;TZID=America/New_York:20240330T140000
DTEND;TZID=America/New_York:20240330T160000
DTSTAMP:20260423T113333
CREATED:20240313T142144Z
LAST-MODIFIED:20240313T142144Z
UID:10002045-1711807200-1711814400@downtowntomsriver.com
SUMMARY:Open Swim & Egg Hunt/Activities at Aqua-Tots Swim Schools
DESCRIPTION:Join us for an exciting Easter Egg Hunt at Aqua-Tots Swim School Toms River on March 30th from 2-4pm! Dive into fun with a lineup that promises a splashing good time for everyone.\n\nFrom 2-3pm\, jump into Open Swim\, where parents MUST join their little ones in the water for some aquatic adventures. Then\, from 3-4pm\, get ready for the main event: our Egg Hunt! Kids can search high and low for eggs. Every participant will receive a treat bag to take home. BRING YOUR OWN BASKET\n\nBut the fun doesn’t stop there! We’ll also have coloring pages\, games\, snacks\, small crafts\, and even a raffle with exciting prizes. It’s an afternoon packed with entertainment for the whole family.\n\nThe cost is just $10 per child\, and spots are limited\, so be sure to secure your place by registering. You can sign up by calling (732) 917-4743 or simply stopping by the front desk. Don’t miss out on this egg-citing event!
URL:https://downtowntomsriver.com/event/open-swim-egg-hunt-activities-at-aqua-tots-swim-schools/
LOCATION:Aqua-Tots Swim School\, 1358 Hooper Avenue\, Toms River\, NJ\, 08753\, United States
CATEGORIES:Kids
ATTACH;FMTTYPE=image/png:https://downtowntomsriver.com/wp-content/uploads/2024/03/TR-Easter_Egg-Hunt_Flyer_8.5x11.png
ORGANIZER;CN="Aqua-Tots Swim School Toms River":MAILTO:tomsriverinfo@aqua-tots.com
END:VEVENT
END:VCALENDAR