BEGIN:VCALENDAR
VERSION:2.0
PRODID:-// - ECPv6.15.15//NONSGML v1.0//EN
CALSCALE:GREGORIAN
METHOD:PUBLISH
X-ORIGINAL-URL:https://downtowntomsriver.com
X-WR-CALDESC:Events for 
REFRESH-INTERVAL;VALUE=DURATION:PT1H
X-Robots-Tag:noindex
X-PUBLISHED-TTL:PT1H
BEGIN:VTIMEZONE
TZID:America/New_York
BEGIN:DAYLIGHT
TZOFFSETFROM:-0500
TZOFFSETTO:-0400
TZNAME:EDT
DTSTART:20240310T070000
END:DAYLIGHT
BEGIN:STANDARD
TZOFFSETFROM:-0400
TZOFFSETTO:-0500
TZNAME:EST
DTSTART:20241103T060000
END:STANDARD
BEGIN:DAYLIGHT
TZOFFSETFROM:-0500
TZOFFSETTO:-0400
TZNAME:EDT
DTSTART:20250309T070000
END:DAYLIGHT
BEGIN:STANDARD
TZOFFSETFROM:-0400
TZOFFSETTO:-0500
TZNAME:EST
DTSTART:20251102T060000
END:STANDARD
BEGIN:DAYLIGHT
TZOFFSETFROM:-0500
TZOFFSETTO:-0400
TZNAME:EDT
DTSTART:20260308T070000
END:DAYLIGHT
BEGIN:STANDARD
TZOFFSETFROM:-0400
TZOFFSETTO:-0500
TZNAME:EST
DTSTART:20261101T060000
END:STANDARD
END:VTIMEZONE
BEGIN:VEVENT
DTSTART;TZID=America/New_York:20250702T183000
DTEND;TZID=America/New_York:20250702T200000
DTSTAMP:20260423T194537
CREATED:20250529T192857Z
LAST-MODIFIED:20250529T200137Z
UID:10004714-1751481000-1751486400@downtowntomsriver.com
SUMMARY:Ice Cream Social and Magic Show is so Funny by Ron Owens @ The Mathis House
DESCRIPTION:Bring the family for a night of ice cream\, entertainment and fun. This family event will include a ice cream sundae building buffet with yummy candies\, cupcakes\, and mini scones. While eating the night away\, the kids will laugh and smile as a magician\, Mr. Ron Owens\, puts on a magic show.\nTickets are $20 for adults and $10 for children. Call 732-818-7580 for more information or visit www.mathishouse600main.com to buy online.\nWe hope to see you there and keep family traditions alive in small downtown USA on Main Street.
URL:https://downtowntomsriver.com/event/ice-cream-social-and-magic-show-is-so-funny-by-ron-owens/
LOCATION:The Mathis House at 600 Main\, 600 Main St.\, Toms River\, NJ\, 08753\, United States
CATEGORIES:Downtown Toms River Events,Kids
ATTACH;FMTTYPE=image/png:https://downtowntomsriver.com/wp-content/uploads/2025/05/Logo-Mathis-House.png
ORGANIZER;CN="WWW.mathishouse600main.com":MAILTO:vweiss@mathishouse600main.com
END:VEVENT
BEGIN:VEVENT
DTSTART;TZID=America/New_York:20250728T183000
DTEND;TZID=America/New_York:20250728T200000
DTSTAMP:20260423T194537
CREATED:20250807T180525Z
LAST-MODIFIED:20250807T180525Z
UID:10005546-1753727400-1753732800@downtowntomsriver.com
SUMMARY:Princess Tea with Cinderella
DESCRIPTION:Bring your little princess to join the Princess Cindy for a special tea time at the Historic Mathis House Victorian Tea Room. The tea time includes an appearance from our Princess that will sing songs\, read a story and take pictures with your children.\nEnjoy warm scones with clotted cream and homemade cupcakes with cold and hot tea. The mansion is perfectly decorated and a place that brings smiles and memories.\nTickets are $20 for adults and $10 for children. Please call 732-818-7580 for more information or visit www.mathishouse600main.com to buy direct online.\nLocated at 600 Main Street in Downtown Toms River. Parking located directly behind the Inn. Please no early birds. Feel free to come dressed in your princess outfits and bring your camera.
URL:https://downtowntomsriver.com/event/princess-tea-with-cinderella/
LOCATION:The Mathis House at 600 Main\, 600 Main St.\, Toms River\, NJ\, 08753\, United States
CATEGORIES:Arts & Crafts,Downtown Toms River Events,Entertainment,Kids
ATTACH;FMTTYPE=image/jpeg:https://downtowntomsriver.com/wp-content/uploads/2025/07/Princess-tea-w-cinderella.jpg
ORGANIZER;CN="WWW.mathishouse600main.com":MAILTO:vweiss@mathishouse600main.com
END:VEVENT
END:VCALENDAR