BEGIN:VCALENDAR
VERSION:2.0
PRODID:-// - ECPv6.15.15//NONSGML v1.0//EN
CALSCALE:GREGORIAN
METHOD:PUBLISH
X-ORIGINAL-URL:https://downtowntomsriver.com
X-WR-CALDESC:Events for 
REFRESH-INTERVAL;VALUE=DURATION:PT1H
X-Robots-Tag:noindex
X-PUBLISHED-TTL:PT1H
BEGIN:VTIMEZONE
TZID:America/New_York
BEGIN:DAYLIGHT
TZOFFSETFROM:-0500
TZOFFSETTO:-0400
TZNAME:EDT
DTSTART:20250309T070000
END:DAYLIGHT
BEGIN:STANDARD
TZOFFSETFROM:-0400
TZOFFSETTO:-0500
TZNAME:EST
DTSTART:20251102T060000
END:STANDARD
BEGIN:DAYLIGHT
TZOFFSETFROM:-0500
TZOFFSETTO:-0400
TZNAME:EDT
DTSTART:20260308T070000
END:DAYLIGHT
BEGIN:STANDARD
TZOFFSETFROM:-0400
TZOFFSETTO:-0500
TZNAME:EST
DTSTART:20261101T060000
END:STANDARD
BEGIN:DAYLIGHT
TZOFFSETFROM:-0500
TZOFFSETTO:-0400
TZNAME:EDT
DTSTART:20270314T070000
END:DAYLIGHT
BEGIN:STANDARD
TZOFFSETFROM:-0400
TZOFFSETTO:-0500
TZNAME:EST
DTSTART:20271107T060000
END:STANDARD
END:VTIMEZONE
BEGIN:VEVENT
DTSTART;TZID=America/New_York:20260611T180000
DTEND;TZID=America/New_York:20260611T200000
DTSTAMP:20260423T072921
CREATED:20250529T182000Z
LAST-MODIFIED:20250529T182117Z
UID:10004346-1781200800-1781208000@downtowntomsriver.com
SUMMARY:Sketchbookers Club 2nd Thursday Every Month @ TRAC
DESCRIPTION:
URL:https://downtowntomsriver.com/event/sketchbookers-club-2nd-thursday-every-month-trac/2026-06-11/
LOCATION:NJ
END:VEVENT
BEGIN:VEVENT
DTSTART;TZID=America/New_York:20260617T100000
DTEND;TZID=America/New_York:20260617T150000
DTSTAMP:20260423T072921
CREATED:20260417T151552Z
LAST-MODIFIED:20260417T151552Z
UID:10007482-1781690400-1781708400@downtowntomsriver.com
SUMMARY:Downtown Farmer's Market 2026
DESCRIPTION:Returning for a fresh new season\, with fresh produce! See some of your old favorites and find something new at this years’ Farmers’ Market located between the municipal courtyard by Ocean County Library and Town Hall \nThis isn’t junk-mail–It’s NJ certified\, fresh and local! \n 
URL:https://downtowntomsriver.com/event/downtown-farmers-market-2026/2026-06-17/
LOCATION:33 Washington St. Toms River NJ\, 33 Washington St\, Toms River\, NJ\, 08753\, United States
CATEGORIES:Arts & Cluture,Arts & Crafts,Downtown Toms River Events,Entertainment,Kids,Ocean County Library,Other,Sweets and Treats
ATTACH;FMTTYPE=image/png:https://downtowntomsriver.com/wp-content/uploads/2026/04/Farmers-Market-2026.png
ORGANIZER;CN="Downtown Toms River BID":MAILTO:info@downtowntomsriver.com
END:VEVENT
BEGIN:VEVENT
DTSTART;TZID=America/New_York:20260620T200000
DTEND;TZID=America/New_York:20260620T230000
DTSTAMP:20260423T072921
CREATED:20260323T135542Z
LAST-MODIFIED:20260323T135542Z
UID:10007477-1781985600-1781996400@downtowntomsriver.com
SUMMARY:Eaglemania - Tribute To The Eagles - Toms River
DESCRIPTION:Welcome to a night of timeless rock with Eaglemania – Tribute To The Eagles\, lighting up the Main Stage At Jay and Linda Grunin Center for the Arts in Toms River—one of the area’s go-to spots for live entertainment. Eaglemania – Tribute To The Eagles – Toms River Main Stage At Jay and Linda Grunin Center for the Arts brings the songs you know by heart to a stage that feels like home. \nThis show stands out for its spot-on harmonies\, faithful guitar tones\, and the way each classic is performed with real care for the original arrangements—no shortcuts\, just pure Eagles spirit. \nSettle into a comfortable\, pro-sound venue with great sightlines and an easy-to-navigate layout\, making it a relaxed night out from start to finish. \nMake plans now and grab your seats for Eaglemania – Tribute To The Eagles – Toms River—come sing along and make it a Saturday to remember\,
URL:https://downtowntomsriver.com/event/eaglemania-tribute-to-the-eagles-toms-river/
LOCATION:Main Stage At Jay and Linda Grunin Center for the Arts\, 1 College Dr\, Toms River\, NJ\, 08753\, United States
CATEGORIES:Live Music
ATTACH;FMTTYPE=image/jpeg:https://downtowntomsriver.com/wp-content/uploads/2026/03/Eaglemania-Tribute-To-The-Eagles-Toms-River.jpg
END:VEVENT
BEGIN:VEVENT
DTSTART;TZID=America/New_York:20260624T100000
DTEND;TZID=America/New_York:20260624T150000
DTSTAMP:20260423T072921
CREATED:20260417T151552Z
LAST-MODIFIED:20260417T151552Z
UID:10007483-1782295200-1782313200@downtowntomsriver.com
SUMMARY:Downtown Farmer's Market 2026
DESCRIPTION:Returning for a fresh new season\, with fresh produce! See some of your old favorites and find something new at this years’ Farmers’ Market located between the municipal courtyard by Ocean County Library and Town Hall \nThis isn’t junk-mail–It’s NJ certified\, fresh and local! \n 
URL:https://downtowntomsriver.com/event/downtown-farmers-market-2026/2026-06-24/
LOCATION:33 Washington St. Toms River NJ\, 33 Washington St\, Toms River\, NJ\, 08753\, United States
CATEGORIES:Arts & Cluture,Arts & Crafts,Downtown Toms River Events,Entertainment,Kids,Ocean County Library,Other,Sweets and Treats
ATTACH;FMTTYPE=image/png:https://downtowntomsriver.com/wp-content/uploads/2026/04/Farmers-Market-2026.png
ORGANIZER;CN="Downtown Toms River BID":MAILTO:info@downtowntomsriver.com
END:VEVENT
END:VCALENDAR