BEGIN:VCALENDAR
VERSION:2.0
PRODID:-// - ECPv6.15.15//NONSGML v1.0//EN
CALSCALE:GREGORIAN
METHOD:PUBLISH
X-ORIGINAL-URL:https://downtowntomsriver.com
X-WR-CALDESC:Events for 
REFRESH-INTERVAL;VALUE=DURATION:PT1H
X-Robots-Tag:noindex
X-PUBLISHED-TTL:PT1H
BEGIN:VTIMEZONE
TZID:America/New_York
BEGIN:DAYLIGHT
TZOFFSETFROM:-0500
TZOFFSETTO:-0400
TZNAME:EDT
DTSTART:20240310T070000
END:DAYLIGHT
BEGIN:STANDARD
TZOFFSETFROM:-0400
TZOFFSETTO:-0500
TZNAME:EST
DTSTART:20241103T060000
END:STANDARD
BEGIN:DAYLIGHT
TZOFFSETFROM:-0500
TZOFFSETTO:-0400
TZNAME:EDT
DTSTART:20250309T070000
END:DAYLIGHT
BEGIN:STANDARD
TZOFFSETFROM:-0400
TZOFFSETTO:-0500
TZNAME:EST
DTSTART:20251102T060000
END:STANDARD
BEGIN:DAYLIGHT
TZOFFSETFROM:-0500
TZOFFSETTO:-0400
TZNAME:EDT
DTSTART:20260308T070000
END:DAYLIGHT
BEGIN:STANDARD
TZOFFSETFROM:-0400
TZOFFSETTO:-0500
TZNAME:EST
DTSTART:20261101T060000
END:STANDARD
END:VTIMEZONE
BEGIN:VEVENT
DTSTART;TZID=America/New_York:20250404T180000
DTEND;TZID=America/New_York:20250404T220000
DTSTAMP:20260423T231455
CREATED:20250404T135754Z
LAST-MODIFIED:20250404T140112Z
UID:10004207-1743789600-1743804000@downtowntomsriver.com
SUMMARY:Meet the Artists of White Lotus Tattoo: Hosted by Garden State Distillery
DESCRIPTION:
URL:https://downtowntomsriver.com/event/meet-the-artists-of-white-lotus-tattoo-hosted-by-garden-state-distillery/
LOCATION:NJ
ATTACH;FMTTYPE=image/jpeg:https://downtowntomsriver.com/wp-content/uploads/2025/04/White-Lotus-at-Garden-State-Distillery.jpg
END:VEVENT
BEGIN:VEVENT
DTSTART;TZID=America/New_York:20250405T190000
DTEND;TZID=America/New_York:20250405T203000
DTSTAMP:20260423T231455
CREATED:20250324T123943Z
LAST-MODIFIED:20250324T123943Z
UID:10004201-1743879600-1743885000@downtowntomsriver.com
SUMMARY:Aura Energy Workshop
DESCRIPTION:All living beings are made of and emit energy\, an aura\, that can be seen\, felt\, and read to gain a better understanding of that being. During this workshop\, you will learn how the energetic system works and how to see\, feel and read the aura through discussion and practical exercises.\nCome to this workshop prepared to ask questions and participate in the exercises with the group. Bring with you an open mind and a desire to have fun with the process. See you there!\nWorkshop is $30 per person – RSVPs are appreciated for planning purposes.
URL:https://downtowntomsriver.com/event/aura-energy-workshop-2/
LOCATION:Trinity’s Magickal Intentions\, 40 Main St\, Toms River\, NJ\, 08753\, United States
ORGANIZER;CN="Trinity's Magickal Intentions LLC":MAILTO:shibliano@yahoo.com
END:VEVENT
BEGIN:VEVENT
DTSTART;TZID=America/New_York:20250412T120000
DTEND;TZID=America/New_York:20250412T160000
DTSTAMP:20260423T231455
CREATED:20250106T134550Z
LAST-MODIFIED:20250106T134550Z
UID:10004157-1744459200-1744473600@downtowntomsriver.com
SUMMARY:Psychic Readings at TMI
DESCRIPTION:Join us on Psychic Saturday for readings with psychic intuitive\, Sharon O’Brien (at 40 Main St) in Downtown Toms River!\nSharon was born into a family of intuitives and mediums. She got her first Tarot deck at 15 and has been reading ever since. Through the years she has added other tools to her belt and tailors each session to the individual. She has a strong connection with Spirit and Nature\, bringing balance to her sessions. Her hope is that you walk away inspired and feeling lighter.\nSharon is best known for Tarot and Lenormand card readings\, Celtic readings (ogham) and pet readings (you can bring a picture of the pet or an item of theirs). She also uses intuition and connects to Spirit. She is a Reiki Master Teacher and a board certified Holistic Health and Life Coach. Sharon was a co-founder and Elder in The Song of Avalon Grove until it closed in 2017. She is an ordained minister\, teaches various workshops and classes\, as well as providing Spiritual Guidance and coaching.\n15min for $2530min for $50\nWalk-ins welcome\, or you can claim your spot here –https://www.signupgenius.com/go/4090D48A4AC2CA4FE3-psychic#/\nPsychic readings must be considered as entertainment. Any health or medical advice should always be checked out by a licensed medical practitioner.
URL:https://downtowntomsriver.com/event/psychic-readings-at-tmi-5/2025-04-12/
LOCATION:Trinity’s Magickal Intentions\, 40 Main St\, Toms River\, NJ\, 08753\, United States
ATTACH;FMTTYPE=image/jpeg:https://downtowntomsriver.com/wp-content/uploads/2025/01/psychicsat-1.jpg
ORGANIZER;CN="Trinity's Magickal Intentions LLC":MAILTO:shibliano@yahoo.com
END:VEVENT
BEGIN:VEVENT
DTSTART;TZID=America/New_York:20250412T120000
DTEND;TZID=America/New_York:20250412T160000
DTSTAMP:20260423T231455
CREATED:20250214T182254Z
LAST-MODIFIED:20250214T182254Z
UID:10004189-1744459200-1744473600@downtowntomsriver.com
SUMMARY:🌸April Sip & Shop Vendor Market🌸
DESCRIPTION:This FREE Local Craft & Vendor Market is hosted by Jenn Zazzara\, Shore Crafted\, bringing together local makers\, artisans and small businesses. Enjoy an intimate setting and shop unique\, one-of-a-kind items while sipping craft drinks! \n🌸🥃 Sip & Shop Local Craft & Vendor Market 🥃🌸 \nKick off Spring with us! Celebrate local talent and creativity at our Sip & Shop Vendor Market! Stop by for a tarot reading + shop unique\, handcrafted goods perfect for the season! \nSip & Shop Vendor Market: Saturday\, April 12th | 12-4 pm \nat Garden State Distillery\, 13 Washington Street\, Toms River\, NJ  \nBring your besties for a day of shopping\, sipping and laughter! Come support local artisans and enjoy an afternoon out with family and friends. \nQuestions? Contact Jenn Zazzara at shorecraftednj@gmail.com \nFor more details please visit: April Sip & Shop | Facebook \nSupport local artisans\, discover unique treasures\, and enjoy the vibrant community spirit. Bring your friends and family for an afternoon of fun and shopping!
URL:https://downtowntomsriver.com/event/%f0%9f%8c%b8april-sip-shop-vendor-market%f0%9f%8c%b8/
LOCATION:Garden State Distillery\, 13 Washington Street\, Toms River\, 08753\, United States
CATEGORIES:Arts & Crafts,Downtown Toms River Events
ATTACH;FMTTYPE=image/png:https://downtowntomsriver.com/wp-content/uploads/2025/02/April-Flyer.png
ORGANIZER;CN="Jenn Zazzara%2C Shore Crafted":MAILTO:shorecraftednj@gmail.com
END:VEVENT
BEGIN:VEVENT
DTSTART;TZID=America/New_York:20250413T140000
DTEND;TZID=America/New_York:20250413T160000
DTSTAMP:20260423T231455
CREATED:20250211T161228Z
LAST-MODIFIED:20250410T140728Z
UID:10004187-1744552800-1744560000@downtowntomsriver.com
SUMMARY:The Intelligence Network in New Jersey during the Revolutionary War
DESCRIPTION:The Intelligence Network in New Jersey during the Revolutionary War \nPresented by Russ Dutcher \nOcean County Historical Society \nTime 2:00 PM \nSunday\, April 13\, 2025 \n  \nThe primary focus of this presentation and discussion by Russ Dutcher will be on the enhanced intelligence network that existed in New Jersey before\, during\, and after the Battles of Trenton and Princeton. A wide array of communications existed involving George Washington\, John Jay\, Alexander Hamilton\, Light Horse Harry Lee\, and William Livingston. \nRuss holds a BA and MA in history and is currently working on a PhD. He has been a practicing genealogist for over 38 years. He is also a member of the Sons of the American Revolution. \nThis event takes place at our museum at 26 Hadley Avenue in Toms River. Seating is limited so reserve your seat early by sending your name\, phone number\, zip code\, email address\, and the name and date of the program (April 13\, 2025) to: oceancountyhistory.programs@gmail.com \nAdmission is free; however\, donations are appreciated.
URL:https://downtowntomsriver.com/event/the-intelligence-network-in-new-jersey-during-the-revolutionary-war/
LOCATION:Ocean County Historical Society\, 26 Hadley Ave\, Toms River\, NJ\, 08753\, United States
ATTACH;FMTTYPE=image/png:https://downtowntomsriver.com/wp-content/uploads/2025/02/Capture-1.png
END:VEVENT
BEGIN:VEVENT
DTSTART;TZID=America/New_York:20250429T110000
DTEND;TZID=America/New_York:20250429T113000
DTSTAMP:20260423T231455
CREATED:20250428T194526Z
LAST-MODIFIED:20250428T195411Z
UID:10004283-1745924400-1745926200@downtowntomsriver.com
SUMMARY:New Business! Canine Aesthetic: Ribbon Cutting Ceremony
DESCRIPTION:Join us to welcome our newest business to the Downtown: Canine Aesthetic! – \nOne on one dog and cat grooming in a peaceful environment with Jenn\, your friendly aesthetician for four-legged friends. 20+ Years experience with multiple certifications. \nCome say hello and show your support!
URL:https://downtowntomsriver.com/event/new-business-canine-aesthetic-ribbon-cutting-ceremony-2/
LOCATION:NJ
CATEGORIES:Business Events
ATTACH;FMTTYPE=image/webp:https://downtowntomsriver.com/wp-content/uploads/2025/04/Canine-Aesthetic.webp
END:VEVENT
BEGIN:VEVENT
DTSTART;TZID=America/New_York:20250430T190000
DTEND;TZID=America/New_York:20250430T203000
DTSTAMP:20260423T231455
CREATED:20250320T155340Z
LAST-MODIFIED:20250320T155340Z
UID:10004199-1746039600-1746045000@downtowntomsriver.com
SUMMARY:WREP: When Radio Entertained People
DESCRIPTION:Join us for the 50th “broadcast” of skits from the Golden Age of radio\, performed by WREP’s veteran actors. \n\n\n\n\n\n\nThis broadcast will showcase scenes from Johnny Got His Gun\, The Life of Riley and Easy Aces. \nTrivia game before the show starts at 6:30pm. \nThe performance begins at 7:00pm. \nThis program is sponsored by the Friends of the Ocean County Library – Toms River.
URL:https://downtowntomsriver.com/event/wrep-when-radio-entertained-people-7/
LOCATION:The Ocean County Library\, 101 Washington St\, Toms River\, NJ\, 08753\, United States
CATEGORIES:Entertainment
ORGANIZER;CN="The Ocean County Library":MAILTO:programs@theoceancountylibrary.org
END:VEVENT
END:VCALENDAR