BEGIN:VCALENDAR
VERSION:2.0
PRODID:-// - ECPv6.15.15//NONSGML v1.0//EN
CALSCALE:GREGORIAN
METHOD:PUBLISH
X-ORIGINAL-URL:https://downtowntomsriver.com
X-WR-CALDESC:Events for 
REFRESH-INTERVAL;VALUE=DURATION:PT1H
X-Robots-Tag:noindex
X-PUBLISHED-TTL:PT1H
BEGIN:VTIMEZONE
TZID:America/New_York
BEGIN:DAYLIGHT
TZOFFSETFROM:-0500
TZOFFSETTO:-0400
TZNAME:EDT
DTSTART:20230312T070000
END:DAYLIGHT
BEGIN:STANDARD
TZOFFSETFROM:-0400
TZOFFSETTO:-0500
TZNAME:EST
DTSTART:20231105T060000
END:STANDARD
BEGIN:DAYLIGHT
TZOFFSETFROM:-0500
TZOFFSETTO:-0400
TZNAME:EDT
DTSTART:20240310T070000
END:DAYLIGHT
BEGIN:STANDARD
TZOFFSETFROM:-0400
TZOFFSETTO:-0500
TZNAME:EST
DTSTART:20241103T060000
END:STANDARD
BEGIN:DAYLIGHT
TZOFFSETFROM:-0500
TZOFFSETTO:-0400
TZNAME:EDT
DTSTART:20250309T070000
END:DAYLIGHT
BEGIN:STANDARD
TZOFFSETFROM:-0400
TZOFFSETTO:-0500
TZNAME:EST
DTSTART:20251102T060000
END:STANDARD
END:VTIMEZONE
BEGIN:VEVENT
DTSTART;TZID=America/New_York:20241201T170000
DTEND;TZID=America/New_York:20241201T190000
DTSTAMP:20260424T053359
CREATED:20241113T144852Z
LAST-MODIFIED:20241113T145226Z
UID:10004070-1733072400-1733079600@downtowntomsriver.com
SUMMARY:Decoupage Tabletop Christmas Tree Workshop - Sip and Create!
DESCRIPTION:Decoupage Tabletop Christmas Tree Workshop – Sip and Create! \nJoin us for a festive decoupage and sip workshop led by Ashley Grace of Ashley Grace Signs (talented Teacher by day \, passionate crafter by night !).\nDuring this cozy holiday class\, you’ll learn the art of decoupage to create a unique\, beautiful 18” Christmas tree decoration that’s perfect for your home or to give as a thoughtful homemade gift.\nNo experience needed\, come enjoy a relaxing evening filled with holiday cheer!! \n\n\nSunday 12/1\, 5-7PM\, BYOB \n$45pp\nAshleygracesigns.com/book-online
URL:https://downtowntomsriver.com/event/decoupage-tabletop-christmas-tree-workshop-sip-and-create/
LOCATION:Gifted on Washington\, 16 Washington St\, Toms River\, NJ\, 08753-8709\, United States
ATTACH;FMTTYPE=image/png:https://downtowntomsriver.com/wp-content/uploads/2024/11/image000000.png
END:VEVENT
BEGIN:VEVENT
DTSTART;TZID=America/New_York:20241205T170000
DTEND;TZID=America/New_York:20241205T210000
DTSTAMP:20260424T053359
CREATED:20240903T145619Z
LAST-MODIFIED:20240903T145619Z
UID:10003909-1733418000-1733432400@downtowntomsriver.com
SUMMARY:Toms River Elks Festival of Trees
DESCRIPTION:Toms River Elks is excited to announce that this year’s Festival of Trees will be held on Thursday December 5\, 2024. \nThe theme of this year’s event is inclusion! The great hall will be decorated of course! This year the decorations will include Dr Seuss inspired designs created by our special children. \nWhat is the Festival of Trees? \nLocal non-profit organizations are invited to participate in this event by displaying a beautifully decorated artificial Christmas tree that represents your organization and the services that you provide. On December 5th we will welcome the public to our gala holiday festival\, complete with snacks and beverages for all. This year we have some real treats in store for you\, including a S’mores Bar! Our cash kitchen will also be open for you to purchase a light fare of dinner foods. There will be music throughout the evening including a performance by the students in the Toms River Orchestra. Santa will be in the house! \nThis event has had hundreds of followers for years now! \nThe trees will remain on display at the lodge through Sunday December 15th\, sharing your message to all lodge members and guests. \nThe application submission period to participate in the 2024 Festival ofTrees opens on August 6\, 2024.\nApplications must be received by November 15\, 2024. \nThis year there are 3 different contests. \n“Tree That Best Reflects The Theme Of Inclusion” – First and second place prizes \n“Tree That Best Reflects Its Organizations Message” – First and second place prizes \n“Best Overall Tree” – First place \nWho makes the Festival of Trees happen? \nThis program is made possible by members of the Toms River Elks on behalf of Elks National Foundation.  We believe that it is very important for us to support the nonprofit organizations in our community who\, like the Elks\, do so much to help our neighbors in need. By helping you\, we help others. \nPlease join us in what will be a memorable\, fun filled holiday event. We are all “making our community a better place to live”! \nQuestions? \nContact Valerie by emailing trelksfot@gmail.com.
URL:https://downtowntomsriver.com/event/toms-river-elks-festival-of-trees/
LOCATION:Toms River Elks\, 600 Washington Street\, Toms River\, NJ\, 08753\, United States
ATTACH;FMTTYPE=image/png:https://downtowntomsriver.com/wp-content/uploads/2024/09/120524-Festival-of-Trees-Updated-Teaser-Poster.png
ORGANIZER;CN="Toms River Elks":MAILTO:prtrelks@gmail.com
END:VEVENT
BEGIN:VEVENT
DTSTART;TZID=America/New_York:20241206T170000
DTEND;TZID=America/New_York:20241206T190000
DTSTAMP:20260424T053359
CREATED:20241112T181242Z
LAST-MODIFIED:20241112T181242Z
UID:10004067-1733504400-1733511600@downtowntomsriver.com
SUMMARY:Downtown Tree Lighting
DESCRIPTION:Join us for the Annual Tree Lighting in the courtyard of Town Hall in Downtown Toms River. Live entertainment begins at 5pm. Santa arrives on the fire truck at 7pm to light the tree. Photos with Santa will follow the tree lighting in Town Hall. Hot Chocolate & cookies for sale to benefit Volunteer Toms River Fire Co. #1. Downtown restaurants and businesses will be open. No pets are permitted at the tree lighting.\nLive holiday performances!
URL:https://downtowntomsriver.com/event/downtown-tree-lighting-2/
LOCATION:Town Hall Court Yard\, 33 Washington St.\, Toms River\, NJ\, 08753\, United States
ATTACH;FMTTYPE=image/png:https://downtowntomsriver.com/wp-content/uploads/2024/11/tree-lighting.png
ORGANIZER;CN="Downtown Toms River BID":MAILTO:info@downtowntomsriver.com
END:VEVENT
BEGIN:VEVENT
DTSTART;TZID=America/New_York:20241207T100000
DTEND;TZID=America/New_York:20241207T120000
DTSTAMP:20260424T053359
CREATED:20241030T175841Z
LAST-MODIFIED:20241106T140634Z
UID:10004060-1733565600-1733572800@downtowntomsriver.com
SUMMARY:Pet/Family Photos with Santa Fundraiser
DESCRIPTION:Pet and Family Holiday Photos with Santa!  Fundraising efforts to benefit the mission of Ocean Partnership for Children\, Ocean County’s designated Care Mangement Organization.  OPC provides free\, confidential\, and strength-based care management services to youth up to age 21\, by creating child family teams\, implementing services\, and helping youth in crisis to find sustainable resources.  Additionally\, OPC runs 6 youth support groups\, also open to all Ocean County youth and held throughout the year. \n10am-12pm at the OCP office in Downtown Toms River: 36 Washington Street \nVendor shopping\, resource tables\, refreshments\, and giveaways! \nPlease reserve your spot now for the following with suggested donations: \nPet and Family Photos with Santa \nPhoto with Santa (includes entry into door prizes and refreshments) – $30 \nVendors (set up a table to set your craft or promote your business) – $25 \nSponsors (individual and corporate sponsors available) – $100 for event; $500 for event and 2025 youth groups
URL:https://downtowntomsriver.com/event/pet-family-photos-with-santa-fundraiser/
LOCATION:NJ
CATEGORIES:Kids
ATTACH;FMTTYPE=image/jpeg:https://downtowntomsriver.com/wp-content/uploads/2024/10/1.jpg
ORGANIZER;CN="Ocean Partnership for Children":MAILTO:jpepe@oceanpartnership.org
END:VEVENT
BEGIN:VEVENT
DTSTART;TZID=America/New_York:20241207T110000
DTEND;TZID=America/New_York:20241207T150000
DTSTAMP:20260424T053359
CREATED:20240828T130128Z
LAST-MODIFIED:20241113T174630Z
UID:10003905-1733569200-1733583600@downtowntomsriver.com
SUMMARY:December Sip & Shop Local Craft Vendor Fair
DESCRIPTION:This FREE Local Craft Vendor Fair is hosted by Jenn Zazzara\, The Zenn Life\, bringing together local makers\, creators\, artisans and small businesses. \nSip & Shop Vendor Fair: Saturday\, December 7th from 11-3 pm at Garden State Distillery\, 13 Washington Street\, Toms River\, NJ  \nSupport local artisans\, discover unique treasures\, and enjoy the vibrant atmosphere of our Sip & Shop event. Bring your friends and family for a day of fun and festivities! \nFor more details please visit: December Sip & Shop | Facebook
URL:https://downtowntomsriver.com/event/december-sip-shop-local-craft-vendor-fair/
LOCATION:Garden State Distillery\, 13 Washington Street\, Toms River\, 08753\, United States
ATTACH;FMTTYPE=image/jpeg:https://downtowntomsriver.com/wp-content/uploads/2024/08/IMG_3113.jpg
ORGANIZER;CN="Jenn Zazzara":MAILTO:thezennlife@gmail.com
END:VEVENT
BEGIN:VEVENT
DTSTART;TZID=America/New_York:20241207T110000
DTEND;TZID=America/New_York:20241207T170000
DTSTAMP:20260424T053359
CREATED:20241112T181314Z
LAST-MODIFIED:20241112T181314Z
UID:10004069-1733569200-1733590800@downtowntomsriver.com
SUMMARY:Downtown Winter Wonderland
DESCRIPTION:Join us for our 4th annual Winter Wonderland Event taking place on December 7th from 11am – 5pm on Washington Street\, Downtown Toms River!\nEnjoy:Handcrafted giftsFamily ActivitiesCarolingHoliday MusicFace PaintingOrnament PaintingHoliday Story TimeAND MORE!
URL:https://downtowntomsriver.com/event/downtown-winter-wonderland/
LOCATION:Washington Street\, Toms River NJ\, 33 Washington St.\, Toms River\, 08753\, United States
ATTACH;FMTTYPE=image/png:https://downtowntomsriver.com/wp-content/uploads/2024/11/Winter-Wonderland-Flyer-1.png
ORGANIZER;CN="Downtown Toms River BID":MAILTO:info@downtowntomsriver.com
END:VEVENT
BEGIN:VEVENT
DTSTART;TZID=America/New_York:20241211T190000
DTEND;TZID=America/New_York:20241211T203000
DTSTAMP:20260424T053359
CREATED:20241029T133730Z
LAST-MODIFIED:20241029T133730Z
UID:10004059-1733943600-1733949000@downtowntomsriver.com
SUMMARY:WREP: When Radio Entertained People
DESCRIPTION:Return to the era when families gathered around the radio for “theater of the imagination.” Veteran actors from WREP will perform skits from radio’s “Golden Age” of the 1940s and 1950s. This “broadcast” will feature episodes from the shows Our Miss Brooks\, The Mysterious Traveler and My Friend Irma. \nAttendees will be treated to a music and a trivia contest prior to the performance at 6:30pm. \nThis program is sponsored by the Friends of the Ocean County Library – Toms River.
URL:https://downtowntomsriver.com/event/wrep-when-radio-entertained-people-6/
LOCATION:The Ocean County Library\, 101 Washington St\, Toms River\, NJ\, 08753\, United States
CATEGORIES:Entertainment
ATTACH;FMTTYPE=image/jpeg:https://downtowntomsriver.com/wp-content/uploads/2024/10/WREP-When-Radio-Entertained-People-TR-2024-scaled.jpg
ORGANIZER;CN="The Ocean County Library":MAILTO:programs@theoceancountylibrary.org
END:VEVENT
BEGIN:VEVENT
DTSTART;TZID=America/New_York:20241213T190000
DTEND;TZID=America/New_York:20241213T203000
DTSTAMP:20260424T053359
CREATED:20241107T183640Z
LAST-MODIFIED:20241107T183640Z
UID:10004064-1734116400-1734121800@downtowntomsriver.com
SUMMARY:Full Moon Rite
DESCRIPTION:Come and join us for a full moon rite on Friday the 13th (Dec). Join Darius\, a High Priest of the Gardnerian\, specifically Thelemic Al-Gard\, lineage\, for a Lunar Ritual and short talk about the earliest forms of Wicca and how those roots bring us to today.\nBring questions! There will be a Q&A.\nIf you have any questions prior to the ritual\, please send a message to Darius directly (co-host\, Jacob Walker)\n$15 per person\, please RSVP for planning purposes. Hope to see you there!
URL:https://downtowntomsriver.com/event/full-moon-rite-2/
LOCATION:Trinity’s Magickal Intentions\, 40 Main St\, Toms River\, NJ\, 08753\, United States
ATTACH;FMTTYPE=image/jpeg:https://downtowntomsriver.com/wp-content/uploads/2024/11/coldmoon.jpg
ORGANIZER;CN="Trinity's Magickal Intentions LLC":MAILTO:shibliano@yahoo.com
END:VEVENT
BEGIN:VEVENT
DTSTART;TZID=America/New_York:20241214T120000
DTEND;TZID=America/New_York:20241214T160000
DTSTAMP:20260424T053359
CREATED:20240304T133814Z
LAST-MODIFIED:20240304T133814Z
UID:10002039-1734177600-1734192000@downtowntomsriver.com
SUMMARY:Psychic Readings at TMI
DESCRIPTION:Join us every 2nd Saturday for psychic readings with Pagan elder\, Sharon O’Brien.\nSharon was born into a family of intuitives and mediums. She got her first Tarot deck at 15 and has been reading ever since. Through the years she has added other tools to her belt and tailors each session to the individual. She has a strong connection with Spirit and Nature\, bringing balance to her sessions. Her hope is that you walk away inspired and feeling lighter.\n\nSharon is best known for Tarot and Lenormand card readings\, Celtic readings (ogham) and pet readings (you can bring a picture of the pet or an item of theirs). She also uses intuition and connects to Spirit. She is a Reiki Master Teacher and a board certified Holistic Health and Life Coach. Sharon was a co-founder and Elder in The Song of Avalon Grove until it closed in 2017. She is an ordained minister\, teaches various workshops and classes\, as well as providing Spiritual Guidance and coaching.\n\n15min for $25\n30min for $50\nWalk-ins welcome\, or you can claim your spot here –\nhttps://www.signupgenius.com/go/4090D48A4AC2CA4FE3-psychic\n\nPsychic readings must be considered as entertainment. Any health or medical advice should always be checked out by a licensed medical practitioner. If there are any questions about this process\, feel free to leave a post or message Trinity directly.
URL:https://downtowntomsriver.com/event/psychic-readings-at-tmi-4/2024-12-14/
LOCATION:Trinity’s Magickal Intentions\, 40 Main St\, Toms River\, NJ\, 08753\, United States
CATEGORIES:Downtown Toms River Events
ATTACH;FMTTYPE=image/jpeg:https://downtowntomsriver.com/wp-content/uploads/2024/03/psychicsat.jpg
ORGANIZER;CN="Trinity's Magickal Intentions LLC":MAILTO:shibliano@yahoo.com
END:VEVENT
BEGIN:VEVENT
DTSTART;TZID=America/New_York:20241214T190000
DTEND;TZID=America/New_York:20241214T200000
DTSTAMP:20260424T053359
CREATED:20241202T184401Z
LAST-MODIFIED:20241202T184401Z
UID:10004077-1734202800-1734206400@downtowntomsriver.com
SUMMARY:Crystal Magick
DESCRIPTION:Join us as we learn all about crystals and how we can utilize their energy to manifest our desired results.\nEach month we will go over one crystal in detail\, describing the healing properties and symbolism each stone has and how we can utilize their magical properties in our daily life\, such as having them help us for crystal healing\, crystal grids\, crafts\, mojo bags and more!\nA notebook and pen are strongly encouraged as many topics will be covered throughout the class.\n$15.00 PP
URL:https://downtowntomsriver.com/event/crystal-magick-4/
LOCATION:Trinity’s Magickal Intentions\, 40 Main St\, Toms River\, NJ\, 08753\, United States
ATTACH;FMTTYPE=image/jpeg:https://downtowntomsriver.com/wp-content/uploads/2024/12/crystalmagick-scaled.jpg
ORGANIZER;CN="Trinity's Magickal Intentions LLC":MAILTO:shibliano@yahoo.com
END:VEVENT
BEGIN:VEVENT
DTSTART;TZID=America/New_York:20241215T140000
DTEND;TZID=America/New_York:20241215T170000
DTSTAMP:20260424T053359
CREATED:20241010T121758Z
LAST-MODIFIED:20241010T121758Z
UID:10003939-1734271200-1734282000@downtowntomsriver.com
SUMMARY:The Army's House of Magic: A History of Fort Monmouth
DESCRIPTION:Ocean County Historical Society\nTime:  2:00 PM\nDate: Sunday\, December 15\, 2024 \nThe Army’s House of Magic: A History of Fort Monmouth\, NJ with author Melissa Ziobro \nThe history of Fort Monmouth\, NJ begins in May 1917 when\, as part of its wartime mobilization\, the Army authorized four training camps for signal troops. One camp would be in central NJ – that which would eventually be known as “Fort Monmouth\,” in honor of the soldiers of the American Revolution who fought and died at the nearby Battle of Monmouth. The Army Signal Corps trained thousands of men for war there and built laboratories that worked on pioneering technologies like air to ground radio. Though the base was supposed to be temporary\, it wound up outliving the war. It was for decades known as the “Home of the Signal Corps\,” and\, until its closure in 2011\, the base was still innovating some of the most significant communications and electronics advances in military history – many of which would save lives on the battlefield and be adapted for civilian use. \nPresented by Monmouth University Professor Melissa Ziobro\, the last Command Historian of Fort Monmouth prior to the base’s closure in 2011\, and author of Fort Monmouth: the Army’s House of Magic (2024). \nThese events take place at our museum at 26 Hadley Avenue in Toms River. Our speaker series is always free; but donations are appreciated. SEATING IS LIMITED so reserve your seat early by sending your name\, zip code\, email address\,  telephone number\, and the name and date of the program (December 15\, 2024) to:  oceancountyhistory.programs@gmail.com
URL:https://downtowntomsriver.com/event/the-armys-house-of-magic-a-history-of-fort-monmouth/
LOCATION:Ocean County Historical Society\, 26 Hadley Ave\, Toms River\, NJ\, 08753\, United States
CATEGORIES:Arts & Cluture
END:VEVENT
BEGIN:VEVENT
DTSTART;TZID=America/New_York:20241216T183000
DTEND;TZID=America/New_York:20241216T193000
DTSTAMP:20260424T053359
CREATED:20241211T155126Z
LAST-MODIFIED:20241211T155126Z
UID:10004081-1734373800-1734377400@downtowntomsriver.com
SUMMARY:Warm & Bright with Dakota and Elle
DESCRIPTION:Join Dakota & Elle for a beautiful concert to get in the holiday spirit. Dakota & Elle are a classically trained tenor and soprano duo who sing Broadway\, classical\, and contemporary music. They both trained with Juilliard graduate and world-renowned vocal instructor\, Steven Schnurman. This program is sponsored by the Friends of the Ocean County Library – Toms River.
URL:https://downtowntomsriver.com/event/warm-bright-with-dakota-and-elle/
LOCATION:The Ocean County Library\, 101 Washington St\, Toms River\, NJ\, 08753\, United States
CATEGORIES:Entertainment
ATTACH;FMTTYPE=image/jpeg:https://downtowntomsriver.com/wp-content/uploads/2024/12/Warm-Bright-Dakota-and-Elle-Sing-Holiday-Hits-scaled.jpg
ORGANIZER;CN="The Ocean County Library":MAILTO:programs@theoceancountylibrary.org
END:VEVENT
BEGIN:VEVENT
DTSTART;TZID=America/New_York:20241221T190000
DTEND;TZID=America/New_York:20241221T203000
DTSTAMP:20260424T053359
CREATED:20241107T192629Z
LAST-MODIFIED:20241107T192629Z
UID:10004065-1734807600-1734813000@downtowntomsriver.com
SUMMARY:Yule Tea Party & Cookie Competition
DESCRIPTION:Join Trinity for a witchy tea party\, Yule story time\, and cookie competition! Bring your best holiday cookies bc everyone will be voting!\n\n\nWe’ll gather to sip tea\, enjoy snacks\, and celebrate the darkest night of the year together! Whether you’re a seasoned witch or just curious\, all open-minded seekers are welcome. If you’re not a cookie person\, please bring your favorite tea time snack to share! \n40 Main St\, Toms River\, NJ \n\n$15 per person\, please RSVP so I have enough tea to go around!
URL:https://downtowntomsriver.com/event/yule-tea-party-cookie-competition/
LOCATION:Trinity’s Magickal Intentions\, 40 Main St\, Toms River\, NJ\, 08753\, United States
ATTACH;FMTTYPE=image/png:https://downtowntomsriver.com/wp-content/uploads/2024/11/Tea-Time-Social-Media-Post-Update-Instagram-Post.png
ORGANIZER;CN="Trinity's Magickal Intentions LLC":MAILTO:shibliano@yahoo.com
END:VEVENT
END:VCALENDAR