BEGIN:VCALENDAR
VERSION:2.0
PRODID:-// - ECPv6.15.15//NONSGML v1.0//EN
CALSCALE:GREGORIAN
METHOD:PUBLISH
X-ORIGINAL-URL:https://downtowntomsriver.com
X-WR-CALDESC:Events for 
REFRESH-INTERVAL;VALUE=DURATION:PT1H
X-Robots-Tag:noindex
X-PUBLISHED-TTL:PT1H
BEGIN:VTIMEZONE
TZID:America/New_York
BEGIN:DAYLIGHT
TZOFFSETFROM:-0500
TZOFFSETTO:-0400
TZNAME:EDT
DTSTART:20230312T070000
END:DAYLIGHT
BEGIN:STANDARD
TZOFFSETFROM:-0400
TZOFFSETTO:-0500
TZNAME:EST
DTSTART:20231105T060000
END:STANDARD
BEGIN:DAYLIGHT
TZOFFSETFROM:-0500
TZOFFSETTO:-0400
TZNAME:EDT
DTSTART:20240310T070000
END:DAYLIGHT
BEGIN:STANDARD
TZOFFSETFROM:-0400
TZOFFSETTO:-0500
TZNAME:EST
DTSTART:20241103T060000
END:STANDARD
BEGIN:DAYLIGHT
TZOFFSETFROM:-0500
TZOFFSETTO:-0400
TZNAME:EDT
DTSTART:20250309T070000
END:DAYLIGHT
BEGIN:STANDARD
TZOFFSETFROM:-0400
TZOFFSETTO:-0500
TZNAME:EST
DTSTART:20251102T060000
END:STANDARD
END:VTIMEZONE
BEGIN:VEVENT
DTSTART;TZID=America/New_York:20240504T120000
DTEND;TZID=America/New_York:20240504T180000
DTSTAMP:20260424T170809
CREATED:20240403T140320Z
LAST-MODIFIED:20240403T171059Z
UID:10002048-1714824000-1714845600@downtowntomsriver.com
SUMMARY:Cinco de Mayo Festival
DESCRIPTION:Join us for a Cinco de Mayo celebration on the 4th! – May 4th 2024 from 12pm – 6pm\n\nGood Eats from our local restaurants and TR Fire Co. # 1.\n– A Thyme for All Seasons\n– Battle River Brewing\n– Capones\n– Garden State Distillery\n– Mandoli’s\n– Mullers Creamery\n– Oi Sushi\n– Smokies BBQ\n– Tacotastic\nEnjoy yummy beer & drinks\nHandcraft vendors & Food Trucks
URL:https://downtowntomsriver.com/event/cinco-de-mayo-festival-2/
LOCATION:NJ
ATTACH;FMTTYPE=image/png:https://downtowntomsriver.com/wp-content/uploads/2024/04/Cinco-de-Mayo-2024-1.png
ORGANIZER;CN="Downtown Toms River BID":MAILTO:info@downtowntomsriver.com
END:VEVENT
BEGIN:VEVENT
DTSTART;TZID=America/New_York:20240504T120000
DTEND;TZID=America/New_York:20240504T180000
DTSTAMP:20260424T170809
CREATED:20240415T130700Z
LAST-MODIFIED:20240415T130700Z
UID:10002052-1714824000-1714845600@downtowntomsriver.com
SUMMARY:Aura Photography at TMI
DESCRIPTION:TMI welcomes Your Aura Guide for a day of aura awareness\, chakra balancing\, and spiritual advise!\nDiscover the energy of your mental state\, your essense\, and grounding energy. What’s the energy you’re attracting into your field? How do others percieve you?\nAura photos and chakra reports will be available at the shop during Downtown Toms River’s Cinco de Mayo event!\nAura Photo – $35Chakra Report – $35
URL:https://downtowntomsriver.com/event/aura-photography-at-tmi/
LOCATION:Trinity’s Magickal Intentions\, 40 Main St\, Toms River\, NJ\, 08753\, United States
ATTACH;FMTTYPE=image/png:https://downtowntomsriver.com/wp-content/uploads/2024/04/@TrinitysMagick.png
ORGANIZER;CN="Trinity's Magickal Intentions LLC":MAILTO:shibliano@yahoo.com
END:VEVENT
BEGIN:VEVENT
DTSTART;TZID=America/New_York:20240505T140000
DTEND;TZID=America/New_York:20240505T170000
DTSTAMP:20260424T170809
CREATED:20240304T133847Z
LAST-MODIFIED:20240304T133847Z
UID:10002030-1714917600-1714928400@downtowntomsriver.com
SUMMARY:The Battle of Monmouth Courthouse: The Last Great Revolutionary War Battle in the North
DESCRIPTION:Location:  Ocean County Historical Society \nTime:  2:00 PM \nDate: Sunday\, May 5\, 2024 \nThis event takes place at our museum at 26 Hadley Avenue in Toms River. Our speaker series is free\, but your donations in support of our programs are greatly appreciated. SEATING IS LIMITED so reserve your seat early by sending your name\, zip code\, email address\, and the name and date of the program (May 5\, 2024) to:  oceancountyhistory.programs@gmail.com \nThe Battle of Monmouth Courthouse: The Last Great Revolutionary War Battle in the North – Victor Pidermann \nThe Battle of Monmouth Courthouse (June 28\, 1778) was the largest field artillery battle of the Revolutionary War\, and was the last significant battle fought on northern soil during that conflict. More widely known for the legend of Molly Pitcher and the dispute between Generals George Washington and Charles Lee\, the battle is\, to this very day\, often misunderstood and overlooked in its significance. This presentation will provide an overview of the Battle of Monmouth\, placing it in context within the wider war\, and will conclude with a discussion of the latest research being done by the current custodians of the battlefield’s historic legacy. \nVictor Pidermann is one of the historic interpreters at Monmouth Battlefield State Park in Manalapan\, NJ and has been researching and interpreting the Battle of Monmouth for nine years. He has an MA in History from Monmouth University (2014) and a BA in History from Florida State University (2007). Mr. Pidermann has worked occasionally as an Adjunct Professor of History at Monmouth University and has also co-authored academic articles on topics ranging from Revolutionary War-era artillery to historic maps of the Battle of Monmouth. \n  \n 
URL:https://downtowntomsriver.com/event/the-battle-of-monmouth-courthouse-the-last-great-revolutionary-war-battle-in-the-north/
LOCATION:Ocean County Historical Society\, 26 Hadley Ave\, Toms River\, NJ\, 08753\, United States
CATEGORIES:Arts & Cluture
END:VEVENT
BEGIN:VEVENT
DTSTART;TZID=America/New_York:20240508T190000
DTEND;TZID=America/New_York:20240508T203000
DTSTAMP:20260424T170809
CREATED:20240417T203742Z
LAST-MODIFIED:20240418T141249Z
UID:10002055-1715194800-1715200200@downtowntomsriver.com
SUMMARY:Concert with the Pineland Symphonic Band
DESCRIPTION:The crowd-pleasing ensemble returns to the library to showcase their varied repertoire featuring music from Sousa to Dixieland\, patriotic tunes to rock. \nThis program is sponsored by the Friends of the Ocean County Library – Toms River
URL:https://downtowntomsriver.com/event/concert-with-the-pineland-symphonic-band-2/
LOCATION:The Ocean County Library\, 101 Washington St\, Toms River\, NJ\, 08753\, United States
CATEGORIES:Entertainment
ATTACH;FMTTYPE=image/jpeg:https://downtowntomsriver.com/wp-content/uploads/2024/04/Pineland-Symphonic-Band-2024-TR-scaled.jpg
ORGANIZER;CN="The Ocean County Library":MAILTO:programs@theoceancountylibrary.org
END:VEVENT
BEGIN:VEVENT
DTSTART;TZID=America/New_York:20240511T120000
DTEND;TZID=America/New_York:20240511T160000
DTSTAMP:20260424T170809
CREATED:20240304T133510Z
LAST-MODIFIED:20240304T133510Z
UID:10002043-1715428800-1715443200@downtowntomsriver.com
SUMMARY:🍷🌸 May Flowers Sip & Shop  Vendor Fair  🍷🌸
DESCRIPTION:🍷🌸May Blooms Sip & Shop Spectacular Vendor Fair at Garden State Distillery! 🍷🌸 \nLooking for a delightful day out filled with shopping\, sipping\, and supporting local businesses? Look no further! Join us for the May Blooms Sip & Shop Spectacular at the Garden State Distillery. \n🛍️ What to Expect:\nExplore a diverse range of products\, from handmade crafts to artisanal foods\, jewelry\, home decor\, and much more! Each vendor has been carefully selected to offer unique and high-quality items. \n🎉 Why Attend:\nThis event is not just about shopping; it’s an opportunity to support talented local vendors and artisans while discovering one-of-a-kind treasures. Plus\, enjoy a relaxed atmosphere with friends and family while sipping on refreshing beverages from Garden State Distillery. \n📅 Event Details:\nDate: Saturday\, May 11th\nTime: 12-4 pm\nVenue: Garden State Distillery\, 13 Washington Street\, Toms River\, NJ \nFeatured Vendors: \nTouchstone Crystal Jewelry by Swarovski 💎\nWebsite: Touchstonecrystal.com/jaimeebickford\nMine Always 💍 \nPermanent jewelry\nInstagram: www.instagram.com/minealways.permanentjewelry\nVERRE 👗👠👜 \nClothing\, shoes\, and accessories\nInstagram: www.instagram.com/shopverre\nFacebook: facebook.com/VERRE\nWebsite: shopverre.com\nTreasured Jewelry Exclusives 💍 \nHandcrafted bohemian jewelry\nInstagram: www.instagram.com/treasured_jewelry_exclusives\nMeraki Soul Centered Healing 🔮 \nCrystals\, body butter\, soap\, candles\, jewelry\nInstagram: www.instagram.com/Meraki_AngelicReiki_NJ\nFacebook: facebook.com/merakisoulcenteredhealing\nEmail: Merakisoulcenteredhealing@gmail.com\nIsabella Jolie Jewelry 💍 \nHandcrafted Jewelry\nInstagram: www.instagram.com/IsabellaJolieJewelry\nWebsite: IsabellaJolieJewelry.com\nMade By Regina 4 U 🕯️🎨🌺 \nSoy Candles & wax melts\, Acrylic Paintings\, floral arrangement (faux)\, vegan-friendly skincare (lip balm\, body butter)\nFacebook: facebook.com/MadeByRegina4U\nEtsy: madebyregina4u\nJZ Heals\, LLC 📚📖 \nBooks\, Journals\, Affirmation Cards\, Spiritual items\nInstagram: www.instagram.com/jzheals\nFacebook: facebook.com/jzheals \nHappy Edibles & Body Essentials 🌿\nInfused body essentials\nInstagram: www.instagram.com/happynorganic2 \nRedsky Light 🌟\nSpiritual tools\, Orgonite pendants\, sun catchers\, pendulums\, gift items\, Angel Oracle Readings\nFacebook: facebook.com/Redsky\nInstagram: www.instagram.com/Light333Bluebird \nAnd many more! Don’t miss out on the opportunity to explore these amazing vendors and their unique products at the May Blooms Sip & Shop Spectacular! \nAny questions? Contact Jaime Zazzara. Email: jaimezazzara@gmail.com or Phone: 908-910-2898
URL:https://downtowntomsriver.com/event/%f0%9f%8d%b7%f0%9f%8c%b8-may-flowers-sip-shop-vendor-fair-%f0%9f%8d%b7%f0%9f%8c%b8/
LOCATION:Garden State Distillery\, 13 Washington Street\, Toms River\, 08753\, United States
ATTACH;FMTTYPE=image/png:https://downtowntomsriver.com/wp-content/uploads/2024/03/May-Sip-Shop.png
END:VEVENT
BEGIN:VEVENT
DTSTART;TZID=America/New_York:20240511T120000
DTEND;TZID=America/New_York:20240511T160000
DTSTAMP:20260424T170809
CREATED:20240304T133814Z
LAST-MODIFIED:20240304T133814Z
UID:10002032-1715428800-1715443200@downtowntomsriver.com
SUMMARY:Psychic Readings at TMI
DESCRIPTION:Join us every 2nd Saturday for psychic readings with Pagan elder\, Sharon O’Brien.\nSharon was born into a family of intuitives and mediums. She got her first Tarot deck at 15 and has been reading ever since. Through the years she has added other tools to her belt and tailors each session to the individual. She has a strong connection with Spirit and Nature\, bringing balance to her sessions. Her hope is that you walk away inspired and feeling lighter.\n\nSharon is best known for Tarot and Lenormand card readings\, Celtic readings (ogham) and pet readings (you can bring a picture of the pet or an item of theirs). She also uses intuition and connects to Spirit. She is a Reiki Master Teacher and a board certified Holistic Health and Life Coach. Sharon was a co-founder and Elder in The Song of Avalon Grove until it closed in 2017. She is an ordained minister\, teaches various workshops and classes\, as well as providing Spiritual Guidance and coaching.\n\n15min for $25\n30min for $50\nWalk-ins welcome\, or you can claim your spot here –\nhttps://www.signupgenius.com/go/4090D48A4AC2CA4FE3-psychic\n\nPsychic readings must be considered as entertainment. Any health or medical advice should always be checked out by a licensed medical practitioner. If there are any questions about this process\, feel free to leave a post or message Trinity directly.
URL:https://downtowntomsriver.com/event/psychic-readings-at-tmi-4/2024-05-11/
LOCATION:Trinity’s Magickal Intentions\, 40 Main St\, Toms River\, NJ\, 08753\, United States
CATEGORIES:Downtown Toms River Events
ATTACH;FMTTYPE=image/jpeg:https://downtowntomsriver.com/wp-content/uploads/2024/03/psychicsat.jpg
ORGANIZER;CN="Trinity's Magickal Intentions LLC":MAILTO:shibliano@yahoo.com
END:VEVENT
BEGIN:VEVENT
DTSTART;TZID=America/New_York:20240517T080000
DTEND;TZID=America/New_York:20240517T150000
DTSTAMP:20260424T170809
CREATED:20240502T161130Z
LAST-MODIFIED:20240502T161130Z
UID:10002105-1715932800-1715958000@downtowntomsriver.com
SUMMARY:Rummage Sale
DESCRIPTION:Rummage Sale \nChrist Episcopal Church \nToms River\, NJ \nMay 17 & 18\, 2024 \n9AM – 3PM
URL:https://downtowntomsriver.com/event/rummage-sale/2024-05-17/
LOCATION:Christ Episcopal Church\, 415 Washington St\, Toms River\, NJ\, USA\, Toms River (Ocean County\, NJ)\, NJ\, 08753\, United States
ATTACH;FMTTYPE=image/jpeg:https://downtowntomsriver.com/wp-content/uploads/2024/05/2024-social-media-Rummage-Sale.jpg
END:VEVENT
BEGIN:VEVENT
DTSTART;TZID=America/New_York:20240518T090000
DTEND;TZID=America/New_York:20240518T150000
DTSTAMP:20260424T170809
CREATED:20240502T161130Z
LAST-MODIFIED:20240502T161130Z
UID:10002106-1716022800-1716044400@downtowntomsriver.com
SUMMARY:Rummage Sale
DESCRIPTION:Rummage Sale \nChrist Episcopal Church \nToms River\, NJ \nMay 17 & 18\, 2024 \n9AM – 3PM
URL:https://downtowntomsriver.com/event/rummage-sale/2024-05-18/
LOCATION:Christ Episcopal Church\, 415 Washington St\, Toms River\, NJ\, USA\, Toms River (Ocean County\, NJ)\, NJ\, 08753\, United States
ATTACH;FMTTYPE=image/jpeg:https://downtowntomsriver.com/wp-content/uploads/2024/05/2024-social-media-Rummage-Sale.jpg
END:VEVENT
BEGIN:VEVENT
DTSTART;TZID=America/New_York:20240518T180000
DTEND;TZID=America/New_York:20240518T210000
DTSTAMP:20260424T170809
CREATED:20240515T155055Z
LAST-MODIFIED:20240515T155451Z
UID:10002110-1716055200-1716066000@downtowntomsriver.com
SUMMARY:Live Music Saturday Night The DeSilvas
DESCRIPTION:Come down to downtown Toms River to Battle River Brewing to grab a few beers (27 beers on tap) and order some appetizers and/or dinner at one of our local restaurants and listen to live music by The DeSilvas from 6:00 to 8 :30 pm.  Great night out!
URL:https://downtowntomsriver.com/event/live-music-saturday-night-the-dasilvas/
LOCATION:Battle River Brewing\, 69 Main St\, Toms River\, NJ\, 08753
ATTACH;FMTTYPE=image/jpeg:https://downtowntomsriver.com/wp-content/uploads/2024/05/Screenshot-2024-05-13-at-6.27.14-PM-1.jpeg
ORGANIZER;CN="Battle River Brewing":MAILTO:hello@battleriverbrewing.com
END:VEVENT
BEGIN:VEVENT
DTSTART;TZID=America/New_York:20240522T190000
DTEND;TZID=America/New_York:20240522T220000
DTSTAMP:20260424T170809
CREATED:20240520T133805Z
LAST-MODIFIED:20240520T133805Z
UID:10002114-1716404400-1716415200@downtowntomsriver.com
SUMMARY:Romantic Steak Dinner
DESCRIPTION:May 22\, 2024 Wednesday Night at 7:00 PM \nCelebrate a birthday\, anniversary\, or romantic evening at the Historic Mathis House in Downtown Toms River. \nCome relax at the Mathis House with all of your favorite family and friends. Chef Bill\, our catering chef from Taste Matters\, will prepare a wonderful meal while you enjoy live music and the beauty of the historic Inn. \nThe Dinner Menu will include:\nFilet mignon\, or New York Strip\, or salmon as your main course\nGarlic and parmesan mashed potatoes.\nGrilled asparagus\nSeasonal Mixed Green Salad\nA warm cup of carrot coconut or zucchini Parmesan soup.\nA plate of desserts with mini scones and clotted cream.\nGourmet Tea or coffee. \nThe cost is $75 per person plus tax and gratuity. \nBy Reservation only. Cancellations will receive a credit at the Mathis House for up to two years.
URL:https://downtowntomsriver.com/event/romantic-steak-dinner/
LOCATION:The Mathis House at 600 Main\, 600 Main St.\, Toms River\, NJ\, 08753\, United States
ATTACH;FMTTYPE=image/jpeg:https://downtowntomsriver.com/wp-content/uploads/2024/05/Steak-Dinner.jpg
END:VEVENT
BEGIN:VEVENT
DTSTART;TZID=America/New_York:20240523T183000
DTEND;TZID=America/New_York:20240523T203000
DTSTAMP:20260424T170809
CREATED:20240520T134244Z
LAST-MODIFIED:20240520T134244Z
UID:10002111-1716489000-1716496200@downtowntomsriver.com
SUMMARY:SMOKIES CRAFT BBQ POP UP
DESCRIPTION:POP UP ALERT \nSmokies Craft BBQ will be at Battle River Brewing THURSDAY May 23rd from 6:30-8:30 pm.\nGet the Memorial Day weekend started right with a few beers and really good BBQ!! \nCOME CHECK IT OUT!! \n(Soon Smokies Craft BBQ will be on Main Street\, Toms River as well)
URL:https://downtowntomsriver.com/event/smokies-craft-bbq-pop-up/
LOCATION:Battle River Brewing\, 69 Main St\, Toms River\, NJ\, 08753
ATTACH;FMTTYPE=image/jpeg:https://downtowntomsriver.com/wp-content/uploads/2024/05/IMG_7098.jpeg
ORGANIZER;CN="Battle River Brewing":MAILTO:hello@battleriverbrewing.com
END:VEVENT
BEGIN:VEVENT
DTSTART;TZID=America/New_York:20240524T170000
DTEND;TZID=America/New_York:20240524T220000
DTSTAMP:20260424T170809
CREATED:20240418T175512Z
LAST-MODIFIED:20241008T160525Z
UID:10002058-1716570000-1716588000@downtowntomsriver.com
SUMMARY:Downtown Night Out
DESCRIPTION:Enjoy outdoor dining with the Downtown District restaurants\, distillery\, brewery and small businesses! \nA Thyme for All Seasons\nBattle River Brewing\nCapones Gourmet Pizza & Pasta House\nGarden State Distillery\nMandoli’s Custom Cake & Confectionary\nMullers Creamery\nNetty’s Sweets\nOi Sushi\nSmokies BBQ \nSpecial vendors and theme nights!
URL:https://downtowntomsriver.com/event/downtown-night-out-5/2024-05-24/
LOCATION:Washington Street\, Toms River NJ\, 33 Washington St.\, Toms River\, 08753\, United States
ATTACH;FMTTYPE=image/png:https://downtowntomsriver.com/wp-content/uploads/2024/04/DowntownNightOut-1.png
ORGANIZER;CN="Downtown Toms River BID":MAILTO:info@downtowntomsriver.com
END:VEVENT
BEGIN:VEVENT
DTSTART;TZID=America/New_York:20240525T170000
DTEND;TZID=America/New_York:20240525T220000
DTSTAMP:20260424T170809
CREATED:20240418T175512Z
LAST-MODIFIED:20241008T160525Z
UID:10002187-1716656400-1716674400@downtowntomsriver.com
SUMMARY:Downtown Night Out
DESCRIPTION:Enjoy outdoor dining with the Downtown District restaurants\, distillery\, brewery and small businesses! \nA Thyme for All Seasons\nBattle River Brewing\nCapones Gourmet Pizza & Pasta House\nGarden State Distillery\nMandoli’s Custom Cake & Confectionary\nMullers Creamery\nNetty’s Sweets\nOi Sushi\nSmokies BBQ \nSpecial vendors and theme nights!
URL:https://downtowntomsriver.com/event/downtown-night-out-5/2024-05-25/
LOCATION:Washington Street\, Toms River NJ\, 33 Washington St.\, Toms River\, 08753\, United States
ATTACH;FMTTYPE=image/png:https://downtowntomsriver.com/wp-content/uploads/2024/04/DowntownNightOut-1.png
ORGANIZER;CN="Downtown Toms River BID":MAILTO:info@downtowntomsriver.com
END:VEVENT
BEGIN:VEVENT
DTSTART;TZID=America/New_York:20240526T110000
DTEND;TZID=America/New_York:20240526T130000
DTSTAMP:20260424T170809
CREATED:20240520T133907Z
LAST-MODIFIED:20240520T133907Z
UID:10002113-1716721200-1716728400@downtowntomsriver.com
SUMMARY:Boho Tea Garden  Party
DESCRIPTION:Welcome to the Boho Garden Tea Party at Mathis House\, a cozy Victorian Bed & Breakfast and Tea Room! Join us on Sun\, May 26\, 2024 at 11:00 AM for a delightful afternoon filled with delicious teas\, delectable treats\, and charming bohemian vibes.\nStep into our whimsical garden setting and enjoy a relaxing atmosphere surrounded by lush greenery and colorful flowers. Indulge in a variety of teas\, from classic blends to unique herbal infusions\, served in vintage teacups.\n\nSavor an assortment of specialty Mediterranean tea time fare. Feel free to dress in your favorite bohemian attire\, whether it’s flowy dresses\, floral prints\, or eclectic accessories.\n\nCome unwind and connect with friends old and new at our Boho Garden Tea Party – an event that promises to be a delightful escape from the hustle and bustle of everyday life. We can’t wait to share this magical experience with you!\n\nJoin us for our new and exciting tea time experience with a Bohemian Era vibe. This tea time is on May 26th with a seating time at 11 am and includes a Mediterranean tea lunch menu.\n\nThis event will include indoor and outdoor dining options. Enjoy a relaxing afternoon with relaxing music.\nCall 732-818-7580 to purchase your event tickets or book online at www.mathishouse600main.com. Click on the picture for the full menu and pricing details
URL:https://downtowntomsriver.com/event/boho-tea-garden-party/
LOCATION:The Mathis House at 600 Main\, 600 Main St.\, Toms River\, NJ\, 08753\, United States
CATEGORIES:Entertainment
ATTACH;FMTTYPE=image/jpeg:https://downtowntomsriver.com/wp-content/uploads/2024/05/Boho-OUTSIDE.jpg
END:VEVENT
BEGIN:VEVENT
DTSTART;TZID=America/New_York:20240526T110000
DTEND;TZID=America/New_York:20240526T130000
DTSTAMP:20260424T170809
CREATED:20240520T134145Z
LAST-MODIFIED:20240520T134145Z
UID:10002112-1716721200-1716728400@downtowntomsriver.com
SUMMARY:Boho Tea Garden  Party
DESCRIPTION:Welcome to the Boho Garden Tea Party at Mathis House\, a cozy Victorian Bed & Breakfast and Tea Room! Join us on Sun\, May 26\, 2024 at 11:00 AM for a delightful afternoon filled with delicious teas\, delectable treats\, and charming bohemian vibes.\nStep into our whimsical garden setting and enjoy a relaxing atmosphere surrounded by lush greenery and colorful flowers. Indulge in a variety of teas\, from classic blends to unique herbal infusions\, served in vintage teacups.\n\nSavor an assortment of specialty Mediterranean tea time fare. Feel free to dress in your favorite bohemian attire\, whether it’s flowy dresses\, floral prints\, or eclectic accessories.\n\nCome unwind and connect with friends old and new at our Boho Garden Tea Party – an event that promises to be a delightful escape from the hustle and bustle of everyday life. We can’t wait to share this magical experience with you!\n\nJoin us for our new and exciting tea time experience with a Bohemian Era vibe. This tea time is on May 26th with a seating time at 11 am and includes a Mediterranean tea lunch menu.\n\nThis event will include indoor and outdoor dining options. Enjoy a relaxing afternoon with relaxing music.\nCall 732-818-7580 to purchase your event tickets or book online at www.mathishouse600main.com. Click on the picture for the full menu and pricing details
URL:https://downtowntomsriver.com/event/boho-tea-garden-party-2/
LOCATION:The Mathis House at 600 Main\, 600 Main St.\, Toms River\, NJ\, 08753\, United States
CATEGORIES:Entertainment
ATTACH;FMTTYPE=image/jpeg:https://downtowntomsriver.com/wp-content/uploads/2024/05/BohoGardenParty-1-scaled.jpg
END:VEVENT
BEGIN:VEVENT
DTSTART;TZID=America/New_York:20240531T170000
DTEND;TZID=America/New_York:20240531T220000
DTSTAMP:20260424T170809
CREATED:20240418T175512Z
LAST-MODIFIED:20241008T160525Z
UID:10002115-1717174800-1717192800@downtowntomsriver.com
SUMMARY:Downtown Night Out
DESCRIPTION:Enjoy outdoor dining with the Downtown District restaurants\, distillery\, brewery and small businesses! \nA Thyme for All Seasons\nBattle River Brewing\nCapones Gourmet Pizza & Pasta House\nGarden State Distillery\nMandoli’s Custom Cake & Confectionary\nMullers Creamery\nNetty’s Sweets\nOi Sushi\nSmokies BBQ \nSpecial vendors and theme nights!
URL:https://downtowntomsriver.com/event/downtown-night-out-5/2024-05-31/
LOCATION:Washington Street\, Toms River NJ\, 33 Washington St.\, Toms River\, 08753\, United States
ATTACH;FMTTYPE=image/png:https://downtowntomsriver.com/wp-content/uploads/2024/04/DowntownNightOut-1.png
ORGANIZER;CN="Downtown Toms River BID":MAILTO:info@downtowntomsriver.com
END:VEVENT
END:VCALENDAR