BEGIN:VCALENDAR
VERSION:2.0
PRODID:-// - ECPv6.15.15//NONSGML v1.0//EN
CALSCALE:GREGORIAN
METHOD:PUBLISH
X-ORIGINAL-URL:https://downtowntomsriver.com
X-WR-CALDESC:Events for 
REFRESH-INTERVAL;VALUE=DURATION:PT1H
X-Robots-Tag:noindex
X-PUBLISHED-TTL:PT1H
BEGIN:VTIMEZONE
TZID:America/New_York
BEGIN:DAYLIGHT
TZOFFSETFROM:-0500
TZOFFSETTO:-0400
TZNAME:EDT
DTSTART:20230312T070000
END:DAYLIGHT
BEGIN:STANDARD
TZOFFSETFROM:-0400
TZOFFSETTO:-0500
TZNAME:EST
DTSTART:20231105T060000
END:STANDARD
BEGIN:DAYLIGHT
TZOFFSETFROM:-0500
TZOFFSETTO:-0400
TZNAME:EDT
DTSTART:20240310T070000
END:DAYLIGHT
BEGIN:STANDARD
TZOFFSETFROM:-0400
TZOFFSETTO:-0500
TZNAME:EST
DTSTART:20241103T060000
END:STANDARD
BEGIN:DAYLIGHT
TZOFFSETFROM:-0500
TZOFFSETTO:-0400
TZNAME:EDT
DTSTART:20250309T070000
END:DAYLIGHT
BEGIN:STANDARD
TZOFFSETFROM:-0400
TZOFFSETTO:-0500
TZNAME:EST
DTSTART:20251102T060000
END:STANDARD
END:VTIMEZONE
BEGIN:VEVENT
DTSTART;TZID=America/New_York:20240302T120000
DTEND;TZID=America/New_York:20240302T180000
DTSTAMP:20260424T203529
CREATED:20240206T195134Z
LAST-MODIFIED:20240206T195134Z
UID:10002022-1709380800-1709402400@downtowntomsriver.com
SUMMARY:Downtown Irish Festival
DESCRIPTION:Location\nWashington Street\nTime\nMarch 2nd 12pm – 6pm\nJoin The Downtown Toms River Business Improvement District for our Irish Festival. The street will be filled with merchandise vendors\, handcrafters\, and live entertainment. Local businesses\, restaurants\, brewery and distillery open on the street. Free Admission & Free Parking in downtown during the event. \n  \nFor vendor opportunities https://downtowntomsriver.com/become-a-vendor/
URL:https://downtowntomsriver.com/event/downtown-irish-festival/
LOCATION:Washington Street\, Toms River NJ\, 33 Washington St.\, Toms River\, 08753\, United States
CATEGORIES:Entertainment
ATTACH;FMTTYPE=image/png:https://downtowntomsriver.com/wp-content/uploads/2024/02/Green-Modern-ST.-Patricks-Party-Flyer.png
ORGANIZER;CN="Downtown Toms River BID":MAILTO:info@downtowntomsriver.com
END:VEVENT
BEGIN:VEVENT
DTSTART;TZID=America/New_York:20240302T180000
DTEND;TZID=America/New_York:20240302T200000
DTSTAMP:20260424T203529
CREATED:20240125T175202Z
LAST-MODIFIED:20240125T175202Z
UID:10002015-1709402400-1709409600@downtowntomsriver.com
SUMMARY:Grand Opening at TMI
DESCRIPTION:Yes\, I’m already open\, but I feel like this calls for a celebration \nLeap year weekend… why not?\n\n\nI am thrilled to announce the grand opening of Trinity’s Magickal Intentions at our new location\, 40 Main St\, nestled in the heart of downtown Toms River! Join us for the weekend to celebrate the new space and building community! \nWe will have specials all weekend\, but RSVPs are appreciated for the community ritual and potluck Saturday at 6pm! \n\n\n Event Highlights:\n Magickal Raffle: Enter for a chance to win – prizes will be announced on this page!\n Weekend Deals: Discover exclusive weekend-only offers!\n Light Refreshments: Indulge your senses with delightful treats and beverages.\n Giveaways: Be one of the first visitors and spin the Wheel if Whimsy to win!\n\n Community Blessing Ritual: At 6pm on Saturday\, we will conclude the weekend with a community blessing ritual\, uniting our energies for a harmonious and magical future. Please bring a dish to share after ritual. \n\n2/29\, 12-6p\n3/1\, 12-8pm\n3/2\, 12-6p\, ritual at 6p\n\nSave the date! Whether you are a seasoned practitioner or a curious soul\, TMI welcomes all respectful seekers of any path to celebrate with us. Donations are appreciated\, but event/ritual are free to attend.
URL:https://downtowntomsriver.com/event/grand-opening-at-tmi/
LOCATION:Trinity’s Magickal Intentions\, 40 Main St\, Toms River\, NJ\, 08753\, United States
ATTACH;FMTTYPE=image/png:https://downtowntomsriver.com/wp-content/uploads/2024/01/TMIs-Grand-Opening-Weekend-1.png
ORGANIZER;CN="Trinity's Magickal Intentions LLC":MAILTO:shibliano@yahoo.com
END:VEVENT
BEGIN:VEVENT
DTSTART;TZID=America/New_York:20240303T140000
DTEND;TZID=America/New_York:20240303T170000
DTSTAMP:20260424T203530
CREATED:20240109T160144Z
LAST-MODIFIED:20240109T172238Z
UID:10002011-1709474400-1709485200@downtowntomsriver.com
SUMMARY:"War at the Shore"
DESCRIPTION:Sunday\, March 3\, 2024\, at 2:00 PM \nWar at the Shore — Timothy Hart \n“War at the Shore” tells the story of what is now Ocean County in the American Revolution\, including a 5-minute documentary. \nTimothy Hart works as the Ocean County Historian (2012) and is the division director of the Ocean County Cultural & Heritage commission in the Ocean County Parks & Recreation. He is an active participant in state and national historical organizations including past president of the League of Historical Societies of NJ and the South Jersey Cultural Association. He has also served on the board of the Advocates for NJ. He has been active with the AASLH. He is also the Stafford Township Historian since 2006. He has more than 40 years of civic engagement including among others: his town historic preservation commission\, school board\, planning board\, environmental commission\, and chamber of commerce. He is a retired member of the NJ Bar\, a graduate of Rutgers Law School and Georgetown University. \nThis event takes place at our museum at 26 Hadley Avenue in Toms River. Our speaker series is always free; but donations are greatly appreciated. SEATING IS LIMITED! To reserve your seat\, send your name\, zip code\, email address\, and the date of the program (March 3\, 2024) to oceancountyhistory.programs@gmail.com. \n 
URL:https://downtowntomsriver.com/event/war-at-the-shore/
LOCATION:Ocean County Historical Society\, 26 Hadley Ave\, Toms River\, NJ\, 08753\, United States
CATEGORIES:Arts & Cluture
END:VEVENT
BEGIN:VEVENT
DTSTART;TZID=America/New_York:20240304T183000
DTEND;TZID=America/New_York:20240304T193000
DTSTAMP:20260424T203530
CREATED:20240202T215154Z
LAST-MODIFIED:20240202T215154Z
UID:10002021-1709577000-1709580600@downtowntomsriver.com
SUMMARY:Irish Concert with Charlie Zahm
DESCRIPTION:In celebration of St. Patrick’s Day\, spend the evening on a musical journey through the Emerald Isle with performer Charlie Zahm. \nWhen Charlie was old enough to sing\, he began appreciating the beautiful Celtic songs and melodies he first heard in the largely Scottish province of his mother’s birth\, Ontario\, Canada. Keenly aware of his own heritage\, which includes healthy doses of Scottish and Irish blood on both sides of his family\, Charlie has collected several hundred popular (as well as beautiful and obscure) selections and now performs them for thousands of fans up and down the Eastern Seaboard and across America. \nThis program is sponsored by the Friends of the Ocean County Library – Toms River.
URL:https://downtowntomsriver.com/event/irish-concert-with-charlie-zahm/
LOCATION:The Ocean County Library\, 101 Washington St\, Toms River\, NJ\, 08753\, United States
CATEGORIES:Entertainment
ORGANIZER;CN="The Ocean County Library":MAILTO:programs@theoceancountylibrary.org
END:VEVENT
BEGIN:VEVENT
DTSTART;TZID=America/New_York:20240304T183000
DTEND;TZID=America/New_York:20240304T193000
DTSTAMP:20260424T203530
CREATED:20240202T220639Z
LAST-MODIFIED:20240202T220639Z
UID:10002020-1709577000-1709580600@downtowntomsriver.com
SUMMARY:Irish Concert with Charlie Zahm
DESCRIPTION:In celebration of St. Patrick’s Day\, spend the evening on a musical journey through the Emerald Isle with performer Charlie Zahm. \nWhen Charlie was old enough to sing\, he began appreciating the beautiful Celtic songs and melodies he first heard in the largely Scottish province of his mother’s birth\, Ontario\, Canada. Keenly aware of his own heritage\, which includes healthy doses of Scottish and Irish blood on both sides of his family\, Charlie has collected several hundred popular (as well as beautiful and obscure) selections and now performs them for thousands of fans up and down the Eastern Seaboard and across America. \nThis program is sponsored by the Friends of the Ocean County Library – Toms River.
URL:https://downtowntomsriver.com/event/irish-concert-with-charlie-zahm-2/
LOCATION:The Ocean County Library\, 101 Washington St\, Toms River\, NJ\, 08753\, United States
CATEGORIES:Entertainment
ATTACH;FMTTYPE=image/jpeg:https://downtowntomsriver.com/wp-content/uploads/2024/02/Irish-Concert-with-Charlie-Zahm-1-scaled.jpg
ORGANIZER;CN="The Ocean County Library":MAILTO:programs@theoceancountylibrary.org
END:VEVENT
BEGIN:VEVENT
DTSTART;TZID=America/New_York:20240310T100000
DTEND;TZID=America/New_York:20240310T150000
DTSTAMP:20260424T203530
CREATED:20240226T170115Z
LAST-MODIFIED:20240226T170115Z
UID:10002029-1710064800-1710082800@downtowntomsriver.com
SUMMARY:Toms River Elks Spring Craft Market
DESCRIPTION:The Toms River Elks Lodge #1875\, located at 600 Washington Street in Toms River\, will be holding a Spring Craft Market on Sunday March 10\, 2024 from 10 AM to 3 PM. \n\n\nThe Toms River Elks Spring Craft Market is an indoor market that will feature more than 110 tables of products made and sourced by 74 local vendors. The Spring Craft Market is free to attend. \nStop by and do some shopping and learn more about the Toms River Elks! \nParents of children with special needs are invited to bring the kids along for some fun rock painting activities with the Toms River Elks Special Children’s Committee.
URL:https://downtowntomsriver.com/event/toms-river-elks-spring-craft-market/
LOCATION:Toms River Elks\, 600 Washington Street\, Toms River\, NJ\, 08753\, United States
ATTACH;FMTTYPE=image/png:https://downtowntomsriver.com/wp-content/uploads/2024/02/031024-Spring-Craft-Market-Poster-1.png
ORGANIZER;CN="Toms River Elks":MAILTO:prtrelks@gmail.com
END:VEVENT
BEGIN:VEVENT
DTSTART;TZID=America/New_York:20240316T120000
DTEND;TZID=America/New_York:20240316T160000
DTSTAMP:20260424T203530
CREATED:20240104T142409Z
LAST-MODIFIED:20240104T144128Z
UID:10002008-1710590400-1710604800@downtowntomsriver.com
SUMMARY:🌸 Vendor Fair: Spring Fling Sip & Shop 🌸
DESCRIPTION:🌸 Exciting News! Join Us at the Spring Fling Sip & Shop 🌸 \n📸 Facebook Event: https://www.facebook.com/share/3wxbnGwgBMkyqGV7/?mibextid=9l3rBW \nMark your calendars for the most awaited event of the season – the Spring Fling Sip & Shop at Garden State Distillery! 🛍️🥂 \n📅 Date: Saturday March 16th \n⏰ Time: 12:00 PM – 4:00 PM \n📍 Location: Garden State Distillery 13 Washington Street Toms River NJ \nWhy you should be there: \n🛍️ Shop Unique Treasures: Explore a treasure trove of handcrafted items jewelry wellness products and more. Discover hidden gems you won’t find anywhere else! \n🥂 Sip on Craft Spirits: Enjoy the finest craft spirits from Garden State Distillery while you shop in style! \n🤝 Support Local Businesses: By joining us you’re supporting local entrepreneurs and artisans who pour their hearts into their creations. \n🌿 Add Greenery to Your Space: Lush Botanicals will bring tropical indoor plants to add life to your home. \n🔮 Tarot Insights: Get tarot card readings and insights from Madam Metatron or Dawn Michelle. \n🌊 Coastal Decor: Don’t Worry Beach Happy will transport you to the beach with their coastal decor and sea-inspired art. \n🎨 Art and Crafts: Serendipity offers handmade beaded jewelry Easter jewelry and home decor. \nAnd that’s just the beginning! Here’s the complete list of our fantastic vendors: \n🧘‍♀️Jaime Zazzara JZ HEALS LLC – Empowerment Events ~ Books ~ Journal ~ Life Coaching. \n⛵️Wind Therapy Wellness Retreats – Luxury Wellness Retreats aboard a Sailboat. \n💫 Dawn Michelle Psychic Medium LLC – Offering Readings. \n🌊 Lee & the Sea – Handcrafted natural sea glass jewelry and accessories. \n🧵 ACA Crafters – Various crafts including bowl cozies kitchen angels and more. \n🌙 Artemis Heart – Laser-cut wooden decor and jewelry. \n🌿 Lush Botanicals – Tropical indoor plants. \n💎 Crystal Vibes Bracelets – Handmade crystal bracelets with cleansing and reiki energy. \n🌿 Happy Edibles & Body Essentials – Infused body essentials. \n✨ Serendipity – Handmade beaded jewelry Easter jewelry and home decor. \n🌊 Don’t Worry Beach Happy – Sea glass shell and sea tile art/coastal decor. \n🔮 Madam Metatron Tarot Reading – Tarot card readings. \n🍭 The Eye Candy Shoppe. \n💅 Color Street – Nail polish strips. \n🌈 Zalvino’s Hippie House – Tie-dye shirts bandanas tapestries and more. \n👚 Savvi The Lifestyle Brand – Apparel Beauty & Wellness. \n🐾 Paws and Purls – Crochet plushies keychains and accessories. \nInvite your friends and family and let’s make this day unforgettable! See you there! 🌼🛍️🥂
URL:https://downtowntomsriver.com/event/%f0%9f%8c%b8-vendor-fair-spring-fling-sip-shop-%f0%9f%8c%b8/
LOCATION:NJ
ATTACH;FMTTYPE=image/png:https://downtowntomsriver.com/wp-content/uploads/2024/01/Spring-Fling-Sip-Shop-1920-x-1080-px.png
ORGANIZER;CN="Jaime Zazzara":MAILTO:jaimezazzara@gmail.com
END:VEVENT
BEGIN:VEVENT
DTSTART;TZID=America/New_York:20240322T190000
DTEND;TZID=America/New_York:20240322T210000
DTSTAMP:20260424T203530
CREATED:20240125T175116Z
LAST-MODIFIED:20240125T175116Z
UID:10002016-1711134000-1711141200@downtowntomsriver.com
SUMMARY:Self Love Club
DESCRIPTION:Have you felt as if you’re drained and have been giving too much with nothing in return? Do you often find yourself criticizing yourself even over minor things?\nLet’s shift your mind from self harm into self worth.\nJoin us monthly for a workshop devoted into falling\nin love with yourself all over again. Every workshop we will go over a new topic that will help us rediscover the beautiful souls we are. Every person in this workshop will also have the chance to openly ask for extra support as needed.\n$15 per person\, please RSVP here for planning purposes.
URL:https://downtowntomsriver.com/event/self-love-club/
LOCATION:Trinity’s Magickal Intentions\, 40 Main St\, Toms River\, NJ\, 08753\, United States
ATTACH;FMTTYPE=image/jpeg:https://downtowntomsriver.com/wp-content/uploads/2024/01/selfloveclub-scaled.jpg
ORGANIZER;CN="Trinity's Magickal Intentions LLC":MAILTO:shibliano@yahoo.com
END:VEVENT
BEGIN:VEVENT
DTSTART;TZID=America/New_York:20240324T190000
DTEND;TZID=America/New_York:20240324T210000
DTSTAMP:20260424T203530
CREATED:20240125T172857Z
LAST-MODIFIED:20240125T172857Z
UID:10002017-1711306800-1711314000@downtowntomsriver.com
SUMMARY:Elemental Witchcraft - Fire
DESCRIPTION:An elemental witch is one who works with one specific element or all of the elements in order to manifest their desired results.\nEach element holds power and wisdom over a specific part of nature\, which is why as witches we may call on all the elements when we want to perform ritual or create a spell. This series will aid you in beginning your journey\, or serve as a refresher\, through the pentacle path by focusing on one of the five elements in a non-denominational setting. This particular class will begin the circle by focusing on the Fire element.\nDo you think you’re an Fire elemental witch? Are you drawn to this element more than the others? Let’s find out together! We will discuss what the element of Fire rules over\, correspondences such as deities\, herbs\, and crystals\, how to connect with the element by examples of spells and activities\, and then we will join in a brief meditation to begin your journey with the element of Fire! Some handouts will be provided but we strongly encourage you to bring a notebook dedicated to your pentacle path journey.\nTMI welcomes Ariel Tobin RM CCH\, who has been a practicing Pagan for over a decade\, having experience with both coven work and solitary practice. Her focuses have always been found in the realms of water magick with concentrations on healing and spirit work. Ambrosia is a certified Reiki Master under the direction of Trinity Hrafn and a Certified Crystal Healer under Hibiscus Moon Crystal Academy. You can find her sharing her healing journey and crystal updates on her Instagram: AmbrosiaManifests\n$25 per person.\nSign ups are appreciated for planning purposes.
URL:https://downtowntomsriver.com/event/elemental-witchcraft-fire-3/
LOCATION:Trinity’s Magickal Intentions\, 40 Main St\, Toms River\, NJ\, 08753\, United States
ATTACH;FMTTYPE=image/png:https://downtowntomsriver.com/wp-content/uploads/2024/01/Elemental-Witchcarft-2.png
ORGANIZER;CN="Trinity's Magickal Intentions LLC":MAILTO:shibliano@yahoo.com
END:VEVENT
BEGIN:VEVENT
DTSTART;TZID=America/New_York:20240327T190000
DTEND;TZID=America/New_York:20240327T200000
DTSTAMP:20260424T203530
CREATED:20240223T152613Z
LAST-MODIFIED:20240223T152613Z
UID:10002028-1711566000-1711569600@downtowntomsriver.com
SUMMARY:Jazz Performance with Brian Betz and Behn Gillece
DESCRIPTION:Jazz duo Brian Betz (on guitar) and Behn Gillece (on vibraphone) will perform a selection of American standards and classic jazz songs. A Q&A period will follow the program. \nThis program is sponsored by the Friends of the Ocean County Library – Toms River.
URL:https://downtowntomsriver.com/event/jazz-performance-with-brian-betz-and-behn-gillece/
LOCATION:The Ocean County Library\, 101 Washington St\, Toms River\, NJ\, 08753\, United States
CATEGORIES:Entertainment
ATTACH;FMTTYPE=image/jpeg:https://downtowntomsriver.com/wp-content/uploads/2024/02/Jazz-Performance-w-Brian-Betz-Behn-Gillece-scaled.jpg
ORGANIZER;CN="The Ocean County Library":MAILTO:programs@theoceancountylibrary.org
END:VEVENT
BEGIN:VEVENT
DTSTART;TZID=America/New_York:20240330T140000
DTEND;TZID=America/New_York:20240330T160000
DTSTAMP:20260424T203530
CREATED:20240313T142144Z
LAST-MODIFIED:20240313T142144Z
UID:10002045-1711807200-1711814400@downtowntomsriver.com
SUMMARY:Open Swim & Egg Hunt/Activities at Aqua-Tots Swim Schools
DESCRIPTION:Join us for an exciting Easter Egg Hunt at Aqua-Tots Swim School Toms River on March 30th from 2-4pm! Dive into fun with a lineup that promises a splashing good time for everyone.\n\nFrom 2-3pm\, jump into Open Swim\, where parents MUST join their little ones in the water for some aquatic adventures. Then\, from 3-4pm\, get ready for the main event: our Egg Hunt! Kids can search high and low for eggs. Every participant will receive a treat bag to take home. BRING YOUR OWN BASKET\n\nBut the fun doesn’t stop there! We’ll also have coloring pages\, games\, snacks\, small crafts\, and even a raffle with exciting prizes. It’s an afternoon packed with entertainment for the whole family.\n\nThe cost is just $10 per child\, and spots are limited\, so be sure to secure your place by registering. You can sign up by calling (732) 917-4743 or simply stopping by the front desk. Don’t miss out on this egg-citing event!
URL:https://downtowntomsriver.com/event/open-swim-egg-hunt-activities-at-aqua-tots-swim-schools/
LOCATION:Aqua-Tots Swim School\, 1358 Hooper Avenue\, Toms River\, NJ\, 08753\, United States
CATEGORIES:Kids
ATTACH;FMTTYPE=image/png:https://downtowntomsriver.com/wp-content/uploads/2024/03/TR-Easter_Egg-Hunt_Flyer_8.5x11.png
ORGANIZER;CN="Aqua-Tots Swim School Toms River":MAILTO:tomsriverinfo@aqua-tots.com
END:VEVENT
END:VCALENDAR