BEGIN:VCALENDAR
VERSION:2.0
PRODID:-// - ECPv6.15.15//NONSGML v1.0//EN
CALSCALE:GREGORIAN
METHOD:PUBLISH
X-ORIGINAL-URL:https://downtowntomsriver.com
X-WR-CALDESC:Events for 
REFRESH-INTERVAL;VALUE=DURATION:PT1H
X-Robots-Tag:noindex
X-PUBLISHED-TTL:PT1H
BEGIN:VTIMEZONE
TZID:America/New_York
BEGIN:DAYLIGHT
TZOFFSETFROM:-0500
TZOFFSETTO:-0400
TZNAME:EDT
DTSTART:20230312T070000
END:DAYLIGHT
BEGIN:STANDARD
TZOFFSETFROM:-0400
TZOFFSETTO:-0500
TZNAME:EST
DTSTART:20231105T060000
END:STANDARD
BEGIN:DAYLIGHT
TZOFFSETFROM:-0500
TZOFFSETTO:-0400
TZNAME:EDT
DTSTART:20240310T070000
END:DAYLIGHT
BEGIN:STANDARD
TZOFFSETFROM:-0400
TZOFFSETTO:-0500
TZNAME:EST
DTSTART:20241103T060000
END:STANDARD
BEGIN:DAYLIGHT
TZOFFSETFROM:-0500
TZOFFSETTO:-0400
TZNAME:EDT
DTSTART:20250309T070000
END:DAYLIGHT
BEGIN:STANDARD
TZOFFSETFROM:-0400
TZOFFSETTO:-0500
TZNAME:EST
DTSTART:20251102T060000
END:STANDARD
END:VTIMEZONE
BEGIN:VEVENT
DTSTART;TZID=America/New_York:20240209T140000
DTEND;TZID=America/New_York:20240209T160000
DTSTAMP:20260424T222426
CREATED:20231211T150304Z
LAST-MODIFIED:20231212T142450Z
UID:10001457-1707487200-1707494400@downtowntomsriver.com
SUMMARY:Craftapalooza
DESCRIPTION:Bring your creativity and we will provide the supplies. Come make a variety of crafts from shell painting to jewelry making and a host of other great projects. \nIn the event of inclement weather\, this program will be held on February 23rd
URL:https://downtowntomsriver.com/event/craftapalooza/
LOCATION:The Ocean County Library\, 101 Washington St\, Toms River\, NJ\, 08753\, United States
CATEGORIES:Arts & Crafts
ORGANIZER;CN="The Ocean County Library":MAILTO:programs@theoceancountylibrary.org
END:VEVENT
BEGIN:VEVENT
DTSTART;TZID=America/New_York:20240210T120000
DTEND;TZID=America/New_York:20240210T160000
DTSTAMP:20260424T222426
CREATED:20231226T191925Z
LAST-MODIFIED:20231227T132901Z
UID:10002002-1707566400-1707580800@downtowntomsriver.com
SUMMARY:Valentine's Sip & Shop Craft Vendor Fair at Garden State Distillery!
DESCRIPTION:🎉🍷 Join us for the Galentine’s Sip & Shop Vendor Fair at Garden State Distillery! 🛍️✨ \n📅 Date: Saturday\, February 10th\n⏰ Time: 12-4 pm\n📍 Venue: Garden State Distillery\, 13 Washington Street\, Toms River\, NJ \n✨ Experience the perfect blend of local vendors showcasing their finest goods at a fantastic distillery setting! Sip on exquisite drinks while discovering incredible finds. Whether it’s a day with your partner or a girls’ day out\, this event has something special for everyone! ✨ \n💝 Valentine’s Day Gifts 💖\nFind the perfect gift for your loved one! \n👭 Girls’ Day Out 🌟\nGather your gal pals for a fabulous day of shopping\, sipping\, and laughter! \n🌟 Vendor Lineup🌟 \n❤️Lu Linxx 🎀: For elegant permanent jewelry.\n❤️Sparklekat 🌈: Discover vibrant polymer clay earrings and sun catchers.\n❤️Sol Inspired Soap 🛁: Indulge in handcrafted soaps\, scrubs\, and candles.\n❤️Lush Botanicals 🌿: Explore tropical indoor plants for a refreshing touch.\n❤️Unique Creations by Triple C ❤️: Adorable gnomes and Valentine’s Day decor.\n❤️Crafted Pearl 🐚: Artisan sea shell items for unique gifts.\n❤️Tracy Ann Jewelry 💎: Find one-of-a-kind jewelry pieces.\n❤️Beach Glass Creations NJ 🌊: Stunning art made from sea glass.\n❤️Tommy’s Treasures 🌟: Beautiful creations made from driftwood.\n❤️Metaphysical Corridor 🔮: Discover wrapped crystals and essential oils.\n❤️The Eye Candy Shoppe 🍭: Indulge in dehydrated candy delights.\n❤️The House Of Fun And Crafts ♻️: Unique upcycled wood products redone with resin.\n❤️Live Whole Massage & Holistics LLC 💆‍♀️: Enjoy chair massages and aromatherapy products.\n❤️Savvi The Lifestyle Brand 👗: Explore apparel\, beauty\, and wellness items.\n❤️PinkBeauty Organic Skincare 🌸: Handcrafted European style facial care.\n❤️Auntie Tats’s Candle Shoppe 🕯️: Find coconut/soy candles for a cozy ambiance. \nDon’t miss this opportunity to shop local and find that perfect Valentine’s Day gift or spend a delightful day with your friends exploring unique items! See you there! 🎀🥂
URL:https://downtowntomsriver.com/event/valentines-sip-shop-craft-vendor-fair-at-garden-state-distillery/
LOCATION:Garden State Distillery\, 13 Washington Street\, Toms River\, 08753\, United States
ATTACH;FMTTYPE=image/png:https://downtowntomsriver.com/wp-content/uploads/2023/12/Galentines.png
ORGANIZER;CN="Jaime Zazzara":MAILTO:jaimezazzara@gmail.com
END:VEVENT
BEGIN:VEVENT
DTSTART;TZID=America/New_York:20240213T080000
DTEND;TZID=America/New_York:20240213T170000
DTSTAMP:20260424T222426
CREATED:20240213T195413Z
LAST-MODIFIED:20240213T195413Z
UID:10002024-1707811200-1707843600@downtowntomsriver.com
SUMMARY:🌸 April Showers Sip & Shop Spectacular Vendor Fair 🌸
DESCRIPTION:🌸 April Showers Sip & Shop Spectacular Vendor Fair 🌸 \n🎉 Date: Saturday\, April 13th\n⏰ Time: 12-4 pm\n📍 Venue: Garden State Distillery\, 13 Washington Street\, Toms River\, NJ \nFacebook Event: https://www.facebook.com/share/5pwHNJYtMwMQrVzV/?mibextid=9l3rBW \n🌈 Get ready for a springtime celebration of local talent and creativity! Join us for an unforgettable day filled with: \n🛍️ Shopping Galore: Explore a diverse range of vendors offering everything from handcrafted crafts to delectable artisanal foods\, stunning jewelry\, unique home decor\, and much more! \n💎 Shimmering Jewelry: Adorn yourself with exquisite handcrafted jewelry pieces that radiate beauty and personality. \n🍫 Tasty Treats: Indulge your taste buds with mouthwatering artisanal treats\, perfect for satisfying your sweet cravings. \n🖼️ Home Decor Delights: Spruce up your living space with one-of-a-kind decor finds that add charm and character to any room. \nDon’t miss out on this opportunity to support local artisans\, discover unique treasures\, and soak up the vibrant atmosphere of our April Showers Sip & Shop Spectacular! Bring your friends and family for a day of fun and festivities! 🌟 \n🧘‍♀️ Jaime Zazzara\, JZ HEALS\, LLC 🧘‍♀️ – Empowerment Events\, Sound Healing Meditation\, Life Coaching.\nWebsite: https://www.jzheals.com \n⛵️ Wind Therapy Wellness Retreats ⛵️ – Wellness Retreats: Luxury Wellness Retreats aboard a Sailboat.\nWebsite: https://www.windtherapywellnessretreats.com \n💎 Touchstone Crystal 💎 – Dazzling Swarovski jewelry.\nWebsite: https://www.touchstonecrystal.com/jaimeebickford \n🛁🌼 Shells Bath & Body 🛁🌼 – Homemade soaps and more.\nWebsite: https://www.shellsbathbody.com \n✨📿 Treasured Jewelry Exclusives ✨📿 – Handcrafted bohemian jewelry. \n🐝🥄 Bee Stamped by Dawn 🐝🥄 – Unique handcrafted vintage spoon rings and more.\nWebsite: https://www.beestampedbydawn.com \n🔮✨ Meraki Soul Centered Healing 🔮✨ – Crystals\, body butter\, soap\, candles\, and jewelry.\nFacebook: https://www.facebook.com/merakisoulcenteredhealing \n🌿🍫 Happy Edibles & Body Essentials 🌿🍫 – Infused edibles and body essentials for wellness.\nInstagram: https://www.instagram.com/happynorganic2 \n🏖️🐚 Beach Glass Creations NJ 🏖️🐚 – Art created from sea glass\, shells\, pottery\, and driftwood.\nInstagram: https://www.instagram.com/beachglasscreationsnj \n🌟🔮 Redsky Light 🌟🔮 – Spiritual tools\, Orgonite pendants\, and more.\nFacebook: https://www.facebook.com/Redsky\nInstagram: https://www.instagram.com/light333bluebird \n🧶👜 KandACrochet 🧶👜 – Crocheted products including hanging flowers\, bags\, shirts\, keychains\, and plushies.\nFacebook: https://www.facebook.com/KandAcrochet2288 \n💎📦 Metaphysical Corridor 💎📦 – Jewelry boxes and wire-wrapped crystals.\n– Facebook: https://www.facebook.com/Metcorridor \n🍭👁️ The Eye Candy Shoppe 🍭👁️ – Handmade beaded jewelry\, including Spring pieces and Mother’s Day gifts. \nSerendipity Shopee\nHandmade beaded jewelry. Everything from bracelets and necklaces to rings and earrings.\n– Instagram: https://www.instagram.com/serendipityshoppe38\n– Facebook: https://www.facebook.com/SerendipityShopee\n– Etsy: https://www.etsy.com/shop/Serendipityshoppee \n🔮✨ Melissa Spiritual Works 🔮✨ – Offerings include readings and Reiki-infused jewelry. \n📿✨ Isabella Jolie Jewelry 📿✨ – Handcrafted Jewelry.\n– Instagram: https://www.instagram.com/IsabellaJolieJewelry\n– Website: https://www.IsabellaJolieJewelry.com \n🍫🖼️ The Chocolate Art Gallery 🍫🖼️ – Prepackaged candy.\n– Website: https://www.thechocolateartgallery.com\n– Facebook: https://www.facebook.com/TheChocolateArtGalleryOrderSite \n🎨🪑 RustnSuch Vintage 🎨🪑 – Eclectic Vintage Upcycled Art.\n– Instagram: https://www.instagram.com/rustnsuchvintage\n– Facebook: https://www.facebook.com/RustnSuch \nThis event is organized by Jaime Zazzara @JZHEALS. For more information\, contact Jaime at 908-910-2898 or via email: jaimezazzara@gmail.com
URL:https://downtowntomsriver.com/event/%f0%9f%8c%b8-april-showers-sip-shop-spectacular-vendor-fair-%f0%9f%8c%b8/
LOCATION:Garden State Distillery\, 13 Washington Street\, Toms River\, 08753\, United States
ATTACH;FMTTYPE=image/png:https://downtowntomsriver.com/wp-content/uploads/2024/02/AprilSipShop.png
ORGANIZER;CN="Jaime Zazzara":MAILTO:jaimezazzara@gmail.com
END:VEVENT
BEGIN:VEVENT
DTSTART;TZID=America/New_York:20240213T080000
DTEND;TZID=America/New_York:20240213T170000
DTSTAMP:20260424T222426
CREATED:20240213T195513Z
LAST-MODIFIED:20240213T195513Z
UID:10002025-1707811200-1707843600@downtowntomsriver.com
SUMMARY:🌸 April Showers Sip & Shop Spectacular Vendor Fair 🌸
DESCRIPTION:🌸 April Showers Sip & Shop Spectacular Vendor Fair 🌸 \n🎉 Date: Saturday\, April 13th\n⏰ Time: 12-4 pm\n📍 Venue: Garden State Distillery\, 13 Washington Street\, Toms River\, NJ \nFacebook Event: https://www.facebook.com/share/5pwHNJYtMwMQrVzV/?mibextid=9l3rBW \n🌈 Get ready for a springtime celebration of local talent and creativity! Join us for an unforgettable day filled with: \n🛍️ Shopping Galore: Explore a diverse range of vendors offering everything from handcrafted crafts to delectable artisanal foods\, stunning jewelry\, unique home decor\, and much more! \n💎 Shimmering Jewelry: Adorn yourself with exquisite handcrafted jewelry pieces that radiate beauty and personality. \n🍫 Tasty Treats: Indulge your taste buds with mouthwatering artisanal treats\, perfect for satisfying your sweet cravings. \n🖼️ Home Decor Delights: Spruce up your living space with one-of-a-kind decor finds that add charm and character to any room. \nDon’t miss out on this opportunity to support local artisans\, discover unique treasures\, and soak up the vibrant atmosphere of our April Showers Sip & Shop Spectacular! Bring your friends and family for a day of fun and festivities! 🌟 \n🧘‍♀️ Jaime Zazzara\, JZ HEALS\, LLC 🧘‍♀️ – Empowerment Events\, Sound Healing Meditation\, Life Coaching.\nWebsite: https://www.jzheals.com \n⛵️ Wind Therapy Wellness Retreats ⛵️ – Wellness Retreats: Luxury Wellness Retreats aboard a Sailboat.\nWebsite: https://www.windtherapywellnessretreats.com \n💎 Touchstone Crystal 💎 – Dazzling Swarovski jewelry.\nWebsite: https://www.touchstonecrystal.com/jaimeebickford \n🛁🌼 Shells Bath & Body 🛁🌼 – Homemade soaps and more.\nWebsite: https://www.shellsbathbody.com \n✨📿 Treasured Jewelry Exclusives ✨📿 – Handcrafted bohemian jewelry. \n🐝🥄 Bee Stamped by Dawn 🐝🥄 – Unique handcrafted vintage spoon rings and more.\nWebsite: https://www.beestampedbydawn.com \n🔮✨ Meraki Soul Centered Healing 🔮✨ – Crystals\, body butter\, soap\, candles\, and jewelry.\nFacebook: https://www.facebook.com/merakisoulcenteredhealing \n🌿🍫 Happy Edibles & Body Essentials 🌿🍫 – Infused edibles and body essentials for wellness.\nInstagram: https://www.instagram.com/happynorganic2 \n🏖️🐚 Beach Glass Creations NJ 🏖️🐚 – Art created from sea glass\, shells\, pottery\, and driftwood.\nInstagram: https://www.instagram.com/beachglasscreationsnj \n🌟🔮 Redsky Light 🌟🔮 – Spiritual tools\, Orgonite pendants\, and more.\nFacebook: https://www.facebook.com/Redsky\nInstagram: https://www.instagram.com/light333bluebird \n🧶👜 KandACrochet 🧶👜 – Crocheted products including hanging flowers\, bags\, shirts\, keychains\, and plushies.\nFacebook: https://www.facebook.com/KandAcrochet2288 \n💎📦 Metaphysical Corridor 💎📦 – Jewelry boxes and wire-wrapped crystals.\n– Facebook: https://www.facebook.com/Metcorridor \n🍭👁️ The Eye Candy Shoppe 🍭👁️ – Handmade beaded jewelry\, including Spring pieces and Mother’s Day gifts. \nSerendipity Shopee\nHandmade beaded jewelry. Everything from bracelets and necklaces to rings and earrings.\n– Instagram: https://www.instagram.com/serendipityshoppe38\n– Facebook: https://www.facebook.com/SerendipityShopee\n– Etsy: https://www.etsy.com/shop/Serendipityshoppee \n🔮✨ Melissa Spiritual Works 🔮✨ – Offerings include readings and Reiki-infused jewelry. \n📿✨ Isabella Jolie Jewelry 📿✨ – Handcrafted Jewelry.\n– Instagram: https://www.instagram.com/IsabellaJolieJewelry\n– Website: https://www.IsabellaJolieJewelry.com \n🍫🖼️ The Chocolate Art Gallery 🍫🖼️ – Prepackaged candy.\n– Website: https://www.thechocolateartgallery.com\n– Facebook: https://www.facebook.com/TheChocolateArtGalleryOrderSite \n🎨🪑 RustnSuch Vintage 🎨🪑 – Eclectic Vintage Upcycled Art.\n– Instagram: https://www.instagram.com/rustnsuchvintage\n– Facebook: https://www.facebook.com/RustnSuch \nThis event is organized by Jaime Zazzara @JZHEALS. For more information\, contact Jaime at 908-910-2898 or via email: jaimezazzara@gmail.com
URL:https://downtowntomsriver.com/event/%f0%9f%8c%b8-april-showers-sip-shop-spectacular-vendor-fair-%f0%9f%8c%b8-2/
LOCATION:Garden State Distillery\, 13 Washington Street\, Toms River\, 08753\, United States
ORGANIZER;CN="Jaime Zazzara":MAILTO:jaimezazzara@gmail.com
END:VEVENT
BEGIN:VEVENT
DTSTART;TZID=America/New_York:20240225T120000
DTEND;TZID=America/New_York:20240225T160000
DTSTAMP:20260424T222426
CREATED:20240212T193316Z
LAST-MODIFIED:20240223T150045Z
UID:10002023-1708862400-1708876800@downtowntomsriver.com
SUMMARY:Sunday Funday Bingo!
DESCRIPTION:We hope you will join us for our upcoming Sunday Funday Bingo fundraising event for our CASA program and partner We Are Loved this February! We wanted to make our next event incredibly fun for our supporters and those in the community who love to get out and play bingo! It will be an afternoon of fun\, games\, prizes\, and we’ll be pulling the winner of the 50/50 raffle.  Visit event website to purchase bingo tickets\, www.casaofoceancounty.org/events/sunday-funday-bingo.html . To purchase your 50/50 raffle tickets\, please reach out to our office 732-797-0590 or our Jennifer Gleason\, our Director of Volunteer Management & Development\, jennifer@CASAofOceanCounty.org  Don’t miss this awesome event. \nBingo event details: \n✔️$40 per person \n✔️Price includes 7 games/sheets\, dauber\, hot dog or hamburger\, fries\, soda\, or coffee. A cash bar will be available!
URL:https://downtowntomsriver.com/event/sunday-funday-bingo/
LOCATION:Toms River Elks\, 600 Washington Street\, Toms River\, NJ\, 08753\, United States
ATTACH;FMTTYPE=image/webp:https://downtowntomsriver.com/wp-content/uploads/2024/02/Bingo.Flyer_.8.5x11.png.webp
END:VEVENT
BEGIN:VEVENT
DTSTART;TZID=America/New_York:20240225T140000
DTEND;TZID=America/New_York:20240225T170000
DTSTAMP:20260424T222426
CREATED:20231205T232102Z
LAST-MODIFIED:20231206T162618Z
UID:10001455-1708869600-1708880400@downtowntomsriver.com
SUMMARY:What America Sounds Like: 250 Years of American Music
DESCRIPTION:Melissa Ziobro \nFebruary 25\, 2024\, at 2:00 PM \nWhat America Sounds Like: 250 Years of American Music \n  \nThis interactive\, multi-media talk by Melissa Ziobro provides a look at the iconic music that \nhelps us understand our shared history as we approach the 250th anniversary of American \nindependence. Special emphasis is given to Thomas Edison\, Paul Robeson\, James P. Johnson\, \nFrank Sinatra\, Whitney Houston\, Paul Simon\, Bruce Springsteen\, Queen Latifah\, Bon Jovi\, and \nothers from New Jersey who have contributed so much to the American music landscape. \nMelissa Ziobro is a longtime educator and the new Curator of the Bruce Springsteen Archives \nand Center for American Music at Monmouth University. \nThis event takes place at our museum at 26 Hadley Avenue in Toms River. Our speaker series is \nalways free; but donations are greatly appreciated. SEATING IS LIMITED! To reserve your \nseat\, send your name\, zip code\, email address\, and the date of the program (February 25\, 2024)\n\nto oceancountyhistory.programs@gmail.com. \n 
URL:https://downtowntomsriver.com/event/what-america-sounds-like-250-years-of-american-music/
LOCATION:Ocean County Historical Society\, 26 Hadley Ave\, Toms River\, NJ\, 08753\, United States
CATEGORIES:Arts & Cluture
END:VEVENT
END:VCALENDAR