BEGIN:VCALENDAR
VERSION:2.0
PRODID:-// - ECPv6.15.15//NONSGML v1.0//EN
CALSCALE:GREGORIAN
METHOD:PUBLISH
X-ORIGINAL-URL:https://downtowntomsriver.com
X-WR-CALDESC:Events for 
REFRESH-INTERVAL;VALUE=DURATION:PT1H
X-Robots-Tag:noindex
X-PUBLISHED-TTL:PT1H
BEGIN:VTIMEZONE
TZID:America/New_York
BEGIN:DAYLIGHT
TZOFFSETFROM:-0500
TZOFFSETTO:-0400
TZNAME:EDT
DTSTART:20230312T070000
END:DAYLIGHT
BEGIN:STANDARD
TZOFFSETFROM:-0400
TZOFFSETTO:-0500
TZNAME:EST
DTSTART:20231105T060000
END:STANDARD
BEGIN:DAYLIGHT
TZOFFSETFROM:-0500
TZOFFSETTO:-0400
TZNAME:EDT
DTSTART:20240310T070000
END:DAYLIGHT
BEGIN:STANDARD
TZOFFSETFROM:-0400
TZOFFSETTO:-0500
TZNAME:EST
DTSTART:20241103T060000
END:STANDARD
BEGIN:DAYLIGHT
TZOFFSETFROM:-0500
TZOFFSETTO:-0400
TZNAME:EDT
DTSTART:20250309T070000
END:DAYLIGHT
BEGIN:STANDARD
TZOFFSETFROM:-0400
TZOFFSETTO:-0500
TZNAME:EST
DTSTART:20251102T060000
END:STANDARD
END:VTIMEZONE
BEGIN:VEVENT
DTSTART;TZID=America/New_York:20240104T180000
DTEND;TZID=America/New_York:20240104T200000
DTSTAMP:20260425T001615
CREATED:20231226T001315Z
LAST-MODIFIED:20231227T133018Z
UID:10001996-1704391200-1704398400@downtowntomsriver.com
SUMMARY:Self Expression Through Art w/ Susan Faber
DESCRIPTION:Self Expression Through Art w/ Susan Faber
URL:https://downtowntomsriver.com/event/self-expression-through-art-w-susan-faber/
LOCATION:TRAC- Toms River Artist Community\, 40 Main Street\, Toms River\, NJ\, 08753\, United States
ATTACH;FMTTYPE=image/jpeg:https://downtowntomsriver.com/wp-content/uploads/2023/12/inbound487972992690500395.jpg
ORGANIZER;CN="Toms River Artist Community":MAILTO:tomsriverartistcommunity732@gmail.com
END:VEVENT
BEGIN:VEVENT
DTSTART;TZID=America/New_York:20240107T140000
DTEND;TZID=America/New_York:20240107T160000
DTSTAMP:20260425T001615
CREATED:20231226T001029Z
LAST-MODIFIED:20231227T134215Z
UID:10001995-1704636000-1704643200@downtowntomsriver.com
SUMMARY:Knitting w/ Art from Mars
DESCRIPTION:Creat handmade knitting projects with Wendy from Art from Mars Sundays in the Book Nook at TRAC Gallery
URL:https://downtowntomsriver.com/event/knitting-w-art-from-mars/
LOCATION:TRAC- Toms River Artist Community\, 40 Main Street\, Toms River\, NJ\, 08753\, United States
ATTACH;FMTTYPE=image/jpeg:https://downtowntomsriver.com/wp-content/uploads/2023/12/inbound6378079956950864101.jpg
ORGANIZER;CN="Toms River Artist Community":MAILTO:tomsriverartistcommunity732@gmail.com
END:VEVENT
BEGIN:VEVENT
DTSTART;TZID=America/New_York:20240109T190000
DTEND;TZID=America/New_York:20240109T200000
DTSTAMP:20260425T001615
CREATED:20210917T170947Z
LAST-MODIFIED:20210917T170947Z
UID:10000108-1704826800-1704830400@downtowntomsriver.com
SUMMARY:Toms River Artist Community - TRAC Monthly Members Meeting
DESCRIPTION:TRAC’s monthly members meeting (the 2nd Tues of every month) All are welcome\, if you are not a member come and check us out\, see what we do\, meet our artists and tour our gallery.  If you are a local artist looking to meet other artists\, hang your works in  galleries around town\, or brush up on your skills\, we are your group! \nWe now offer a discounted JR membership for High School Students ! \n 
URL:https://downtowntomsriver.com/event/toms-river-artist-community-trac-monthly-members-meeting-3/2024-01-09/
LOCATION:TRAC- Toms River Artist Community\, 40 Main Street\, Toms River\, NJ\, 08753\, United States
CATEGORIES:Clubs & Organizations
ATTACH;FMTTYPE=image/png:https://downtowntomsriver.com/wp-content/uploads/2021/07/white-logo.png
ORGANIZER;CN="Toms River Artist Community":MAILTO:tomsriverartistcommunity732@gmail.com
END:VEVENT
BEGIN:VEVENT
DTSTART;TZID=America/New_York:20240114T140000
DTEND;TZID=America/New_York:20240114T170000
DTSTAMP:20260425T001615
CREATED:20231108T145749Z
LAST-MODIFIED:20231108T161007Z
UID:10001443-1705240800-1705251600@downtowntomsriver.com
SUMMARY:"Continuous Fight For Recognition on Lenape Homelands" by Ty "Dancing Wolf" Ellis
DESCRIPTION:Ty “Dancing Wolf” Ellis \nJanuary 14\, 2024\, at 2:00 PM \n“Continuous Fight for Recognition on Lenape Homelands” \nLenapehoking(k); the land of the Lenape\, and the land of our ancestors. The lands that many Lenape people were forcibly displaced from\, while others attempted to hide in plain sight for over a century before finally being allowed to claim their culture and heritage as Indigenous People publicly. This basic human right was something not afforded to Native People on the East Coast until just a short 45 years ago \nThis discussion will go on to speak about the history of Lenape people on these lands (and touch on those that were removed) starting with the Trail of Tears\, to the American Indian Religious Freedom Act of 1978\, to reformation of our community\, to the constant struggles of each decade after. \nTy “Dancing Wolf” Ellis is a citizen of the Nanticoke Lenni-Lenape Tribe; one of three state recognized tribes within New Jersey\, and a Sovereign Nation. He has had many responsibilities within his Tribal Community\, being a part of or in charge of most all existing committees within the tribe at some point within his 33 years in the physical world. He has facilitated many lectures and has been extensively taught the ways of his people by Chief Mark “Quiet Hawk” Gould\, Chief Lewis “Grey Squirrel” Pierce\, and reigning Chief Urie “Fox Sparrow” Ridgeway through his life\, and still to this day. \nThis event takes place at our museum at 26 Hadley Avenue in Toms River. Our speaker series is always free; but donations are greatly appreciated. SEATING IS LIMITED! To reserve your seat\, send your name\, zip code\, email address\, and the date of the program (January 14\, 2024) to oceancountyhistory.programs@gmail.com. \n 
URL:https://downtowntomsriver.com/event/continuous-fight-for-recognition-on-lenape-homelands-by-ty-dancing-wolf-ellis/
LOCATION:Ocean County Historical Society\, 26 Hadley Ave\, Toms River\, NJ\, 08753\, United States
CATEGORIES:Arts & Cluture,Arts & Crafts
END:VEVENT
BEGIN:VEVENT
DTSTART;TZID=America/New_York:20240120T160000
DTEND;TZID=America/New_York:20240120T190000
DTSTAMP:20260425T001615
CREATED:20231225T235639Z
LAST-MODIFIED:20231227T134417Z
UID:10001890-1705766400-1705777200@downtowntomsriver.com
SUMMARY:Book Signing w/ Gregory Andrus
DESCRIPTION:Book Signing w/\nGregory Andrus of Portraits of the Jersey Shore will be at TRAC Gallery talking about his new book and selling and signing copies. Come meet the author and get your copy signed.
URL:https://downtowntomsriver.com/event/book-signing-w-gregory-andrus/
LOCATION:TRAC- Toms River Artist Community\, 40 Main Street\, Toms River\, NJ\, 08753\, United States
ATTACH;FMTTYPE=image/jpeg:https://downtowntomsriver.com/wp-content/uploads/2023/12/inbound6844700200220528985.jpg
ORGANIZER;CN="Toms River Artist Community":MAILTO:tomsriverartistcommunity732@gmail.com
END:VEVENT
BEGIN:VEVENT
DTSTART;TZID=America/New_York:20240124T183000
DTEND;TZID=America/New_York:20240124T193000
DTSTAMP:20260425T001615
CREATED:20231211T142247Z
LAST-MODIFIED:20231212T142556Z
UID:10001456-1706121000-1706124600@downtowntomsriver.com
SUMMARY:Crafts with Maps
DESCRIPTION:Travel the world by crafting with maps. We will provide a variety of maps and craft supplies to make unique decorations and gifts. Please register for this free program.
URL:https://downtowntomsriver.com/event/crafts-with-maps/
LOCATION:The Ocean County Library\, 101 Washington St\, Toms River\, NJ\, 08753\, United States
CATEGORIES:Arts & Crafts
ORGANIZER;CN="The Ocean County Library":MAILTO:programs@theoceancountylibrary.org
END:VEVENT
BEGIN:VEVENT
DTSTART;TZID=America/New_York:20240130T173000
DTEND;TZID=America/New_York:20240130T203000
DTSTAMP:20260425T001615
CREATED:20231219T183754Z
LAST-MODIFIED:20231219T183758Z
UID:10000140-1706635800-1706646600@downtowntomsriver.com
SUMMARY:Open Studio Night
DESCRIPTION:Join us for an Open Studio night! The last Tuesday of every month 5:30-8:30pm.  Bring your own supplies\, bring your own snacks/drinks.  Come out and paint\, draw\, sketch or whatever you want.  Hang out with your fellow artists\, ask for help if you’re stuck on something\, get new ideas from others and help spark your creativity!  A fun relaxing night to just chill and do some artin’ \n40 Main Street\, Right side \nMembers are free\, non members are welcome to join for $5.00 a session
URL:https://downtowntomsriver.com/event/open-studio-night-2/
LOCATION:TRAC- Toms River Artist Community\, 40 Main Street\, Toms River\, NJ\, 08753\, United States
CATEGORIES:Arts & Cluture
ATTACH;FMTTYPE=image/png:https://downtowntomsriver.com/wp-content/uploads/2021/09/white-logo-6.png
ORGANIZER;CN="Toms River Artist Community":MAILTO:tomsriverartistcommunity732@gmail.com
END:VEVENT
END:VCALENDAR