BEGIN:VCALENDAR
VERSION:2.0
PRODID:-// - ECPv6.15.15//NONSGML v1.0//EN
CALSCALE:GREGORIAN
METHOD:PUBLISH
X-ORIGINAL-URL:https://downtowntomsriver.com
X-WR-CALDESC:Events for 
REFRESH-INTERVAL;VALUE=DURATION:PT1H
X-Robots-Tag:noindex
X-PUBLISHED-TTL:PT1H
BEGIN:VTIMEZONE
TZID:America/New_York
BEGIN:DAYLIGHT
TZOFFSETFROM:-0500
TZOFFSETTO:-0400
TZNAME:EDT
DTSTART:20210314T070000
END:DAYLIGHT
BEGIN:STANDARD
TZOFFSETFROM:-0400
TZOFFSETTO:-0500
TZNAME:EST
DTSTART:20211107T060000
END:STANDARD
BEGIN:DAYLIGHT
TZOFFSETFROM:-0500
TZOFFSETTO:-0400
TZNAME:EDT
DTSTART:20220313T070000
END:DAYLIGHT
BEGIN:STANDARD
TZOFFSETFROM:-0400
TZOFFSETTO:-0500
TZNAME:EST
DTSTART:20221106T060000
END:STANDARD
BEGIN:DAYLIGHT
TZOFFSETFROM:-0500
TZOFFSETTO:-0400
TZNAME:EDT
DTSTART:20230312T070000
END:DAYLIGHT
BEGIN:STANDARD
TZOFFSETFROM:-0400
TZOFFSETTO:-0500
TZNAME:EST
DTSTART:20231105T060000
END:STANDARD
END:VTIMEZONE
BEGIN:VEVENT
DTSTART;TZID=America/New_York:20221202T170000
DTEND;TZID=America/New_York:20221202T190000
DTSTAMP:20260425T213353
CREATED:20220829T185344Z
LAST-MODIFIED:20220829T185344Z
UID:10000279-1670000400-1670007600@downtowntomsriver.com
SUMMARY:Downtown Toms River Tree Lighting
DESCRIPTION:Join The Downtown Toms River Business Improvement District\, Township of Toms River\, and Toms River Fire Co. #1 in welcoming in the holiday season with the annual tree lighting at Town Hall.  Live entertainment begins at 5pm. Santa arrives on the fire truck at 7pm to light the tree. Photos with Santa will follow the tree lighting in Town Hall.
URL:https://downtowntomsriver.com/event/downtown-toms-river-tree-lighting-2/
LOCATION:Town Hall Court Yard\, 33 Washington St.\, Toms River\, NJ\, 08753\, United States
ORGANIZER;CN="Downtown Toms River BID":MAILTO:info@downtowntomsriver.com
END:VEVENT
BEGIN:VEVENT
DTSTART;TZID=America/New_York:20221202T180000
DTEND;TZID=America/New_York:20221202T230000
DTSTAMP:20260425T213353
CREATED:20221117T185652Z
LAST-MODIFIED:20221117T185652Z
UID:10000606-1670004000-1670022000@downtowntomsriver.com
SUMMARY:Voorhees Animal Orphanage and AutoLenders’ First Annual Pit Ball
DESCRIPTION:On Friday\, December 2\, 2022\, AutoLenders\, New Jersey’s #1 pre-owned car dealership for over a decade\, and  the Voorhees Animal Orphanage’s are hosting the first annual Pit Ball Gala at the Mansion on Main Street in Voorhees\, New Jersey.  \nCommunity members are invited to celebrate a mutual love and compassion for animals while supporting the animal shelter for a fun night filled with food\, dancing and more. Serving 29 municipalities in Southern New Jersey\, the Voorhees Animal Orphanage is dedicated to providing shelter\, food and medical care to stray and unwanted animals until permanent homes are found and is excited to welcome the surrounding area to their first-ever gala event.   \nAttendees will be able to enjoy live music by BstreetBand\, participate in both silent and live auctions and enjoy a premium open bar and gourmet food. Tickets are $180 per person and those interested in attending are encouraged to visit https://www.vaonj.org/the-pit-ball/ to purchase tickets and for more information.  
URL:https://downtowntomsriver.com/event/voorhees-animal-orphanage-and-autolenders-first-annual-pit-ball/
LOCATION:Mansion on Main Street\, 300 Main St\, Voorhees\, NJ\, 08043\, United States
ORGANIZER;CN="AutoLenders":MAILTO:jules.schwenderman@tierneyagency.com
END:VEVENT
BEGIN:VEVENT
DTSTART;TZID=America/New_York:20221203T100000
DTEND;TZID=America/New_York:20221203T150000
DTSTAMP:20260425T213353
CREATED:20221027T160935Z
LAST-MODIFIED:20221027T160935Z
UID:10000618-1670061600-1670079600@downtowntomsriver.com
SUMMARY:OCHS's Victorian Era Holiday Open House
DESCRIPTION:OCHS’s Victorian Era Holiday Open House \nOn Saturday\, December 3\, 2022\, the Ocean County Historical Society\, 26 Hadley Ave.\, Toms River will be hosting a Victorian Era Holiday Open House from 10:00 am to 3:00 pm. Bring your camera to have pictures taken with a Victorian style Santa from 11:00 am until 1:00 pm. Take a tour of our holiday decorated Victorian Era house and museum and enjoy a model train exhibit. \nAdmission is free\, but donations are welcomed. Refreshments will be available at no charge. For additional information please call Jeff at 609-339-9134. \n 
URL:https://downtowntomsriver.com/event/ochss-victorian-era-holiday-open-house/
LOCATION:Ocean County Historical Society\, 26 Hadley Ave\, Toms River\, NJ\, 08753\, United States
CATEGORIES:Arts & Cluture
END:VEVENT
BEGIN:VEVENT
DTSTART;TZID=America/New_York:20221203T120000
DTEND;TZID=America/New_York:20221203T180000
DTSTAMP:20260425T213353
CREATED:20220829T190342Z
LAST-MODIFIED:20220829T190342Z
UID:10000280-1670068800-1670090400@downtowntomsriver.com
SUMMARY:Winter Wonderland Weekend
DESCRIPTION:Join The Downtown Toms River  Business Improvement District for a Winter Wonderland Village.  The courtyard at Town Hall will be transformed into a Winter Wonderland Village. Vendors will be selling great gifts for the holiday season.  Kid’s activities\,  s’mores station\, holiday music and more.  Food trucks and downtown businesses will be open.
URL:https://downtowntomsriver.com/event/winter-wonderland-weekend/2022-12-03/
LOCATION:Town Hall Court Yard\, 33 Washington St.\, Toms River\, NJ\, 08753\, United States
ORGANIZER;CN="Downtown Toms River BID":MAILTO:info@downtowntomsriver.com
END:VEVENT
BEGIN:VEVENT
DTSTART;TZID=America/New_York:20221204T120000
DTEND;TZID=America/New_York:20221204T180000
DTSTAMP:20260425T213353
CREATED:20220829T190342Z
LAST-MODIFIED:20220829T190342Z
UID:10000281-1670155200-1670176800@downtowntomsriver.com
SUMMARY:Winter Wonderland Weekend
DESCRIPTION:Join The Downtown Toms River  Business Improvement District for a Winter Wonderland Village.  The courtyard at Town Hall will be transformed into a Winter Wonderland Village. Vendors will be selling great gifts for the holiday season.  Kid’s activities\,  s’mores station\, holiday music and more.  Food trucks and downtown businesses will be open.
URL:https://downtowntomsriver.com/event/winter-wonderland-weekend/2022-12-04/
LOCATION:Town Hall Court Yard\, 33 Washington St.\, Toms River\, NJ\, 08753\, United States
ORGANIZER;CN="Downtown Toms River BID":MAILTO:info@downtowntomsriver.com
END:VEVENT
BEGIN:VEVENT
DTSTART;TZID=America/New_York:20221204T140000
DTEND;TZID=America/New_York:20221204T170000
DTSTAMP:20260425T213353
CREATED:20221003T165802Z
LAST-MODIFIED:20221003T165802Z
UID:10000614-1670162400-1670173200@downtowntomsriver.com
SUMMARY:The Lights Go Out in the Electric City: South Lakewood Park by Robert DeSando
DESCRIPTION:Sunday\, December 4th\, 2022\, at 2:00 pm – “The Lights Go Out in the Electric City: South Lakewood Park\, An Exclusive Enclave for Socialites and Scientists\, Reduced to Burning Embers and Forgotten by History\,” by Robert DeSando \nPlease join the Ocean County Historical Society at 26 Hadley Avenue\, Toms River\, NJ for the following program: \nThe subject of this talk is a forgotten “city” in New Jersey known alternately as South Lakewood Park and Electric City. During the late 19th Century\, Lakewood NJ was a winter resort for the rich and famous\, including John Rockefeller and Jay Gould. It had grand hotels that entertained the elite of New York and Philadelphia society. Led by a visionary scientist and inventor with a knack for getting entangled in scandals\, investors from New York and Philadelphia proposed to build a lavish rival resort in the pines three miles away\, on the border of Lakewood\, Jackson\, and Toms River. \nTheir goal was two-fold: creation of a posh playground for the wealthy and a gathering place for inventors\, scientists and engineers who were experts in power generation and electricity. Work was well underway. In the 1890s\, a luxury hotel\, The Casino was built\, a 150-foot arc light tower was installed to bathe the new community with “artificial moonlight” at night\, a number of homes were constructed\, roads and a new railroad station were provided to facilitate transportation. Then\, as success seemed assured\, a series of catastrophes struck. The treasurer of the development corporation was arrested for embezzling $250\,000 and tried to take his own life. The hotel burned down the night before it was to open for New Year festivities. An infant was killed. Other occupants were seriously burned and injured. Its owners lost everything\, as the hotel was uninsured. A twister toppled the steel tower. Investors pulled out\, salvaging what they could. The anticipated influx of scientists and engineers never arrived. By 1905\, the community vanished. Pine trees\, weeds and grass reclaimed the land. The Central Railroad of New Jersey eventually abandoned the railroad station. During a storm\, a giant tree smashed through its roof. What was left of the structure was destroyed by arson. Today\, most people – even those living in the area – do not know South Lakewood Park or The Electric City ever existed. \n  \nRobert A. DeSando has been a journalist\, lobbyist\, and state official for more than 16 years. He held a variety of positions with the Asbury Park Press\, from reporter to bureau chief. DeSando was communications director and deputy executive director for the New Jersey State General Assembly. During the administrations of Governors Christie Whitman and Chris Christie\, he served as a special assistant to the state education commissioner and assistant commissioner for the Department of Transportation. DeSando was director of government affairs for the New Jersey School Boards Association. Now retired and living in Jackson Township\, N.J.\, he is active as a member of the Ocean County and Lakewood historical societies. \nTo register for this free program\, send your name\, zip code\, email address\, and the date of the program (Dec. 4) to oceancountyhistory.zoom@gmail.com. \n 
URL:https://downtowntomsriver.com/event/the-lights-go-out-in-the-electric-city-south-lakewood-park-by-robert-desando-2/
LOCATION:Ocean County Historical Society\, 26 Hadley Ave\, Toms River\, NJ\, 08753\, United States
CATEGORIES:Arts & Cluture
END:VEVENT
BEGIN:VEVENT
DTSTART;TZID=America/New_York:20221206T110000
DTEND;TZID=America/New_York:20221206T130000
DTSTAMP:20260425T213353
CREATED:20220926T183136Z
LAST-MODIFIED:20220926T183136Z
UID:10000284-1670324400-1670331600@downtowntomsriver.com
SUMMARY:Celebrate the Holidays with our Holiday Tea at the Mathis House
DESCRIPTION:Celebrate the Holidays with our Holiday Tea at the Mathis House! \nBack by popular demand\, our Holiday Tea will be offered to those wishing to visit the beautifully decorated Mathis House Tearoom at 600 Main Street in Toms River on December 6\, 2022.  Guests may look forward to the ever-delicious scones\, yummy tea sandwiches\, and scrumptious mini-desserts that accompany generous pots of fine tea as they chat with friends in the historical elegance of this stately home.  As usual\, a few lucky guests will win door prizes. Seating is at 11:00 AM. Cost: $40 members; $45 non-members. \nBe sure to make your reservation starting 10:00 am on October 1st by calling Deb Levinson at 732-286-3693. Checks should be made out and mailed to Ocean County Historical Society\, 26 Hadley Avenue\, Toms River\, NJ 08753 within one week of phone reservation\, with Attention: Deb in the bottom left-hand corner of the envelope. \n 
URL:https://downtowntomsriver.com/event/celebrate-the-holidays-with-our-holiday-tea-at-the-mathis-house-2/
LOCATION:The Mathis House at 600 Main\, 600 Main St.\, Toms River\, NJ\, 08753\, United States
CATEGORIES:Entertainment
END:VEVENT
BEGIN:VEVENT
DTSTART;TZID=America/New_York:20221210T160000
DTEND;TZID=America/New_York:20221210T180000
DTSTAMP:20260425T213353
CREATED:20221117T181832Z
LAST-MODIFIED:20221117T181832Z
UID:10000623-1670688000-1670695200@downtowntomsriver.com
SUMMARY:Love Buzz Satsang
DESCRIPTION:A shamanic experience in sacred space. Calling on Spirit to guide us as we journey to peace and bliss.\nIn Celtic Shamanism\, channeling spirit for direct messages is a common practice. Bring your questions for the Spirit of Love in her many guises.\nPresented by Amara Willey
URL:https://downtowntomsriver.com/event/love-buzz-satsang/
LOCATION:Downtown Shops Activity Room\, 53 Main Street\, Toms River\, NJ\, 08753\, United States
ORGANIZER;CN="Trinity's Magickal Intentions LLC":MAILTO:shibliano@yahoo.com
END:VEVENT
BEGIN:VEVENT
DTSTART;TZID=America/New_York:20221213T190000
DTEND;TZID=America/New_York:20221213T200000
DTSTAMP:20260425T213353
CREATED:20210917T170947Z
LAST-MODIFIED:20210917T170947Z
UID:10000095-1670958000-1670961600@downtowntomsriver.com
SUMMARY:Toms River Artist Community - TRAC Monthly Members Meeting
DESCRIPTION:TRAC’s monthly members meeting (the 2nd Tues of every month) All are welcome\, if you are not a member come and check us out\, see what we do\, meet our artists and tour our gallery.  If you are a local artist looking to meet other artists\, hang your works in  galleries around town\, or brush up on your skills\, we are your group! \nWe now offer a discounted JR membership for High School Students ! \n 
URL:https://downtowntomsriver.com/event/toms-river-artist-community-trac-monthly-members-meeting-3/2022-12-13/
LOCATION:TRAC- Toms River Artist Community\, 40 Main Street\, Toms River\, NJ\, 08753\, United States
CATEGORIES:Clubs & Organizations
ATTACH;FMTTYPE=image/png:https://downtowntomsriver.com/wp-content/uploads/2021/07/white-logo.png
ORGANIZER;CN="Toms River Artist Community":MAILTO:tomsriverartistcommunity732@gmail.com
END:VEVENT
BEGIN:VEVENT
DTSTART;TZID=America/New_York:20221217T180000
DTEND;TZID=America/New_York:20221217T200000
DTSTAMP:20260425T213353
CREATED:20221128T212930Z
LAST-MODIFIED:20221128T212930Z
UID:10000621-1671300000-1671307200@downtowntomsriver.com
SUMMARY:Make Your Own Yule Ornaments
DESCRIPTION:Join Trinity for a meditation and Yule ball crafting session. We’ll be setting our intentions for the turn of the wheel at Yule and crafting Yule ornaments with herbs\, crystals and glitter! \n 
URL:https://downtowntomsriver.com/event/make-your-own-yule-ornaments/
LOCATION:Downtown Shops Activity Room\, 53 Main Street\, Toms River\, NJ\, 08753\, United States
ORGANIZER;CN="Trinity's Magickal Intentions LLC":MAILTO:shibliano@yahoo.com
END:VEVENT
BEGIN:VEVENT
DTSTART;TZID=America/New_York:20221222T120000
DTEND;TZID=America/New_York:20221222T200000
DTSTAMP:20260425T213353
CREATED:20221219T135156Z
LAST-MODIFIED:20221219T135156Z
UID:10000310-1671710400-1671739200@downtowntomsriver.com
SUMMARY:Holiday Gift Shop
DESCRIPTION: Need last minute gifts? Looking for a fun\, unique gift? That Box in the Basement has something for everyone! We will have extra merchandise out for our Last Minute Holiday Gift Shop! Also\, we will be running out Secret Santa Holiday Shop for kids! Bring your kids to That Box in the Basement for our Secret Santa Holiday Shop! We’re sure you’re tired of getting that same $5 Mom mug every year. We have unique gifts from $1-$10 that the whole family can enjoy! Have a laugh on Christmas morning seeing what your kids think you like! Support small businesses and sustainable shopping
URL:https://downtowntomsriver.com/event/holiday-gift-shop/
LOCATION:Downtown Shops Activity Room\, 53 Main Street\, Toms River\, NJ\, 08753\, United States
CATEGORIES:Downtown Toms River Events
ATTACH;FMTTYPE=image/png:https://downtowntomsriver.com/wp-content/uploads/2022/12/CAAE2DB5-014C-4F4D-8022-CFCA17529C5C.png
ORGANIZER;CN="That Box in the Basement":MAILTO:thatboxtr@gmail.com
END:VEVENT
BEGIN:VEVENT
DTSTART;TZID=America/New_York:20221227T173000
DTEND;TZID=America/New_York:20221227T203000
DTSTAMP:20260425T213353
CREATED:20210826T153825Z
LAST-MODIFIED:20210826T153825Z
UID:10000545-1672162200-1672173000@downtowntomsriver.com
SUMMARY:TRAC Gallery Open Studio
DESCRIPTION:Join us for an Open Studio night! The last Tuesday of every month 5:30-8:30pm.  Bring your own supplies\, bring your own snacks/drinks.  Come out and paint\, draw\, sketch or whatever you want.  Hang out with your fellow artists\, ask for help if you’re stuck on something\, get new ideas from others and help spark your creativity!  A fun relaxing night to just chill and do some artin’ \nIn the Community at 53 Main St. \nMembers are free\, non members are welcome to join for $5.00 a session
URL:https://downtowntomsriver.com/event/trac-gallery-open-studio/2022-12-27/
LOCATION:Downtown Shops Activity Room\, 53 Main Street\, Toms River\, NJ\, 08753\, United States
CATEGORIES:Downtown Toms River Events
ATTACH;FMTTYPE=image/jpeg:https://downtowntomsriver.com/wp-content/uploads/2021/08/paint-night.jpg
ORGANIZER;CN="Toms River Artist Community":MAILTO:tomsriverartistcommunity732@gmail.com
END:VEVENT
BEGIN:VEVENT
DTSTART;TZID=America/New_York:20221227T173000
DTEND;TZID=America/New_York:20221227T203000
DTSTAMP:20260425T213353
CREATED:20210920T184914Z
LAST-MODIFIED:20210920T184914Z
UID:10000127-1672162200-1672173000@downtowntomsriver.com
SUMMARY:Open Studio Night
DESCRIPTION:Join us for an Open Studio night! The last Tuesday of every month 5:30-8:30pm.  Bring your own supplies\, bring your own snacks/drinks.  Come out and paint\, draw\, sketch or whatever you want.  Hang out with your fellow artists\, ask for help if you’re stuck on something\, get new ideas from others and help spark your creativity!  A fun relaxing night to just chill and do some artin’ \nIn the Activity Room at The Downtown Shops @ 53 Main\, 53 Main St. Toms River. \nMembers are free\, non members are welcome to join for $5.00 a session
URL:https://downtowntomsriver.com/event/open-studio-night/2022-12-27/
LOCATION:The Downtown Shops\, 53 Main St\, Toms Rivet\, NJ\, 08723\, United States
CATEGORIES:Arts & Cluture
ATTACH;FMTTYPE=image/png:https://downtowntomsriver.com/wp-content/uploads/2021/09/white-logo-6.png
ORGANIZER;CN="Toms River Artist Community":MAILTO:tomsriverartistcommunity732@gmail.com
END:VEVENT
BEGIN:VEVENT
DTSTART;TZID=America/New_York:20221231T140000
DTEND;TZID=America/New_York:20221231T160000
DTSTAMP:20260425T213353
CREATED:20221128T213433Z
LAST-MODIFIED:20221128T213433Z
UID:10000619-1672495200-1672502400@downtowntomsriver.com
SUMMARY:Make a Wish for the New Year
DESCRIPTION:A funshop and ceremony to help you expand your possibilities for 2023!\nWrap up 2022 and start 2023\, clear\, charged and ready to step into your dreams!\nLeave the old energy behind – that’s so 2022!\nCreate magickal space for what’s to come\, and start the new year with love\, laughter\, and intention!
URL:https://downtowntomsriver.com/event/make-a-wish-for-the-new-year/
LOCATION:Downtown Shops Activity Room\, 53 Main Street\, Toms River\, NJ\, 08753\, United States
ATTACH;FMTTYPE=image/jpeg:https://downtowntomsriver.com/wp-content/uploads/2022/11/DandelionSeeds.jpg
ORGANIZER;CN="Trinity's Magickal Intentions LLC":MAILTO:shibliano@yahoo.com
END:VEVENT
END:VCALENDAR