BEGIN:VCALENDAR
VERSION:2.0
PRODID:-// - ECPv6.15.15//NONSGML v1.0//EN
CALSCALE:GREGORIAN
METHOD:PUBLISH
X-ORIGINAL-URL:https://downtowntomsriver.com
X-WR-CALDESC:Events for 
REFRESH-INTERVAL;VALUE=DURATION:PT1H
X-Robots-Tag:noindex
X-PUBLISHED-TTL:PT1H
BEGIN:VTIMEZONE
TZID:America/New_York
BEGIN:DAYLIGHT
TZOFFSETFROM:-0500
TZOFFSETTO:-0400
TZNAME:EDT
DTSTART:20270314T070000
END:DAYLIGHT
BEGIN:STANDARD
TZOFFSETFROM:-0400
TZOFFSETTO:-0500
TZNAME:EST
DTSTART:20271107T060000
END:STANDARD
BEGIN:DAYLIGHT
TZOFFSETFROM:-0500
TZOFFSETTO:-0400
TZNAME:EDT
DTSTART:20280312T070000
END:DAYLIGHT
BEGIN:STANDARD
TZOFFSETFROM:-0400
TZOFFSETTO:-0500
TZNAME:EST
DTSTART:20281105T060000
END:STANDARD
BEGIN:DAYLIGHT
TZOFFSETFROM:-0500
TZOFFSETTO:-0400
TZNAME:EDT
DTSTART:20290311T070000
END:DAYLIGHT
BEGIN:STANDARD
TZOFFSETFROM:-0400
TZOFFSETTO:-0500
TZNAME:EST
DTSTART:20291104T060000
END:STANDARD
BEGIN:DAYLIGHT
TZOFFSETFROM:-0500
TZOFFSETTO:-0400
TZNAME:EDT
DTSTART:20300310T070000
END:DAYLIGHT
BEGIN:STANDARD
TZOFFSETFROM:-0400
TZOFFSETTO:-0500
TZNAME:EST
DTSTART:20301103T060000
END:STANDARD
BEGIN:DAYLIGHT
TZOFFSETFROM:-0500
TZOFFSETTO:-0400
TZNAME:EDT
DTSTART:20310309T070000
END:DAYLIGHT
BEGIN:STANDARD
TZOFFSETFROM:-0400
TZOFFSETTO:-0500
TZNAME:EST
DTSTART:20311102T060000
END:STANDARD
END:VTIMEZONE
BEGIN:VEVENT
DTSTART;TZID=America/New_York:20280608T180000
DTEND;TZID=America/New_York:20280608T200000
DTSTAMP:20260423T202419
CREATED:20250529T182000Z
LAST-MODIFIED:20250529T182117Z
UID:10004370-1844100000-1844107200@downtowntomsriver.com
SUMMARY:Sketchbookers Club 2nd Thursday Every Month @ TRAC
DESCRIPTION:
URL:https://downtowntomsriver.com/event/sketchbookers-club-2nd-thursday-every-month-trac/2028-06-08/
LOCATION:NJ
END:VEVENT
BEGIN:VEVENT
DTSTART;TZID=America/New_York:20280713T180000
DTEND;TZID=America/New_York:20280713T200000
DTSTAMP:20260423T202419
CREATED:20250529T182000Z
LAST-MODIFIED:20250529T182117Z
UID:10004371-1847124000-1847131200@downtowntomsriver.com
SUMMARY:Sketchbookers Club 2nd Thursday Every Month @ TRAC
DESCRIPTION:
URL:https://downtowntomsriver.com/event/sketchbookers-club-2nd-thursday-every-month-trac/2028-07-13/
LOCATION:NJ
END:VEVENT
BEGIN:VEVENT
DTSTART;TZID=America/New_York:20280810T180000
DTEND;TZID=America/New_York:20280810T200000
DTSTAMP:20260423T202419
CREATED:20250529T182000Z
LAST-MODIFIED:20250529T182117Z
UID:10004372-1849543200-1849550400@downtowntomsriver.com
SUMMARY:Sketchbookers Club 2nd Thursday Every Month @ TRAC
DESCRIPTION:
URL:https://downtowntomsriver.com/event/sketchbookers-club-2nd-thursday-every-month-trac/2028-08-10/
LOCATION:NJ
END:VEVENT
BEGIN:VEVENT
DTSTART;TZID=America/New_York:20280914T180000
DTEND;TZID=America/New_York:20280914T200000
DTSTAMP:20260423T202419
CREATED:20250529T182000Z
LAST-MODIFIED:20250529T182117Z
UID:10004373-1852567200-1852574400@downtowntomsriver.com
SUMMARY:Sketchbookers Club 2nd Thursday Every Month @ TRAC
DESCRIPTION:
URL:https://downtowntomsriver.com/event/sketchbookers-club-2nd-thursday-every-month-trac/2028-09-14/
LOCATION:NJ
END:VEVENT
BEGIN:VEVENT
DTSTART;TZID=America/New_York:20281012T180000
DTEND;TZID=America/New_York:20281012T200000
DTSTAMP:20260423T202419
CREATED:20250529T182000Z
LAST-MODIFIED:20250529T182117Z
UID:10004374-1854986400-1854993600@downtowntomsriver.com
SUMMARY:Sketchbookers Club 2nd Thursday Every Month @ TRAC
DESCRIPTION:
URL:https://downtowntomsriver.com/event/sketchbookers-club-2nd-thursday-every-month-trac/2028-10-12/
LOCATION:NJ
END:VEVENT
BEGIN:VEVENT
DTSTART;TZID=America/New_York:20281109T180000
DTEND;TZID=America/New_York:20281109T200000
DTSTAMP:20260423T202419
CREATED:20250529T182000Z
LAST-MODIFIED:20250529T182117Z
UID:10004375-1857405600-1857412800@downtowntomsriver.com
SUMMARY:Sketchbookers Club 2nd Thursday Every Month @ TRAC
DESCRIPTION:
URL:https://downtowntomsriver.com/event/sketchbookers-club-2nd-thursday-every-month-trac/2028-11-09/
LOCATION:NJ
END:VEVENT
BEGIN:VEVENT
DTSTART;TZID=America/New_York:20281214T180000
DTEND;TZID=America/New_York:20281214T200000
DTSTAMP:20260423T202419
CREATED:20250529T182000Z
LAST-MODIFIED:20250529T182117Z
UID:10004376-1860429600-1860436800@downtowntomsriver.com
SUMMARY:Sketchbookers Club 2nd Thursday Every Month @ TRAC
DESCRIPTION:
URL:https://downtowntomsriver.com/event/sketchbookers-club-2nd-thursday-every-month-trac/2028-12-14/
LOCATION:NJ
END:VEVENT
BEGIN:VEVENT
DTSTART;TZID=America/New_York:20290111T180000
DTEND;TZID=America/New_York:20290111T200000
DTSTAMP:20260423T202419
CREATED:20250529T182000Z
LAST-MODIFIED:20250529T182117Z
UID:10004377-1862848800-1862856000@downtowntomsriver.com
SUMMARY:Sketchbookers Club 2nd Thursday Every Month @ TRAC
DESCRIPTION:
URL:https://downtowntomsriver.com/event/sketchbookers-club-2nd-thursday-every-month-trac/2029-01-11/
LOCATION:NJ
END:VEVENT
BEGIN:VEVENT
DTSTART;TZID=America/New_York:20290208T180000
DTEND;TZID=America/New_York:20290208T200000
DTSTAMP:20260423T202419
CREATED:20250529T182000Z
LAST-MODIFIED:20250529T182117Z
UID:10004378-1865268000-1865275200@downtowntomsriver.com
SUMMARY:Sketchbookers Club 2nd Thursday Every Month @ TRAC
DESCRIPTION:
URL:https://downtowntomsriver.com/event/sketchbookers-club-2nd-thursday-every-month-trac/2029-02-08/
LOCATION:NJ
END:VEVENT
BEGIN:VEVENT
DTSTART;TZID=America/New_York:20290308T180000
DTEND;TZID=America/New_York:20290308T200000
DTSTAMP:20260423T202419
CREATED:20250529T182000Z
LAST-MODIFIED:20250529T182117Z
UID:10004379-1867687200-1867694400@downtowntomsriver.com
SUMMARY:Sketchbookers Club 2nd Thursday Every Month @ TRAC
DESCRIPTION:
URL:https://downtowntomsriver.com/event/sketchbookers-club-2nd-thursday-every-month-trac/2029-03-08/
LOCATION:NJ
END:VEVENT
BEGIN:VEVENT
DTSTART;TZID=America/New_York:20290412T180000
DTEND;TZID=America/New_York:20290412T200000
DTSTAMP:20260423T202419
CREATED:20250529T182000Z
LAST-MODIFIED:20250529T182117Z
UID:10004380-1870711200-1870718400@downtowntomsriver.com
SUMMARY:Sketchbookers Club 2nd Thursday Every Month @ TRAC
DESCRIPTION:
URL:https://downtowntomsriver.com/event/sketchbookers-club-2nd-thursday-every-month-trac/2029-04-12/
LOCATION:NJ
END:VEVENT
BEGIN:VEVENT
DTSTART;TZID=America/New_York:20290510T180000
DTEND;TZID=America/New_York:20290510T200000
DTSTAMP:20260423T202419
CREATED:20250529T182000Z
LAST-MODIFIED:20250529T182117Z
UID:10004381-1873130400-1873137600@downtowntomsriver.com
SUMMARY:Sketchbookers Club 2nd Thursday Every Month @ TRAC
DESCRIPTION:
URL:https://downtowntomsriver.com/event/sketchbookers-club-2nd-thursday-every-month-trac/2029-05-10/
LOCATION:NJ
END:VEVENT
BEGIN:VEVENT
DTSTART;TZID=America/New_York:20290614T180000
DTEND;TZID=America/New_York:20290614T200000
DTSTAMP:20260423T202419
CREATED:20250529T182000Z
LAST-MODIFIED:20250529T182117Z
UID:10004382-1876154400-1876161600@downtowntomsriver.com
SUMMARY:Sketchbookers Club 2nd Thursday Every Month @ TRAC
DESCRIPTION:
URL:https://downtowntomsriver.com/event/sketchbookers-club-2nd-thursday-every-month-trac/2029-06-14/
LOCATION:NJ
END:VEVENT
BEGIN:VEVENT
DTSTART;TZID=America/New_York:20290712T180000
DTEND;TZID=America/New_York:20290712T200000
DTSTAMP:20260423T202419
CREATED:20250529T182000Z
LAST-MODIFIED:20250529T182117Z
UID:10004383-1878573600-1878580800@downtowntomsriver.com
SUMMARY:Sketchbookers Club 2nd Thursday Every Month @ TRAC
DESCRIPTION:
URL:https://downtowntomsriver.com/event/sketchbookers-club-2nd-thursday-every-month-trac/2029-07-12/
LOCATION:NJ
END:VEVENT
BEGIN:VEVENT
DTSTART;TZID=America/New_York:20290809T180000
DTEND;TZID=America/New_York:20290809T200000
DTSTAMP:20260423T202419
CREATED:20250529T182000Z
LAST-MODIFIED:20250529T182117Z
UID:10004384-1880992800-1881000000@downtowntomsriver.com
SUMMARY:Sketchbookers Club 2nd Thursday Every Month @ TRAC
DESCRIPTION:
URL:https://downtowntomsriver.com/event/sketchbookers-club-2nd-thursday-every-month-trac/2029-08-09/
LOCATION:NJ
END:VEVENT
BEGIN:VEVENT
DTSTART;TZID=America/New_York:20290913T180000
DTEND;TZID=America/New_York:20290913T200000
DTSTAMP:20260423T202419
CREATED:20250529T182000Z
LAST-MODIFIED:20250529T182117Z
UID:10004385-1884016800-1884024000@downtowntomsriver.com
SUMMARY:Sketchbookers Club 2nd Thursday Every Month @ TRAC
DESCRIPTION:
URL:https://downtowntomsriver.com/event/sketchbookers-club-2nd-thursday-every-month-trac/2029-09-13/
LOCATION:NJ
END:VEVENT
BEGIN:VEVENT
DTSTART;TZID=America/New_York:20291011T180000
DTEND;TZID=America/New_York:20291011T200000
DTSTAMP:20260423T202419
CREATED:20250529T182000Z
LAST-MODIFIED:20250529T182117Z
UID:10004386-1886436000-1886443200@downtowntomsriver.com
SUMMARY:Sketchbookers Club 2nd Thursday Every Month @ TRAC
DESCRIPTION:
URL:https://downtowntomsriver.com/event/sketchbookers-club-2nd-thursday-every-month-trac/2029-10-11/
LOCATION:NJ
END:VEVENT
BEGIN:VEVENT
DTSTART;TZID=America/New_York:20291108T180000
DTEND;TZID=America/New_York:20291108T200000
DTSTAMP:20260423T202419
CREATED:20250529T182000Z
LAST-MODIFIED:20250529T182117Z
UID:10004387-1888855200-1888862400@downtowntomsriver.com
SUMMARY:Sketchbookers Club 2nd Thursday Every Month @ TRAC
DESCRIPTION:
URL:https://downtowntomsriver.com/event/sketchbookers-club-2nd-thursday-every-month-trac/2029-11-08/
LOCATION:NJ
END:VEVENT
BEGIN:VEVENT
DTSTART;TZID=America/New_York:20291213T180000
DTEND;TZID=America/New_York:20291213T200000
DTSTAMP:20260423T202419
CREATED:20250529T182000Z
LAST-MODIFIED:20250529T182117Z
UID:10004388-1891879200-1891886400@downtowntomsriver.com
SUMMARY:Sketchbookers Club 2nd Thursday Every Month @ TRAC
DESCRIPTION:
URL:https://downtowntomsriver.com/event/sketchbookers-club-2nd-thursday-every-month-trac/2029-12-13/
LOCATION:NJ
END:VEVENT
BEGIN:VEVENT
DTSTART;TZID=America/New_York:20300110T180000
DTEND;TZID=America/New_York:20300110T200000
DTSTAMP:20260423T202419
CREATED:20250529T182000Z
LAST-MODIFIED:20250529T182117Z
UID:10004389-1894298400-1894305600@downtowntomsriver.com
SUMMARY:Sketchbookers Club 2nd Thursday Every Month @ TRAC
DESCRIPTION:
URL:https://downtowntomsriver.com/event/sketchbookers-club-2nd-thursday-every-month-trac/2030-01-10/
LOCATION:NJ
END:VEVENT
BEGIN:VEVENT
DTSTART;TZID=America/New_York:20300214T180000
DTEND;TZID=America/New_York:20300214T200000
DTSTAMP:20260423T202419
CREATED:20250529T182000Z
LAST-MODIFIED:20250529T182117Z
UID:10004390-1897322400-1897329600@downtowntomsriver.com
SUMMARY:Sketchbookers Club 2nd Thursday Every Month @ TRAC
DESCRIPTION:
URL:https://downtowntomsriver.com/event/sketchbookers-club-2nd-thursday-every-month-trac/2030-02-14/
LOCATION:NJ
END:VEVENT
BEGIN:VEVENT
DTSTART;TZID=America/New_York:20300314T180000
DTEND;TZID=America/New_York:20300314T200000
DTSTAMP:20260423T202419
CREATED:20250529T182000Z
LAST-MODIFIED:20250529T182117Z
UID:10004391-1899741600-1899748800@downtowntomsriver.com
SUMMARY:Sketchbookers Club 2nd Thursday Every Month @ TRAC
DESCRIPTION:
URL:https://downtowntomsriver.com/event/sketchbookers-club-2nd-thursday-every-month-trac/2030-03-14/
LOCATION:NJ
END:VEVENT
BEGIN:VEVENT
DTSTART;TZID=America/New_York:20300411T180000
DTEND;TZID=America/New_York:20300411T200000
DTSTAMP:20260423T202419
CREATED:20250529T182000Z
LAST-MODIFIED:20250529T182117Z
UID:10004392-1902160800-1902168000@downtowntomsriver.com
SUMMARY:Sketchbookers Club 2nd Thursday Every Month @ TRAC
DESCRIPTION:
URL:https://downtowntomsriver.com/event/sketchbookers-club-2nd-thursday-every-month-trac/2030-04-11/
LOCATION:NJ
END:VEVENT
BEGIN:VEVENT
DTSTART;TZID=America/New_York:20300509T180000
DTEND;TZID=America/New_York:20300509T200000
DTSTAMP:20260423T202419
CREATED:20250529T182000Z
LAST-MODIFIED:20250529T182117Z
UID:10004393-1904580000-1904587200@downtowntomsriver.com
SUMMARY:Sketchbookers Club 2nd Thursday Every Month @ TRAC
DESCRIPTION:
URL:https://downtowntomsriver.com/event/sketchbookers-club-2nd-thursday-every-month-trac/2030-05-09/
LOCATION:NJ
END:VEVENT
END:VCALENDAR