BEGIN:VCALENDAR
VERSION:2.0
PRODID:-// - ECPv6.15.15//NONSGML v1.0//EN
CALSCALE:GREGORIAN
METHOD:PUBLISH
X-ORIGINAL-URL:https://downtowntomsriver.com
X-WR-CALDESC:Events for 
REFRESH-INTERVAL;VALUE=DURATION:PT1H
X-Robots-Tag:noindex
X-PUBLISHED-TTL:PT1H
BEGIN:VTIMEZONE
TZID:America/New_York
BEGIN:DAYLIGHT
TZOFFSETFROM:-0500
TZOFFSETTO:-0400
TZNAME:EDT
DTSTART:20240310T070000
END:DAYLIGHT
BEGIN:STANDARD
TZOFFSETFROM:-0400
TZOFFSETTO:-0500
TZNAME:EST
DTSTART:20241103T060000
END:STANDARD
BEGIN:DAYLIGHT
TZOFFSETFROM:-0500
TZOFFSETTO:-0400
TZNAME:EDT
DTSTART:20250309T070000
END:DAYLIGHT
BEGIN:STANDARD
TZOFFSETFROM:-0400
TZOFFSETTO:-0500
TZNAME:EST
DTSTART:20251102T060000
END:STANDARD
BEGIN:DAYLIGHT
TZOFFSETFROM:-0500
TZOFFSETTO:-0400
TZNAME:EDT
DTSTART:20260308T070000
END:DAYLIGHT
BEGIN:STANDARD
TZOFFSETFROM:-0400
TZOFFSETTO:-0500
TZNAME:EST
DTSTART:20261101T060000
END:STANDARD
END:VTIMEZONE
BEGIN:VEVENT
DTSTART;TZID=America/New_York:20251207T120000
DTEND;TZID=America/New_York:20251207T160000
DTSTAMP:20260423T235840
CREATED:20250808T130412Z
LAST-MODIFIED:20250808T130412Z
UID:10005559-1765108800-1765123200@downtowntomsriver.com
SUMMARY:🌲Holiday Jingle Sip & Shop Vendor Market🌲
DESCRIPTION:This FREE Local Craft & Vendor Market is hosted by Jenn Zazzara\, Shore Crafted\, bringing together local makers\, artisans and small businesses. Enjoy an intimate setting and shop unique\, one-of-a-kind items while sipping craft drinks! \n🎁Sip & Shop Local Craft & Vendor Market🎁 \nLet’s sleigh the season! Join us for an afternoon of sipping\, shopping\, and holiday magic. Sip festive drinks\, shop unique gifts\, and soak up the merry vibes. From handmade goods to gourmet treats and stocking stuffers – we’ve got something for everyone on your list! \nSip & Shop Vendor Market: Sunday\, December 7th | 12-4 pm at Garden State Distillery\, 13 Washington Street\, Toms River\, NJ  \nCome for the cheer\, stay for the finds – and let’s jingle all the way! \nQuestions? Contact Jenn Zazzara at shorecraftednj@gmail.com \nFor more details please visit: Holiday Jingle Sip & Shop | Facebook
URL:https://downtowntomsriver.com/event/%f0%9f%8c%b2holiday-jingle-sip-shop-vendor-market%f0%9f%8c%b2/
LOCATION:Garden State Distillery\, 13 Washington Street\, Toms River\, 08753\, United States
CATEGORIES:Arts & Crafts,Downtown Toms River Events,Toms River Artist Community
ATTACH;FMTTYPE=image/png:https://downtowntomsriver.com/wp-content/uploads/2025/08/Holiday-Jingle-Flyer.png
END:VEVENT
BEGIN:VEVENT
DTSTART;TZID=America/New_York:20251212T180000
DTEND;TZID=America/New_York:20251212T200000
DTSTAMP:20260423T235840
CREATED:20251107T142750Z
LAST-MODIFIED:20251107T142750Z
UID:10005622-1765562400-1765569600@downtowntomsriver.com
SUMMARY:Beach Snow man Paint party at TRAC
DESCRIPTION:FRIDAY\, DEC 12\, 6:00-8:00 PM \n\n40 main St Toms River\, NJ 08753 \nToms River arts community \nTRAC. \nCome join the fun at our Holiday Paint Party! Paint Sandy the Snowman! Add cool beachy touches like palm trees\, a tiki hut\, or even the Barnegat Lighthouse. Give Sandy a fun holiday! \nIf you’d like a pre-drawn canvas\, select that option — it’s just $5 extra. \nGet your tickets early! All ages welcome. Feel free to bring your favorite snacks and drinks. Let’s get creative and celebrate the season together!
URL:https://downtowntomsriver.com/event/beach-snow-man-paint-party-at-trac/
LOCATION:TRAC GALLERY\, 40 Main St\, Right Side\, TOMS RIVER\, NJ\, 08753\, United States
CATEGORIES:Arts & Cluture,Classes,Clubs & Organizations,Downtown Toms River Events,Entertainment,Toms River Artist Community
ATTACH;FMTTYPE=image/png:https://downtowntomsriver.com/wp-content/uploads/2025/11/1000022091.png
END:VEVENT
END:VCALENDAR