BEGIN:VCALENDAR
VERSION:2.0
PRODID:-// - ECPv6.15.15//NONSGML v1.0//EN
CALSCALE:GREGORIAN
METHOD:PUBLISH
X-ORIGINAL-URL:https://downtowntomsriver.com
X-WR-CALDESC:Events for 
REFRESH-INTERVAL;VALUE=DURATION:PT1H
X-Robots-Tag:noindex
X-PUBLISHED-TTL:PT1H
BEGIN:VTIMEZONE
TZID:America/New_York
BEGIN:DAYLIGHT
TZOFFSETFROM:-0500
TZOFFSETTO:-0400
TZNAME:EDT
DTSTART:20190310T070000
END:DAYLIGHT
BEGIN:STANDARD
TZOFFSETFROM:-0400
TZOFFSETTO:-0500
TZNAME:EST
DTSTART:20191103T060000
END:STANDARD
BEGIN:DAYLIGHT
TZOFFSETFROM:-0500
TZOFFSETTO:-0400
TZNAME:EDT
DTSTART:20200308T070000
END:DAYLIGHT
BEGIN:STANDARD
TZOFFSETFROM:-0400
TZOFFSETTO:-0500
TZNAME:EST
DTSTART:20201101T060000
END:STANDARD
BEGIN:DAYLIGHT
TZOFFSETFROM:-0500
TZOFFSETTO:-0400
TZNAME:EDT
DTSTART:20210314T070000
END:DAYLIGHT
BEGIN:STANDARD
TZOFFSETFROM:-0400
TZOFFSETTO:-0500
TZNAME:EST
DTSTART:20211107T060000
END:STANDARD
BEGIN:DAYLIGHT
TZOFFSETFROM:-0500
TZOFFSETTO:-0400
TZNAME:EDT
DTSTART:20220313T070000
END:DAYLIGHT
BEGIN:STANDARD
TZOFFSETFROM:-0400
TZOFFSETTO:-0500
TZNAME:EST
DTSTART:20221106T060000
END:STANDARD
BEGIN:DAYLIGHT
TZOFFSETFROM:-0500
TZOFFSETTO:-0400
TZNAME:EDT
DTSTART:20230312T070000
END:DAYLIGHT
BEGIN:STANDARD
TZOFFSETFROM:-0400
TZOFFSETTO:-0500
TZNAME:EST
DTSTART:20231105T060000
END:STANDARD
BEGIN:DAYLIGHT
TZOFFSETFROM:-0500
TZOFFSETTO:-0400
TZNAME:EDT
DTSTART:20240310T070000
END:DAYLIGHT
BEGIN:STANDARD
TZOFFSETFROM:-0400
TZOFFSETTO:-0500
TZNAME:EST
DTSTART:20241103T060000
END:STANDARD
BEGIN:DAYLIGHT
TZOFFSETFROM:-0500
TZOFFSETTO:-0400
TZNAME:EDT
DTSTART:20250309T070000
END:DAYLIGHT
BEGIN:STANDARD
TZOFFSETFROM:-0400
TZOFFSETTO:-0500
TZNAME:EST
DTSTART:20251102T060000
END:STANDARD
BEGIN:DAYLIGHT
TZOFFSETFROM:-0500
TZOFFSETTO:-0400
TZNAME:EDT
DTSTART:20260308T070000
END:DAYLIGHT
BEGIN:STANDARD
TZOFFSETFROM:-0400
TZOFFSETTO:-0500
TZNAME:EST
DTSTART:20261101T060000
END:STANDARD
END:VTIMEZONE
BEGIN:VEVENT
DTSTART;TZID=America/New_York:20251023T180000
DTEND;TZID=America/New_York:20251023T210000
DTSTAMP:20260424T000506
CREATED:20250915T133707Z
LAST-MODIFIED:20250915T133707Z
UID:10005610-1761242400-1761253200@downtowntomsriver.com
SUMMARY:Lola J. Aesthetics Celebration
DESCRIPTION:  \n\nMark your calendars for Thursday\, October 23rd because this is one celebration you won’t want to miss!\nWe’ll have exclusive event specials\, live demos\, giveaways\, sips\, bites\, and beauty all in one fabulous night.\nThe first 50 guests to RSVP will receive a luxe gift bag filled with our favorite products and surprises!\n\n\nTo make the evening even more exciting\, we’ll have raffles from locals businesses\, plus in-house prizes including a syringe of lip filler\, 100 units of Jeuveau\, and a facial enhancement treatment
URL:https://downtowntomsriver.com/event/lola-j-aesthetics-celebration/
LOCATION:Lola J Aesthetics\, 1 Hyers St\, Toms River\, New Jersey
CATEGORIES:Business Events,Other,Sports Fitness & Wellness
ATTACH;FMTTYPE=image/jpeg:https://downtowntomsriver.com/wp-content/uploads/2025/09/Lola-Celebration.jpg
ORGANIZER;CN="Lola J":MAILTO:Lolajaesthetics@gmail.com
END:VEVENT
BEGIN:VEVENT
DTSTART;TZID=America/New_York:20251012T150000
DTEND;TZID=America/New_York:20251012T163000
DTSTAMP:20260424T000506
CREATED:20250814T154642Z
LAST-MODIFIED:20250814T154642Z
UID:10005576-1760281200-1760286600@downtowntomsriver.com
SUMMARY:Outdoor Pila-tea party
DESCRIPTION:Join us at 3:00 PM for a charming outdoor Pila-tea party! Indulge in a delightful tea time presentation\, complete with a tasty lunch in a beautiful outdoor setting. It’s the perfect way to relax\, socialize\, and enjoy a lovely afternoon. Tickets are $28 per person (no overnight accommodations). We hope to see you there for this special event!
URL:https://downtowntomsriver.com/event/outdoor-pila-tea-party/
LOCATION:The Mathis House at 600 Main\, 600 Main St.\, Toms River\, NJ\, 08753\, United States
CATEGORIES:Downtown Toms River Events,Sports Fitness & Wellness
ATTACH;FMTTYPE=image/jpeg:https://downtowntomsriver.com/wp-content/uploads/2025/08/pila-tea-party-women-empowerment-1.jpg
ORGANIZER;CN="WWW.mathishouse600main.com":MAILTO:vweiss@mathishouse600main.com
END:VEVENT
BEGIN:VEVENT
DTSTART;TZID=America/New_York:20250914T150000
DTEND;TZID=America/New_York:20250914T183000
DTSTAMP:20260424T000506
CREATED:20250819T142506Z
LAST-MODIFIED:20250819T142506Z
UID:10005563-1757862000-1757874600@downtowntomsriver.com
SUMMARY:Pila- tea Party Women’s Empowerment Retreat
DESCRIPTION:Join Yoga Sel Soul\, as the partner with the Mathis House\, for our first Women’s Retreat. Whether you attend one event or all\, we ensure the experience will leave you feeling pampered\, inspired and refreshed.\nOvernight stay packages for all retreat activities will include the following series of activities:\n2:00 PM check in with light refreshments of an ice tea bar and fresh fruits\n3:00 PM Outdoor Pila-tea party with a tea time presentation including lunch (Tickets without overnight accommodations are $28 per person)\n5:00 PM (Pending) Still Time for Joy by Sandy Levine. A presentation on experiencing Joy after Grief. ( Tickets without overnight accommodations are $20 per person)\n6:30 PM High Tea with our Tea Etiquette Class (Tickets without overnight accommodations are $50 per person)\n8:00 PM Huddy House Tour and History (Available only in overnight stay packages)\n\nFollowing morning:\n8:00 AM Women’s Devotional Readings and Prayer Time (open to all complimentary)\n9:00 AM Gourmet Breakfast on charcuterie boards ($20 per person without an overnight stay package)\n10:00 AM chair massages by Alice’s School of massage ($10 a person without an overnight stay package)\n11:00 AM Presentation of the Health Benefits of tea and Victorian afternoon tea of five courses presented by Vicki Weiss. ($50 per person without an overnight stay package)\nThe retreat rooms are available at the Mathis House and Huddy House where each room may be shared by two guests. The rate for the package is $289.00 per room and the cost maybe shared by two friends or family.\nFor more information and to book the retreat\, please call 732-818-7580. To book only the Pila-tea Party\, you may purchase tickets on Event Brite or Resy. Each activity with the exception of the Huddy House tour will be available to purchase tickets without staying overnight at an ala Carte ticket price listed above. Pricing does not include tax and gratuity.
URL:https://downtowntomsriver.com/event/pila-tea-party-womens-empowerment-retreat/
LOCATION:The Mathis House at 600 Main\, 600 Main St.\, Toms River\, NJ\, 08753\, United States
CATEGORIES:Downtown Toms River Events,Sports Fitness & Wellness
ATTACH;FMTTYPE=image/jpeg:https://downtowntomsriver.com/wp-content/uploads/2025/08/pila-tea-party-women-empowerment.jpg
ORGANIZER;CN="WWW.mathishouse600main.com":MAILTO:vweiss@mathishouse600main.com
END:VEVENT
BEGIN:VEVENT
DTSTART;TZID=America/New_York:20200826T183000
DTEND;TZID=America/New_York:20200826T193000
DTSTAMP:20260424T000506
CREATED:20200706T170846Z
LAST-MODIFIED:20200706T170846Z
UID:10000383-1598466600-1598470200@downtowntomsriver.com
SUMMARY:Zumba with Claudia @Broadway On Main
DESCRIPTION:Outside Zumba with a great group of people. No mask needed while we are outside. No experience needed. Lots of fun!!
URL:https://downtowntomsriver.com/event/zumba-with-claudia-broadway-on-main/2020-08-26/
LOCATION:1835\, 806 N. Main Street\, Toms River\, NJ\, 08753\, United States
CATEGORIES:Sports Fitness & Wellness
ORGANIZER;CN="Broadway On Main":MAILTO:broadwayonmaintrnj@gmail.com
END:VEVENT
BEGIN:VEVENT
DTSTART;TZID=America/New_York:20200824T183000
DTEND;TZID=America/New_York:20200824T193000
DTSTAMP:20260424T000506
CREATED:20200706T170846Z
LAST-MODIFIED:20200706T170846Z
UID:10000382-1598293800-1598297400@downtowntomsriver.com
SUMMARY:Zumba with Claudia @Broadway On Main
DESCRIPTION:Outside Zumba with a great group of people. No mask needed while we are outside. No experience needed. Lots of fun!!
URL:https://downtowntomsriver.com/event/zumba-with-claudia-broadway-on-main/2020-08-24/
LOCATION:1835\, 806 N. Main Street\, Toms River\, NJ\, 08753\, United States
CATEGORIES:Sports Fitness & Wellness
ORGANIZER;CN="Broadway On Main":MAILTO:broadwayonmaintrnj@gmail.com
END:VEVENT
BEGIN:VEVENT
DTSTART;TZID=America/New_York:20200819T183000
DTEND;TZID=America/New_York:20200819T193000
DTSTAMP:20260424T000506
CREATED:20200706T170846Z
LAST-MODIFIED:20200706T170846Z
UID:10000381-1597861800-1597865400@downtowntomsriver.com
SUMMARY:Zumba with Claudia @Broadway On Main
DESCRIPTION:Outside Zumba with a great group of people. No mask needed while we are outside. No experience needed. Lots of fun!!
URL:https://downtowntomsriver.com/event/zumba-with-claudia-broadway-on-main/2020-08-19/
LOCATION:1835\, 806 N. Main Street\, Toms River\, NJ\, 08753\, United States
CATEGORIES:Sports Fitness & Wellness
ORGANIZER;CN="Broadway On Main":MAILTO:broadwayonmaintrnj@gmail.com
END:VEVENT
BEGIN:VEVENT
DTSTART;TZID=America/New_York:20200817T183000
DTEND;TZID=America/New_York:20200817T193000
DTSTAMP:20260424T000506
CREATED:20200706T170846Z
LAST-MODIFIED:20200706T170846Z
UID:10000380-1597689000-1597692600@downtowntomsriver.com
SUMMARY:Zumba with Claudia @Broadway On Main
DESCRIPTION:Outside Zumba with a great group of people. No mask needed while we are outside. No experience needed. Lots of fun!!
URL:https://downtowntomsriver.com/event/zumba-with-claudia-broadway-on-main/2020-08-17/
LOCATION:1835\, 806 N. Main Street\, Toms River\, NJ\, 08753\, United States
CATEGORIES:Sports Fitness & Wellness
ORGANIZER;CN="Broadway On Main":MAILTO:broadwayonmaintrnj@gmail.com
END:VEVENT
BEGIN:VEVENT
DTSTART;TZID=America/New_York:20200812T183000
DTEND;TZID=America/New_York:20200812T193000
DTSTAMP:20260424T000506
CREATED:20200706T170846Z
LAST-MODIFIED:20200706T170846Z
UID:10000379-1597257000-1597260600@downtowntomsriver.com
SUMMARY:Zumba with Claudia @Broadway On Main
DESCRIPTION:Outside Zumba with a great group of people. No mask needed while we are outside. No experience needed. Lots of fun!!
URL:https://downtowntomsriver.com/event/zumba-with-claudia-broadway-on-main/2020-08-12/
LOCATION:1835\, 806 N. Main Street\, Toms River\, NJ\, 08753\, United States
CATEGORIES:Sports Fitness & Wellness
ORGANIZER;CN="Broadway On Main":MAILTO:broadwayonmaintrnj@gmail.com
END:VEVENT
BEGIN:VEVENT
DTSTART;TZID=America/New_York:20200810T183000
DTEND;TZID=America/New_York:20200810T193000
DTSTAMP:20260424T000506
CREATED:20200706T170846Z
LAST-MODIFIED:20200706T170846Z
UID:10000378-1597084200-1597087800@downtowntomsriver.com
SUMMARY:Zumba with Claudia @Broadway On Main
DESCRIPTION:Outside Zumba with a great group of people. No mask needed while we are outside. No experience needed. Lots of fun!!
URL:https://downtowntomsriver.com/event/zumba-with-claudia-broadway-on-main/2020-08-10/
LOCATION:1835\, 806 N. Main Street\, Toms River\, NJ\, 08753\, United States
CATEGORIES:Sports Fitness & Wellness
ORGANIZER;CN="Broadway On Main":MAILTO:broadwayonmaintrnj@gmail.com
END:VEVENT
BEGIN:VEVENT
DTSTART;TZID=America/New_York:20200805T183000
DTEND;TZID=America/New_York:20200805T193000
DTSTAMP:20260424T000506
CREATED:20200706T170846Z
LAST-MODIFIED:20200706T170846Z
UID:10000377-1596652200-1596655800@downtowntomsriver.com
SUMMARY:Zumba with Claudia @Broadway On Main
DESCRIPTION:Outside Zumba with a great group of people. No mask needed while we are outside. No experience needed. Lots of fun!!
URL:https://downtowntomsriver.com/event/zumba-with-claudia-broadway-on-main/2020-08-05/
LOCATION:1835\, 806 N. Main Street\, Toms River\, NJ\, 08753\, United States
CATEGORIES:Sports Fitness & Wellness
ORGANIZER;CN="Broadway On Main":MAILTO:broadwayonmaintrnj@gmail.com
END:VEVENT
BEGIN:VEVENT
DTSTART;TZID=America/New_York:20200803T183000
DTEND;TZID=America/New_York:20200803T193000
DTSTAMP:20260424T000506
CREATED:20200706T170846Z
LAST-MODIFIED:20200706T170846Z
UID:10000376-1596479400-1596483000@downtowntomsriver.com
SUMMARY:Zumba with Claudia @Broadway On Main
DESCRIPTION:Outside Zumba with a great group of people. No mask needed while we are outside. No experience needed. Lots of fun!!
URL:https://downtowntomsriver.com/event/zumba-with-claudia-broadway-on-main/2020-08-03/
LOCATION:1835\, 806 N. Main Street\, Toms River\, NJ\, 08753\, United States
CATEGORIES:Sports Fitness & Wellness
ORGANIZER;CN="Broadway On Main":MAILTO:broadwayonmaintrnj@gmail.com
END:VEVENT
BEGIN:VEVENT
DTSTART;TZID=America/New_York:20200729T183000
DTEND;TZID=America/New_York:20200729T193000
DTSTAMP:20260424T000506
CREATED:20200706T170846Z
LAST-MODIFIED:20200706T170846Z
UID:10000375-1596047400-1596051000@downtowntomsriver.com
SUMMARY:Zumba with Claudia @Broadway On Main
DESCRIPTION:Outside Zumba with a great group of people. No mask needed while we are outside. No experience needed. Lots of fun!!
URL:https://downtowntomsriver.com/event/zumba-with-claudia-broadway-on-main/2020-07-29/
LOCATION:1835\, 806 N. Main Street\, Toms River\, NJ\, 08753\, United States
CATEGORIES:Sports Fitness & Wellness
ORGANIZER;CN="Broadway On Main":MAILTO:broadwayonmaintrnj@gmail.com
END:VEVENT
BEGIN:VEVENT
DTSTART;TZID=America/New_York:20200727T183000
DTEND;TZID=America/New_York:20200727T193000
DTSTAMP:20260424T000506
CREATED:20200706T170846Z
LAST-MODIFIED:20200706T170846Z
UID:10000374-1595874600-1595878200@downtowntomsriver.com
SUMMARY:Zumba with Claudia @Broadway On Main
DESCRIPTION:Outside Zumba with a great group of people. No mask needed while we are outside. No experience needed. Lots of fun!!
URL:https://downtowntomsriver.com/event/zumba-with-claudia-broadway-on-main/2020-07-27/
LOCATION:1835\, 806 N. Main Street\, Toms River\, NJ\, 08753\, United States
CATEGORIES:Sports Fitness & Wellness
ORGANIZER;CN="Broadway On Main":MAILTO:broadwayonmaintrnj@gmail.com
END:VEVENT
BEGIN:VEVENT
DTSTART;TZID=America/New_York:20200722T183000
DTEND;TZID=America/New_York:20200722T193000
DTSTAMP:20260424T000506
CREATED:20200706T170846Z
LAST-MODIFIED:20200706T170846Z
UID:10000373-1595442600-1595446200@downtowntomsriver.com
SUMMARY:Zumba with Claudia @Broadway On Main
DESCRIPTION:Outside Zumba with a great group of people. No mask needed while we are outside. No experience needed. Lots of fun!!
URL:https://downtowntomsriver.com/event/zumba-with-claudia-broadway-on-main/2020-07-22/
LOCATION:1835\, 806 N. Main Street\, Toms River\, NJ\, 08753\, United States
CATEGORIES:Sports Fitness & Wellness
ORGANIZER;CN="Broadway On Main":MAILTO:broadwayonmaintrnj@gmail.com
END:VEVENT
BEGIN:VEVENT
DTSTART;TZID=America/New_York:20200720T183000
DTEND;TZID=America/New_York:20200720T193000
DTSTAMP:20260424T000506
CREATED:20200706T170846Z
LAST-MODIFIED:20200706T170846Z
UID:10000372-1595269800-1595273400@downtowntomsriver.com
SUMMARY:Zumba with Claudia @Broadway On Main
DESCRIPTION:Outside Zumba with a great group of people. No mask needed while we are outside. No experience needed. Lots of fun!!
URL:https://downtowntomsriver.com/event/zumba-with-claudia-broadway-on-main/2020-07-20/
LOCATION:1835\, 806 N. Main Street\, Toms River\, NJ\, 08753\, United States
CATEGORIES:Sports Fitness & Wellness
ORGANIZER;CN="Broadway On Main":MAILTO:broadwayonmaintrnj@gmail.com
END:VEVENT
BEGIN:VEVENT
DTSTART;TZID=America/New_York:20200715T183000
DTEND;TZID=America/New_York:20200715T193000
DTSTAMP:20260424T000506
CREATED:20200706T170846Z
LAST-MODIFIED:20200706T170846Z
UID:10000371-1594837800-1594841400@downtowntomsriver.com
SUMMARY:Zumba with Claudia @Broadway On Main
DESCRIPTION:Outside Zumba with a great group of people. No mask needed while we are outside. No experience needed. Lots of fun!!
URL:https://downtowntomsriver.com/event/zumba-with-claudia-broadway-on-main/2020-07-15/
LOCATION:1835\, 806 N. Main Street\, Toms River\, NJ\, 08753\, United States
CATEGORIES:Sports Fitness & Wellness
ORGANIZER;CN="Broadway On Main":MAILTO:broadwayonmaintrnj@gmail.com
END:VEVENT
BEGIN:VEVENT
DTSTART;TZID=America/New_York:20200713T183000
DTEND;TZID=America/New_York:20200713T193000
DTSTAMP:20260424T000506
CREATED:20200706T170846Z
LAST-MODIFIED:20200706T170846Z
UID:10000370-1594665000-1594668600@downtowntomsriver.com
SUMMARY:Zumba with Claudia @Broadway On Main
DESCRIPTION:Outside Zumba with a great group of people. No mask needed while we are outside. No experience needed. Lots of fun!!
URL:https://downtowntomsriver.com/event/zumba-with-claudia-broadway-on-main/2020-07-13/
LOCATION:1835\, 806 N. Main Street\, Toms River\, NJ\, 08753\, United States
CATEGORIES:Sports Fitness & Wellness
ORGANIZER;CN="Broadway On Main":MAILTO:broadwayonmaintrnj@gmail.com
END:VEVENT
BEGIN:VEVENT
DTSTART;TZID=America/New_York:20200708T183000
DTEND;TZID=America/New_York:20200708T193000
DTSTAMP:20260424T000506
CREATED:20200706T170846Z
LAST-MODIFIED:20200706T170846Z
UID:10000369-1594233000-1594236600@downtowntomsriver.com
SUMMARY:Zumba with Claudia @Broadway On Main
DESCRIPTION:Outside Zumba with a great group of people. No mask needed while we are outside. No experience needed. Lots of fun!!
URL:https://downtowntomsriver.com/event/zumba-with-claudia-broadway-on-main/2020-07-08/
LOCATION:1835\, 806 N. Main Street\, Toms River\, NJ\, 08753\, United States
CATEGORIES:Sports Fitness & Wellness
ORGANIZER;CN="Broadway On Main":MAILTO:broadwayonmaintrnj@gmail.com
END:VEVENT
BEGIN:VEVENT
DTSTART;TZID=America/New_York:20200706T183000
DTEND;TZID=America/New_York:20200706T193000
DTSTAMP:20260424T000506
CREATED:20200706T170846Z
LAST-MODIFIED:20200706T170846Z
UID:10000368-1594060200-1594063800@downtowntomsriver.com
SUMMARY:Zumba with Claudia @Broadway On Main
DESCRIPTION:Outside Zumba with a great group of people. No mask needed while we are outside. No experience needed. Lots of fun!!
URL:https://downtowntomsriver.com/event/zumba-with-claudia-broadway-on-main/2020-07-06/
LOCATION:1835\, 806 N. Main Street\, Toms River\, NJ\, 08753\, United States
CATEGORIES:Sports Fitness & Wellness
ORGANIZER;CN="Broadway On Main":MAILTO:broadwayonmaintrnj@gmail.com
END:VEVENT
BEGIN:VEVENT
DTSTART;TZID=America/New_York:20200329T123000
DTEND;TZID=America/New_York:20200329T133000
DTSTAMP:20260424T000506
CREATED:20200309T111851Z
LAST-MODIFIED:20200309T111851Z
UID:10000315-1585485000-1585488600@downtowntomsriver.com
SUMMARY:Immune Resilience Support Lunch N Learn
DESCRIPTION:With Coronavirus on everyone’s minds\, \nDr Katie has decided to present this month’s \nLunch N Learn Wellness Workshops \nImmune Resilience Support: \nHow to Protect Yourself Against Viruses \nShe will be presenting advanced recommendations on how to protect yourself and your loved ones from Viruses. \nViruses are unique and very different from bacterias. \nReminder: Anti bacterials won’t work against a virus\, only against bacterias\, in addition will break down your immune systems by wiping out healthy flora on your skin and internally. \nShe will be going over in detail critical lifestyle tips as well as the research behind specific herbs\, vitamins\, formulas and Young Living essential oils that are scientifically proven to protect against viruses. \nWe will have on hand Immune Resilience Support products available for sale for you to take home with you to get started with right away. \n  \nRSVP to save your spot!
URL:https://downtowntomsriver.com/event/immune-resilience-support-lunch-n-learn/
LOCATION:Riverside Chiropractic\, 325 W. Water St Suite 2\, Toms River\, NJ\, 08753
CATEGORIES:Sports Fitness & Wellness
ATTACH;FMTTYPE=image/png:https://downtowntomsriver.com/wp-content/uploads/2020/03/RIVERSIDE-LOGO-FINAL_REV-1.png
ORGANIZER;CN="Riverside Chiropractic":MAILTO:river
END:VEVENT
BEGIN:VEVENT
DTSTART;TZID=America/New_York:20200223T123000
DTEND;TZID=America/New_York:20200223T133000
DTSTAMP:20260424T000506
CREATED:20200129T203148Z
LAST-MODIFIED:20200129T203148Z
UID:10000314-1582461000-1582464600@downtowntomsriver.com
SUMMARY:February Wellness Workshop
DESCRIPTION:Give your heart some love:\nImportant habits to keep your heart happy \nSunday February 23rd  12:30 pm – 1:30 pm \nRSVP for free lunch\n732.569.3241  or\nriversidechiro@drkatieholstein.com
URL:https://downtowntomsriver.com/event/february-wellness-workshop-2/
LOCATION:Riverside Chiropractic\, 325 W. Water St Suite 2\, Toms River\, NJ\, 08753
CATEGORIES:Sports Fitness & Wellness
ORGANIZER;CN="Riverside Chiropractic":MAILTO:river
END:VEVENT
END:VCALENDAR