BEGIN:VCALENDAR
VERSION:2.0
PRODID:-// - ECPv6.15.15//NONSGML v1.0//EN
CALSCALE:GREGORIAN
METHOD:PUBLISH
X-ORIGINAL-URL:https://downtowntomsriver.com
X-WR-CALDESC:Events for 
REFRESH-INTERVAL;VALUE=DURATION:PT1H
X-Robots-Tag:noindex
X-PUBLISHED-TTL:PT1H
BEGIN:VTIMEZONE
TZID:America/New_York
BEGIN:DAYLIGHT
TZOFFSETFROM:-0500
TZOFFSETTO:-0400
TZNAME:EDT
DTSTART:20190310T070000
END:DAYLIGHT
BEGIN:STANDARD
TZOFFSETFROM:-0400
TZOFFSETTO:-0500
TZNAME:EST
DTSTART:20191103T060000
END:STANDARD
BEGIN:DAYLIGHT
TZOFFSETFROM:-0500
TZOFFSETTO:-0400
TZNAME:EDT
DTSTART:20200308T070000
END:DAYLIGHT
BEGIN:STANDARD
TZOFFSETFROM:-0400
TZOFFSETTO:-0500
TZNAME:EST
DTSTART:20201101T060000
END:STANDARD
BEGIN:DAYLIGHT
TZOFFSETFROM:-0500
TZOFFSETTO:-0400
TZNAME:EDT
DTSTART:20210314T070000
END:DAYLIGHT
BEGIN:STANDARD
TZOFFSETFROM:-0400
TZOFFSETTO:-0500
TZNAME:EST
DTSTART:20211107T060000
END:STANDARD
BEGIN:DAYLIGHT
TZOFFSETFROM:-0500
TZOFFSETTO:-0400
TZNAME:EDT
DTSTART:20220313T070000
END:DAYLIGHT
BEGIN:STANDARD
TZOFFSETFROM:-0400
TZOFFSETTO:-0500
TZNAME:EST
DTSTART:20221106T060000
END:STANDARD
BEGIN:DAYLIGHT
TZOFFSETFROM:-0500
TZOFFSETTO:-0400
TZNAME:EDT
DTSTART:20230312T070000
END:DAYLIGHT
BEGIN:STANDARD
TZOFFSETFROM:-0400
TZOFFSETTO:-0500
TZNAME:EST
DTSTART:20231105T060000
END:STANDARD
BEGIN:DAYLIGHT
TZOFFSETFROM:-0500
TZOFFSETTO:-0400
TZNAME:EDT
DTSTART:20240310T070000
END:DAYLIGHT
BEGIN:STANDARD
TZOFFSETFROM:-0400
TZOFFSETTO:-0500
TZNAME:EST
DTSTART:20241103T060000
END:STANDARD
BEGIN:DAYLIGHT
TZOFFSETFROM:-0500
TZOFFSETTO:-0400
TZNAME:EDT
DTSTART:20250309T070000
END:DAYLIGHT
BEGIN:STANDARD
TZOFFSETFROM:-0400
TZOFFSETTO:-0500
TZNAME:EST
DTSTART:20251102T060000
END:STANDARD
BEGIN:DAYLIGHT
TZOFFSETFROM:-0500
TZOFFSETTO:-0400
TZNAME:EDT
DTSTART:20260308T070000
END:DAYLIGHT
BEGIN:STANDARD
TZOFFSETFROM:-0400
TZOFFSETTO:-0500
TZNAME:EST
DTSTART:20261101T060000
END:STANDARD
END:VTIMEZONE
BEGIN:VEVENT
DTSTART;TZID=America/New_York:20250609T080000
DTEND;TZID=America/New_York:20250609T170000
DTSTAMP:20260424T201627
CREATED:20250609T133808Z
LAST-MODIFIED:20250609T133808Z
UID:10005510-1749456000-1749488400@downtowntomsriver.com
SUMMARY:Modern Calligraphy Class: Beginner Level
DESCRIPTION:Join us and Kathy from @sipandscript for a Pretty Lettering Party! You’ll be introduced to modern calligraphy with a pointed dip pen and ink in this beginner level workshop ✒️ \nWhether you’re obsessed with all things stationary\, a DIY Bride-to-Be\, or simply love crafting\, this is the workshop for you. You’ll learn all the basics to give you the skills needed to add those unique lettering details to your snail mail\, wedding paper goods\, home decor\, and more! 💕 \n📍Sunday 6/29 – 11:30AM-1:00PM\, $65 Per Person\nClass includes: 1.5 hours of instruction and demonstration\, a beginner’s calligraphy kit (two nibs\, black ink pot\, 2 letter guides\, tracing paper\, and straight pen holder)\, and all materials to write on. Everything is yours to keep at the end of the workshop! \nTickets must be purchased in advance to attend. Spots are limited – so grab yours today!
URL:https://downtowntomsriver.com/event/modern-calligraphy-class-beginner-level/
LOCATION:Gifted on Washington\, 16 Washington St\, Toms River\, NJ\, 08753-8709\, United States
CATEGORIES:Arts & Cluture,Arts & Crafts,Classes,Other
ATTACH;FMTTYPE=image/png:https://downtowntomsriver.com/wp-content/uploads/2025/06/Calligraphy.png
END:VEVENT
BEGIN:VEVENT
DTSTART;TZID=America/New_York:20250608T110000
DTEND;TZID=America/New_York:20250608T150000
DTSTAMP:20260424T201627
CREATED:20250529T194349Z
LAST-MODIFIED:20250529T195718Z
UID:10005492-1749380400-1749394800@downtowntomsriver.com
SUMMARY:Summer Afternoon Victorian Teatime @ The Mathis House
DESCRIPTION:Enjoy a five-course Summer Victorian Afternoon Teatime experience with a seasonal salad\, a cup of soup\, a warm scone with clotted cream\, lemon curd\, and preserves\, with a variety of tea sandwiches and a plate of desserts.  Your teatime will include a pot of gourmet tea with over 90 varieties to choose from. Call 732-818-7580 to make your reservation or book on RESY \nCelebrate your special occasion at the beautiful Mathis House! \n  \nBeginning June 1st – August 31st: MULTIPLE SEATING TIMES: Tues-Friday Seatings @ 11am/12pm/1pm/2pm | Saturday and Sunday Seatings @ 11am or 3pm
URL:https://downtowntomsriver.com/event/summer-afternoon-victorian-teatime-the-mathis-house/2025-06-08/
LOCATION:The Mathis House at 600 Main\, 600 Main St.\, Toms River\, NJ\, 08753\, United States
CATEGORIES:Arts & Cluture,Business Events,Dining,Entertainment,Other
ATTACH;FMTTYPE=image/jpeg:https://downtowntomsriver.com/wp-content/uploads/2025/05/Summer-Tea-2925.jpg
END:VEVENT
BEGIN:VEVENT
DTSTART;TZID=America/New_York:20250607T110000
DTEND;TZID=America/New_York:20250607T150000
DTSTAMP:20260424T201627
CREATED:20250529T194349Z
LAST-MODIFIED:20250529T195718Z
UID:10005491-1749294000-1749308400@downtowntomsriver.com
SUMMARY:Summer Afternoon Victorian Teatime @ The Mathis House
DESCRIPTION:Enjoy a five-course Summer Victorian Afternoon Teatime experience with a seasonal salad\, a cup of soup\, a warm scone with clotted cream\, lemon curd\, and preserves\, with a variety of tea sandwiches and a plate of desserts.  Your teatime will include a pot of gourmet tea with over 90 varieties to choose from. Call 732-818-7580 to make your reservation or book on RESY \nCelebrate your special occasion at the beautiful Mathis House! \n  \nBeginning June 1st – August 31st: MULTIPLE SEATING TIMES: Tues-Friday Seatings @ 11am/12pm/1pm/2pm | Saturday and Sunday Seatings @ 11am or 3pm
URL:https://downtowntomsriver.com/event/summer-afternoon-victorian-teatime-the-mathis-house/2025-06-07/
LOCATION:The Mathis House at 600 Main\, 600 Main St.\, Toms River\, NJ\, 08753\, United States
CATEGORIES:Arts & Cluture,Business Events,Dining,Entertainment,Other
ATTACH;FMTTYPE=image/jpeg:https://downtowntomsriver.com/wp-content/uploads/2025/05/Summer-Tea-2925.jpg
END:VEVENT
BEGIN:VEVENT
DTSTART;TZID=America/New_York:20250606T110000
DTEND;TZID=America/New_York:20250606T150000
DTSTAMP:20260424T201627
CREATED:20250529T194349Z
LAST-MODIFIED:20250529T195718Z
UID:10005490-1749207600-1749222000@downtowntomsriver.com
SUMMARY:Summer Afternoon Victorian Teatime @ The Mathis House
DESCRIPTION:Enjoy a five-course Summer Victorian Afternoon Teatime experience with a seasonal salad\, a cup of soup\, a warm scone with clotted cream\, lemon curd\, and preserves\, with a variety of tea sandwiches and a plate of desserts.  Your teatime will include a pot of gourmet tea with over 90 varieties to choose from. Call 732-818-7580 to make your reservation or book on RESY \nCelebrate your special occasion at the beautiful Mathis House! \n  \nBeginning June 1st – August 31st: MULTIPLE SEATING TIMES: Tues-Friday Seatings @ 11am/12pm/1pm/2pm | Saturday and Sunday Seatings @ 11am or 3pm
URL:https://downtowntomsriver.com/event/summer-afternoon-victorian-teatime-the-mathis-house/2025-06-06/
LOCATION:The Mathis House at 600 Main\, 600 Main St.\, Toms River\, NJ\, 08753\, United States
CATEGORIES:Arts & Cluture,Business Events,Dining,Entertainment,Other
ATTACH;FMTTYPE=image/jpeg:https://downtowntomsriver.com/wp-content/uploads/2025/05/Summer-Tea-2925.jpg
END:VEVENT
BEGIN:VEVENT
DTSTART;TZID=America/New_York:20250605T110000
DTEND;TZID=America/New_York:20250605T150000
DTSTAMP:20260424T201627
CREATED:20250529T194349Z
LAST-MODIFIED:20250529T195718Z
UID:10005489-1749121200-1749135600@downtowntomsriver.com
SUMMARY:Summer Afternoon Victorian Teatime @ The Mathis House
DESCRIPTION:Enjoy a five-course Summer Victorian Afternoon Teatime experience with a seasonal salad\, a cup of soup\, a warm scone with clotted cream\, lemon curd\, and preserves\, with a variety of tea sandwiches and a plate of desserts.  Your teatime will include a pot of gourmet tea with over 90 varieties to choose from. Call 732-818-7580 to make your reservation or book on RESY \nCelebrate your special occasion at the beautiful Mathis House! \n  \nBeginning June 1st – August 31st: MULTIPLE SEATING TIMES: Tues-Friday Seatings @ 11am/12pm/1pm/2pm | Saturday and Sunday Seatings @ 11am or 3pm
URL:https://downtowntomsriver.com/event/summer-afternoon-victorian-teatime-the-mathis-house/2025-06-05/
LOCATION:The Mathis House at 600 Main\, 600 Main St.\, Toms River\, NJ\, 08753\, United States
CATEGORIES:Arts & Cluture,Business Events,Dining,Entertainment,Other
ATTACH;FMTTYPE=image/jpeg:https://downtowntomsriver.com/wp-content/uploads/2025/05/Summer-Tea-2925.jpg
END:VEVENT
BEGIN:VEVENT
DTSTART;TZID=America/New_York:20250604T110000
DTEND;TZID=America/New_York:20250604T150000
DTSTAMP:20260424T201627
CREATED:20250529T194349Z
LAST-MODIFIED:20250529T195718Z
UID:10005488-1749034800-1749049200@downtowntomsriver.com
SUMMARY:Summer Afternoon Victorian Teatime @ The Mathis House
DESCRIPTION:Enjoy a five-course Summer Victorian Afternoon Teatime experience with a seasonal salad\, a cup of soup\, a warm scone with clotted cream\, lemon curd\, and preserves\, with a variety of tea sandwiches and a plate of desserts.  Your teatime will include a pot of gourmet tea with over 90 varieties to choose from. Call 732-818-7580 to make your reservation or book on RESY \nCelebrate your special occasion at the beautiful Mathis House! \n  \nBeginning June 1st – August 31st: MULTIPLE SEATING TIMES: Tues-Friday Seatings @ 11am/12pm/1pm/2pm | Saturday and Sunday Seatings @ 11am or 3pm
URL:https://downtowntomsriver.com/event/summer-afternoon-victorian-teatime-the-mathis-house/2025-06-04/
LOCATION:The Mathis House at 600 Main\, 600 Main St.\, Toms River\, NJ\, 08753\, United States
CATEGORIES:Arts & Cluture,Business Events,Dining,Entertainment,Other
ATTACH;FMTTYPE=image/jpeg:https://downtowntomsriver.com/wp-content/uploads/2025/05/Summer-Tea-2925.jpg
END:VEVENT
BEGIN:VEVENT
DTSTART;TZID=America/New_York:20250603T110000
DTEND;TZID=America/New_York:20250603T150000
DTSTAMP:20260424T201627
CREATED:20250529T194349Z
LAST-MODIFIED:20250529T195718Z
UID:10005487-1748948400-1748962800@downtowntomsriver.com
SUMMARY:Summer Afternoon Victorian Teatime @ The Mathis House
DESCRIPTION:Enjoy a five-course Summer Victorian Afternoon Teatime experience with a seasonal salad\, a cup of soup\, a warm scone with clotted cream\, lemon curd\, and preserves\, with a variety of tea sandwiches and a plate of desserts.  Your teatime will include a pot of gourmet tea with over 90 varieties to choose from. Call 732-818-7580 to make your reservation or book on RESY \nCelebrate your special occasion at the beautiful Mathis House! \n  \nBeginning June 1st – August 31st: MULTIPLE SEATING TIMES: Tues-Friday Seatings @ 11am/12pm/1pm/2pm | Saturday and Sunday Seatings @ 11am or 3pm
URL:https://downtowntomsriver.com/event/summer-afternoon-victorian-teatime-the-mathis-house/2025-06-03/
LOCATION:The Mathis House at 600 Main\, 600 Main St.\, Toms River\, NJ\, 08753\, United States
CATEGORIES:Arts & Cluture,Business Events,Dining,Entertainment,Other
ATTACH;FMTTYPE=image/jpeg:https://downtowntomsriver.com/wp-content/uploads/2025/05/Summer-Tea-2925.jpg
END:VEVENT
BEGIN:VEVENT
DTSTART;TZID=America/New_York:20250601T110000
DTEND;TZID=America/New_York:20250601T150000
DTSTAMP:20260424T201627
CREATED:20250529T194349Z
LAST-MODIFIED:20250529T195718Z
UID:10005486-1748775600-1748790000@downtowntomsriver.com
SUMMARY:Summer Afternoon Victorian Teatime @ The Mathis House
DESCRIPTION:Enjoy a five-course Summer Victorian Afternoon Teatime experience with a seasonal salad\, a cup of soup\, a warm scone with clotted cream\, lemon curd\, and preserves\, with a variety of tea sandwiches and a plate of desserts.  Your teatime will include a pot of gourmet tea with over 90 varieties to choose from. Call 732-818-7580 to make your reservation or book on RESY \nCelebrate your special occasion at the beautiful Mathis House! \n  \nBeginning June 1st – August 31st: MULTIPLE SEATING TIMES: Tues-Friday Seatings @ 11am/12pm/1pm/2pm | Saturday and Sunday Seatings @ 11am or 3pm
URL:https://downtowntomsriver.com/event/summer-afternoon-victorian-teatime-the-mathis-house/2025-06-01/
LOCATION:The Mathis House at 600 Main\, 600 Main St.\, Toms River\, NJ\, 08753\, United States
CATEGORIES:Arts & Cluture,Business Events,Dining,Entertainment,Other
ATTACH;FMTTYPE=image/jpeg:https://downtowntomsriver.com/wp-content/uploads/2025/05/Summer-Tea-2925.jpg
END:VEVENT
BEGIN:VEVENT
DTSTART;TZID=America/New_York:20250528T183000
DTEND;TZID=America/New_York:20250528T193000
DTSTAMP:20260424T201627
CREATED:20250513T124721Z
LAST-MODIFIED:20250513T124721Z
UID:10004230-1748457000-1748460600@downtowntomsriver.com
SUMMARY:Everyday Choices for the Earth - Local author talk with Debbie McGuire
DESCRIPTION:Local author Debbie McGuire will discuss her new book\, Everyday Choices for the Earth. She will share how to make more climate-friendly choices that will have an impact on the future of the planet.
URL:https://downtowntomsriver.com/event/everyday-choices-for-the-earth-local-author-talk-with-debbie-mcguire/
LOCATION:The Ocean County Library\, 101 Washington St\, Toms River\, NJ\, 08753\, United States
CATEGORIES:Other
ORGANIZER;CN="The Ocean County Library":MAILTO:programs@theoceancountylibrary.org
END:VEVENT
BEGIN:VEVENT
DTSTART;TZID=America/New_York:20241011T170000
DTEND;TZID=America/New_York:20241011T203000
DTSTAMP:20260424T201627
CREATED:20241003T123158Z
LAST-MODIFIED:20241003T123158Z
UID:10003933-1728666000-1728678600@downtowntomsriver.com
SUMMARY:Sip & Shop at Gifted on Washington
DESCRIPTION:Come Sip & Shop at Gifted on Washington! \nOur friends at @forevergolden.nj and @victoryhairsalonnj are joining us for a night filled with shopping & sipping! Treat yourself to some permanent jewelry + upgrade your hairstyle with tinsel\, feathers or pink extensions in support of Breast Cancer Awareness month.
URL:https://downtowntomsriver.com/event/sip-shop-at-gifted-on-washington/
LOCATION:Washington Street\, Toms River NJ\, 33 Washington St.\, Toms River\, 08753\, United States
CATEGORIES:Other
ATTACH;FMTTYPE=image/jpeg:https://downtowntomsriver.com/wp-content/uploads/2024/10/Pink-Cream-Pop-Up-Market-Valentine-Day-Instagram-Post-1.jpg
END:VEVENT
BEGIN:VEVENT
DTSTART;TZID=America/New_York:20201003T140000
DTEND;TZID=America/New_York:20201003T170000
DTSTAMP:20260424T201627
CREATED:20200720T175224Z
LAST-MODIFIED:20200720T175224Z
UID:10000414-1601733600-1601744400@downtowntomsriver.com
SUMMARY:POUND 4 PINK NJ with Lisa Pepper and Company to benefit  Mary’s Place by the Sea
DESCRIPTION:Join Toms River resident Lisa Pepper as she joins forces with this incredible team of Global Pound Pros\, Tour Crew and Icons as they come together to strike against Breast Cancer. Help them as they make noise during the 1st annual POUND 4 PINK NJ\, at the beautiful Downtown Dance Academy located in Toms River\, NJ. Music will be provided by KEC Entertainment\, Toms River\, who has graciously donated their time and talents for this event. A special shout out to Garden State Distillery\, they are donating 20 percent of their days sales for this event. We will be heading over after for some drinks to raise our glasses to kicking cancer to the curb. (Non alcoholic drinks are also available.) \nOctober is Breast Cancer Awareness Month—this is an annual campaign that informs people about breast cancer risks\, the value of screening and early detection\, and treatment options available to women and men who are diagnosed. More than a million women are diagnosed with breast cancer worldwide every single year\, and each must find a way to heal from the physical and emotional scars that breast cancer brings. \nNew to POUND?\nInstead of listening to music\, you become the music in this exhilarating full-body workout that combines cardio\, conditioning\, and strength training with yoga and pilates-inspired movements. Using Ripstix®\, lightly weighted drumsticks engineered specifically for exercising\, POUND transforms drumming into an incredibly effective way of working out. \nDesigned for all fitness levels\, POUND® provides the perfect atmosphere for letting loose\, getting energized\, toning up and rockin’ out! The workout is easily modifiable and the alternative vibe and welcoming philosophy appeals to men and women of all ages and abilities.\n**Tickets are FREE and are required to reserve your spot. Donations will be accepted the day of the event. this is a donation based class. Suggested minimum is $15.00 and will be collected at the event. ALL proceeds of this event will be given to Mary’s Place By the Sea.
URL:https://downtowntomsriver.com/event/pound-4-pink-nj-with-lisa-pepper-and-company-to-benefit-marys-place-by-the-sea/
LOCATION:Downtown Dance Academy\, 25 W Water St\, Toms River\, NJ\, 08753\, United States
CATEGORIES:Other
ATTACH;FMTTYPE=image/jpeg:https://downtowntomsriver.com/wp-content/uploads/2020/07/1D605AA2-0E73-4C7E-AAE0-2E325A160CF6.jpeg
ORGANIZER;CN="Lisa Pepper Tour Crew Pound":MAILTO:Poundwithpepper@gmail.com
END:VEVENT
BEGIN:VEVENT
DTSTART;VALUE=DATE:20200815
DTEND;VALUE=DATE:20200816
DTSTAMP:20260424T201627
CREATED:20200720T130825Z
LAST-MODIFIED:20200720T130825Z
UID:10000407-1597449600-1597535999@downtowntomsriver.com
SUMMARY:TRAC - 2020 Summer Arts Fest
DESCRIPTION:TRAC is proud to announce the 2020 Summer Arts Fest! \nAugust 15th with a rain date of August 16th. \nFood\, music\, performing arts and of course great local art! This year enjoy the Mathis House “Farm Stand”
URL:https://downtowntomsriver.com/event/trac-2020-summer-arts-fest/
LOCATION:The Mathis House at 600 Main\, 600 Main St.\, Toms River\, NJ\, 08753\, United States
CATEGORIES:Other
ATTACH;FMTTYPE=image/jpeg:https://downtowntomsriver.com/wp-content/uploads/2020/07/SAF-PHOTO.jpg
END:VEVENT
BEGIN:VEVENT
DTSTART;TZID=America/New_York:20200725T120000
DTEND;TZID=America/New_York:20200725T150000
DTSTAMP:20260424T201627
CREATED:20200724T152738Z
LAST-MODIFIED:20200724T152738Z
UID:10000416-1595678400-1595689200@downtowntomsriver.com
SUMMARY:Visit with the Cats.
DESCRIPTION:Beat the heat.  Escape your worries for a bit. Come visit with the Cats at the LIDA Adoption Center.  Our six kittens \, Chloe\, Higgins\, Neil\, Armstrong\, Amelia\,  and Shepp. and our 4 adults\,  Loki\, Little Grey\, Skye and Tom are looking forward to seeing you at their free roaming play area. LIDA Adoption Center\, 34 Main St.\, Suite 1b. Please Call or text to let us know  when to expect you.  908-910-2522
URL:https://downtowntomsriver.com/event/visit-with-the-cats/
LOCATION:NJ
CATEGORIES:Other
ATTACH;FMTTYPE=image/jpeg:https://downtowntomsriver.com/wp-content/uploads/2020/07/Resized_20200411_155601-1.jpeg
END:VEVENT
BEGIN:VEVENT
DTSTART;TZID=America/New_York:20200302T180000
DTEND;TZID=America/New_York:20200302T193000
DTSTAMP:20260424T201627
CREATED:20200306T182246Z
LAST-MODIFIED:20200306T182246Z
UID:10000286-1583172000-1583177400@downtowntomsriver.com
SUMMARY:There's a Physical Therapist for That?
DESCRIPTION:Join Dr. Jamie Scomak from Inner Dynamics Physical Therapy as she explains the scope\, diagnoses\, and practices of pelvic physical therapy.
URL:https://downtowntomsriver.com/event/theres-a-physical-therapist-for-that/
LOCATION:The Ocean County Library\, 101 Washington St\, Toms River\, NJ\, 08753\, United States
CATEGORIES:Other
ATTACH;FMTTYPE=image/jpeg:https://downtowntomsriver.com/wp-content/uploads/2020/02/Theres-a-Physical-Therapist-for-That.jpg
END:VEVENT
END:VCALENDAR