BEGIN:VCALENDAR
VERSION:2.0
PRODID:-// - ECPv6.15.15//NONSGML v1.0//EN
CALSCALE:GREGORIAN
METHOD:PUBLISH
X-ORIGINAL-URL:https://downtowntomsriver.com
X-WR-CALDESC:Events for 
REFRESH-INTERVAL;VALUE=DURATION:PT1H
X-Robots-Tag:noindex
X-PUBLISHED-TTL:PT1H
BEGIN:VTIMEZONE
TZID:America/New_York
BEGIN:DAYLIGHT
TZOFFSETFROM:-0500
TZOFFSETTO:-0400
TZNAME:EDT
DTSTART:20240310T070000
END:DAYLIGHT
BEGIN:STANDARD
TZOFFSETFROM:-0400
TZOFFSETTO:-0500
TZNAME:EST
DTSTART:20241103T060000
END:STANDARD
BEGIN:DAYLIGHT
TZOFFSETFROM:-0500
TZOFFSETTO:-0400
TZNAME:EDT
DTSTART:20250309T070000
END:DAYLIGHT
BEGIN:STANDARD
TZOFFSETFROM:-0400
TZOFFSETTO:-0500
TZNAME:EST
DTSTART:20251102T060000
END:STANDARD
BEGIN:DAYLIGHT
TZOFFSETFROM:-0500
TZOFFSETTO:-0400
TZNAME:EDT
DTSTART:20260308T070000
END:DAYLIGHT
BEGIN:STANDARD
TZOFFSETFROM:-0400
TZOFFSETTO:-0500
TZNAME:EST
DTSTART:20261101T060000
END:STANDARD
END:VTIMEZONE
BEGIN:VEVENT
DTSTART;TZID=America/New_York:20251205T173000
DTEND;TZID=America/New_York:20251205T193000
DTSTAMP:20260423T110538
CREATED:20250417T161644Z
LAST-MODIFIED:20251201T153819Z
UID:10004235-1764955800-1764963000@downtowntomsriver.com
SUMMARY:Tree Lighting 2025
DESCRIPTION:December 5th\, 2025: Join us for our annual Christmas Tree Lighting 5:30 PM – 7:30 PM @ 33 Washington St. Downtown Toms River NJ: Live entertainment\, Family activities and… SANTA!!
URL:https://downtowntomsriver.com/event/tree-lighting-2025/
LOCATION:NJ
CATEGORIES:Arts & Cluture,Downtown Toms River Events,Entertainment,Ocean County Library,Other
ATTACH;FMTTYPE=image/png:https://downtowntomsriver.com/wp-content/uploads/2025/04/Tree-Lighting-2025-1.png
END:VEVENT
END:VCALENDAR