BEGIN:VCALENDAR
VERSION:2.0
PRODID:-// - ECPv6.15.15//NONSGML v1.0//EN
CALSCALE:GREGORIAN
METHOD:PUBLISH
X-ORIGINAL-URL:https://downtowntomsriver.com
X-WR-CALDESC:Events for 
REFRESH-INTERVAL;VALUE=DURATION:PT1H
X-Robots-Tag:noindex
X-PUBLISHED-TTL:PT1H
BEGIN:VTIMEZONE
TZID:America/New_York
BEGIN:DAYLIGHT
TZOFFSETFROM:-0500
TZOFFSETTO:-0400
TZNAME:EDT
DTSTART:20240310T070000
END:DAYLIGHT
BEGIN:STANDARD
TZOFFSETFROM:-0400
TZOFFSETTO:-0500
TZNAME:EST
DTSTART:20241103T060000
END:STANDARD
BEGIN:DAYLIGHT
TZOFFSETFROM:-0500
TZOFFSETTO:-0400
TZNAME:EDT
DTSTART:20250309T070000
END:DAYLIGHT
BEGIN:STANDARD
TZOFFSETFROM:-0400
TZOFFSETTO:-0500
TZNAME:EST
DTSTART:20251102T060000
END:STANDARD
BEGIN:DAYLIGHT
TZOFFSETFROM:-0500
TZOFFSETTO:-0400
TZNAME:EDT
DTSTART:20260308T070000
END:DAYLIGHT
BEGIN:STANDARD
TZOFFSETFROM:-0400
TZOFFSETTO:-0500
TZNAME:EST
DTSTART:20261101T060000
END:STANDARD
END:VTIMEZONE
BEGIN:VEVENT
DTSTART;TZID=America/New_York:20250812T100000
DTEND;TZID=America/New_York:20250812T150000
DTSTAMP:20260423T172439
CREATED:20250812T160534Z
LAST-MODIFIED:20250812T160534Z
UID:10005583-1754992800-1755010800@downtowntomsriver.com
SUMMARY:LGBTQIA+ Resource Fair at Ocean County Library
DESCRIPTION:Ocean County Library’s 2nd Annual LGBTQIA+ Resource Fair  \nAll Ages Welcome \nRepresentatives from LGBTQIA+ supportive organizations will be available to describe their services and answer questions from 10AM-2PM \nNO REGISTRATION NECESSARY
URL:https://downtowntomsriver.com/event/lgbtqia-resource-fair-at-ocean-county-library/
LOCATION:The Ocean County Library\, 101 Washington St\, Toms River\, NJ\, 08753\, United States
CATEGORIES:Clubs & Organizations,LGBTQIA+,Ocean County Library
ATTACH;FMTTYPE=image/png:https://downtowntomsriver.com/wp-content/uploads/2025/08/LGBTQIA-Resource-Fair.png
ORGANIZER;CN="The Ocean County Library":MAILTO:programs@theoceancountylibrary.org
END:VEVENT
END:VCALENDAR