BEGIN:VCALENDAR
VERSION:2.0
PRODID:-// - ECPv6.15.15//NONSGML v1.0//EN
CALSCALE:GREGORIAN
METHOD:PUBLISH
X-ORIGINAL-URL:https://downtowntomsriver.com
X-WR-CALDESC:Events for 
REFRESH-INTERVAL;VALUE=DURATION:PT1H
X-Robots-Tag:noindex
X-PUBLISHED-TTL:PT1H
BEGIN:VTIMEZONE
TZID:America/New_York
BEGIN:DAYLIGHT
TZOFFSETFROM:-0500
TZOFFSETTO:-0400
TZNAME:EDT
DTSTART:20250309T070000
END:DAYLIGHT
BEGIN:STANDARD
TZOFFSETFROM:-0400
TZOFFSETTO:-0500
TZNAME:EST
DTSTART:20251102T060000
END:STANDARD
BEGIN:DAYLIGHT
TZOFFSETFROM:-0500
TZOFFSETTO:-0400
TZNAME:EDT
DTSTART:20260308T070000
END:DAYLIGHT
BEGIN:STANDARD
TZOFFSETFROM:-0400
TZOFFSETTO:-0500
TZNAME:EST
DTSTART:20261101T060000
END:STANDARD
BEGIN:DAYLIGHT
TZOFFSETFROM:-0500
TZOFFSETTO:-0400
TZNAME:EDT
DTSTART:20270314T070000
END:DAYLIGHT
BEGIN:STANDARD
TZOFFSETFROM:-0400
TZOFFSETTO:-0500
TZNAME:EST
DTSTART:20271107T060000
END:STANDARD
END:VTIMEZONE
BEGIN:VEVENT
DTSTART;TZID=America/New_York:20260502T120000
DTEND;TZID=America/New_York:20260503T180000
DTSTAMP:20260423T053321
CREATED:20260417T154250Z
LAST-MODIFIED:20260417T154250Z
UID:10007553-1777723200-1777831200@downtowntomsriver.com
SUMMARY:Cinco de Mayo Celebration
DESCRIPTION:Join us Downtown for a Celebration Latin culture and community on May 2nd from 12PM-6PM
URL:https://downtowntomsriver.com/event/cinco-de-mayo-celebration/
LOCATION:33 Washington St. Toms River NJ\, 33 Washington St\, Toms River\, NJ\, 08753\, United States
CATEGORIES:Arts & Cluture,Dining,Downtown Business Events,Entertainment,Live Music,Ocean County Library,Other,Sweets and Treats
ATTACH;FMTTYPE=image/png:https://downtowntomsriver.com/wp-content/uploads/2026/04/Cinco-Teaser-2026.png
ORGANIZER;CN="Downtown Toms River BID":MAILTO:info@downtowntomsriver.com
END:VEVENT
BEGIN:VEVENT
DTSTART;TZID=America/New_York:20260509T193000
DTEND;TZID=America/New_York:20260509T230000
DTSTAMP:20260423T053321
CREATED:20260323T135446Z
LAST-MODIFIED:20260323T135446Z
UID:10007478-1778355000-1778367600@downtowntomsriver.com
SUMMARY:Celebrating Three American Troubadours - Toms River
DESCRIPTION:Welcome to an unforgettable night with Celebrating Three American Troubadours at the Main Stage At Jay and Linda Grunin Center for the Arts in Toms River—one of the area’s go-to spots for live entertainment. Don’t miss **Celebrating Three American Troubadours – Toms River Main Stage At Jay and Linda Grunin Center for the Arts**. \nThis performance salutes three iconic American storytellers\, blending faithful musical moments with lively narration that brings the songs’ origins\, influences\, and cultural impact to life. It’s a heartfelt\, song-by-song journey that feels both intimate and big-hearted. \nThe Grunin Center’s Main Stage offers excellent sightlines\, clear sound\, and a welcoming layout that makes arriving\, settling in\, and enjoying the show easy and comfortable. \nMark your calendar for **Celebrating Three American Troubadours – Toms River** and book your tickets soon—bring friends and make it a night out.
URL:https://downtowntomsriver.com/event/celebrating-three-american-troubadours-toms-river/
LOCATION:Main Stage At Jay and Linda Grunin Center for the Arts\, 1 College Dr\, Toms River\, NJ\, 08753\, United States
CATEGORIES:Live Music
ATTACH;FMTTYPE=image/jpeg:https://downtowntomsriver.com/wp-content/uploads/2026/03/Celebrating-Three-American-Troubadours-Toms-River.jpg
END:VEVENT
BEGIN:VEVENT
DTSTART;TZID=America/New_York:20260520T190000
DTEND;TZID=America/New_York:20260520T203000
DTSTAMP:20260423T053321
CREATED:20260417T154148Z
LAST-MODIFIED:20260417T154148Z
UID:10007552-1779303600-1779309000@downtowntomsriver.com
SUMMARY:Concert with the Pineland Symphonic Band
DESCRIPTION:The crowd-pleasing ensemble returns to the library to showcase their varied repertoire featuring music from Sousa to Dixieland\, patriotic tunes to rock. \nSpace is limited. First come\, first served. \nThis program is sponsored by the Friends of the Ocean County Library – Toms River.
URL:https://downtowntomsriver.com/event/concert-with-the-pineland-symphonic-band-4/
LOCATION:The Ocean County Library\, 101 Washington St\, Toms River\, NJ\, 08753\, United States
CATEGORIES:Live Music
ATTACH;FMTTYPE=image/jpeg:https://downtowntomsriver.com/wp-content/uploads/2026/04/Concert-with-the-Pineland-Symphonic-Band-scaled.jpg
ORGANIZER;CN="The Ocean County Library":MAILTO:programs@theoceancountylibrary.org
END:VEVENT
BEGIN:VEVENT
DTSTART;TZID=America/New_York:20260620T200000
DTEND;TZID=America/New_York:20260620T230000
DTSTAMP:20260423T053321
CREATED:20260323T135542Z
LAST-MODIFIED:20260323T135542Z
UID:10007477-1781985600-1781996400@downtowntomsriver.com
SUMMARY:Eaglemania - Tribute To The Eagles - Toms River
DESCRIPTION:Welcome to a night of timeless rock with Eaglemania – Tribute To The Eagles\, lighting up the Main Stage At Jay and Linda Grunin Center for the Arts in Toms River—one of the area’s go-to spots for live entertainment. Eaglemania – Tribute To The Eagles – Toms River Main Stage At Jay and Linda Grunin Center for the Arts brings the songs you know by heart to a stage that feels like home. \nThis show stands out for its spot-on harmonies\, faithful guitar tones\, and the way each classic is performed with real care for the original arrangements—no shortcuts\, just pure Eagles spirit. \nSettle into a comfortable\, pro-sound venue with great sightlines and an easy-to-navigate layout\, making it a relaxed night out from start to finish. \nMake plans now and grab your seats for Eaglemania – Tribute To The Eagles – Toms River—come sing along and make it a Saturday to remember\,
URL:https://downtowntomsriver.com/event/eaglemania-tribute-to-the-eagles-toms-river/
LOCATION:Main Stage At Jay and Linda Grunin Center for the Arts\, 1 College Dr\, Toms River\, NJ\, 08753\, United States
CATEGORIES:Live Music
ATTACH;FMTTYPE=image/jpeg:https://downtowntomsriver.com/wp-content/uploads/2026/03/Eaglemania-Tribute-To-The-Eagles-Toms-River.jpg
END:VEVENT
END:VCALENDAR