BEGIN:VCALENDAR
VERSION:2.0
PRODID:-// - ECPv6.15.15//NONSGML v1.0//EN
CALSCALE:GREGORIAN
METHOD:PUBLISH
X-ORIGINAL-URL:https://downtowntomsriver.com
X-WR-CALDESC:Events for 
REFRESH-INTERVAL;VALUE=DURATION:PT1H
X-Robots-Tag:noindex
X-PUBLISHED-TTL:PT1H
BEGIN:VTIMEZONE
TZID:America/New_York
BEGIN:DAYLIGHT
TZOFFSETFROM:-0500
TZOFFSETTO:-0400
TZNAME:EDT
DTSTART:20240310T070000
END:DAYLIGHT
BEGIN:STANDARD
TZOFFSETFROM:-0400
TZOFFSETTO:-0500
TZNAME:EST
DTSTART:20241103T060000
END:STANDARD
BEGIN:DAYLIGHT
TZOFFSETFROM:-0500
TZOFFSETTO:-0400
TZNAME:EDT
DTSTART:20250309T070000
END:DAYLIGHT
BEGIN:STANDARD
TZOFFSETFROM:-0400
TZOFFSETTO:-0500
TZNAME:EST
DTSTART:20251102T060000
END:STANDARD
BEGIN:DAYLIGHT
TZOFFSETFROM:-0500
TZOFFSETTO:-0400
TZNAME:EDT
DTSTART:20260308T070000
END:DAYLIGHT
BEGIN:STANDARD
TZOFFSETFROM:-0400
TZOFFSETTO:-0500
TZNAME:EST
DTSTART:20261101T060000
END:STANDARD
END:VTIMEZONE
BEGIN:VEVENT
DTSTART;TZID=America/New_York:20250905T170000
DTEND;TZID=America/New_York:20250905T220000
DTSTAMP:20260423T164017
CREATED:20250822T200421Z
LAST-MODIFIED:20250822T200426Z
UID:10005590-1757091600-1757109600@downtowntomsriver.com
SUMMARY:LOCAL SUMMER @ Downtown Night Out
DESCRIPTION:Join us for a special Downtown Night Out on September 5th!
URL:https://downtowntomsriver.com/event/local-summer-downtown-night-out/
LOCATION:NJ
CATEGORIES:Dining,Downtown Toms River Events,Entertainment,Kids,Live Music,Other
ATTACH;FMTTYPE=image/jpeg:https://downtowntomsriver.com/wp-content/uploads/2025/08/Local-Summer-Flyer.jpg
ORGANIZER;CN="Downtown Toms River BID":MAILTO:info@downtowntomsriver.com
END:VEVENT
BEGIN:VEVENT
DTSTART;TZID=America/New_York:20250917T183000
DTEND;TZID=America/New_York:20250917T200000
DTSTAMP:20260423T164017
CREATED:20250826T191700Z
LAST-MODIFIED:20250826T191705Z
UID:10005602-1758133800-1758139200@downtowntomsriver.com
SUMMARY:100th Anniversary Concert: The Ragtimers @ Ocean County Library
DESCRIPTION:Celebrate 100 years of Ocean County Library with Fred Lehotay and the Ragtimers!
URL:https://downtowntomsriver.com/event/100th-anniversary-concert-the-ragtimers-ocean-county-library/
LOCATION:The Ocean County Library\, 101 Washington St\, Toms River\, NJ\, 08753\, United States
CATEGORIES:Arts & Cluture,Entertainment,Live Music,Ocean County Library,Other
ATTACH;FMTTYPE=image/png:https://downtowntomsriver.com/wp-content/uploads/2025/08/Lehotay-and-the-Ragtimers.png
ORGANIZER;CN="The Ocean County Library":MAILTO:programs@theoceancountylibrary.org
END:VEVENT
BEGIN:VEVENT
DTSTART;TZID=America/New_York:20250920T190000
DTEND;TZID=America/New_York:20250920T213000
DTSTAMP:20260423T164017
CREATED:20250818T141030Z
LAST-MODIFIED:20250818T141030Z
UID:10005566-1758394800-1758403800@downtowntomsriver.com
SUMMARY:Elvis Tribute Show at the Historic Mathis House
DESCRIPTION: ELVIS TRIBUTE DINNER SHOW at the Mathis House\, A Victorian Bed & Breakfast\n Date: September 20th Time: 7:00 PM Location: Mathis House\, Toms River\, NJ\n Elvis is in the building!Join us for an action-packed evening featuring our own Elvis Tribute Show starring Evan Mills as the King of Rock and Roll!\n Dinner Catered by Joe Leone’s of Point PleasantIncludes: Warm artisan bread Soup Seasonal salad Chicken Picatta Penne vodka Mixed vegetables peach cobbler with ice cream Coffee\, tea\, or gourmet iced tea\n TICKETS: $50/person(+ tax & gratuity)All tickets are pre-paid and include dinner & the show.Cancellation policy: Credit valid at the Mathis House for 2 years.\n Call 732-818-7580 to reserve! Purchase tickets online: [Eventbrite link]\n Dress to Impress in 50’s Attire!Best dressed wins a FREE overnight stay at the Mathis House!\n Overnight Package:Dinner\, the show & overnight stay for $249\, includes breakfast the next morning.\n Parties of 2 may be seated with another party of 2.
URL:https://downtowntomsriver.com/event/elvis-tribute-show-at-the-historic-mathis-house/
LOCATION:The Mathis House at 600 Main\, 600 Main St.\, Toms River\, NJ\, 08753\, United States
CATEGORIES:Downtown Toms River Events,Entertainment,Live Music
ATTACH;FMTTYPE=image/jpeg:https://downtowntomsriver.com/wp-content/uploads/2025/08/Elvis-Tribute-show.jpg
ORGANIZER;CN="WWW.mathishouse600main.com":MAILTO:vweiss@mathishouse600main.com
END:VEVENT
BEGIN:VEVENT
DTSTART;TZID=America/New_York:20250926T190000
DTEND;TZID=America/New_York:20250926T213000
DTSTAMP:20260423T164017
CREATED:20250814T165240Z
LAST-MODIFIED:20250814T165240Z
UID:10005569-1758913200-1758922200@downtowntomsriver.com
SUMMARY:Romantic Steak or Salmon Dinner
DESCRIPTION:Celebrate a birthday\, anniversary\, or romantic evening at the Historic Mathis House in Downtown Toms River.\nCome relax at the Mathis House with all of your favorite family and friends. Chef Bill\, our catering chef from Taste Matters\, will prepare a wonderful meal while you enjoy live music and the beauty of the historic Inn.\nThe Dinner Menu will include:\nFilet mignon or salmon as your main course\nGarlic and parmesan mashed potatoes.\nGrilled asparagus\nSeasonal Mixed Green Salad\nA warm cup of carrot coconut or zucchini Parmesan soup.\nA plate of desserts with mini scones and clotted cream.\nGourmet Tea\, coffee\, or soda.\nThe cost is $75 per person plus tax and gratuity. $20 off for seniors and Military.\nBy Reservation only. Cancellations will receive a credit at the Mathis House for up to two years.
URL:https://downtowntomsriver.com/event/romantic-steak-or-salmon-dinner-2/
LOCATION:The Mathis House at 600 Main\, 600 Main St.\, Toms River\, NJ\, 08753\, United States
CATEGORIES:Dining,Downtown Toms River Events,Live Music
ATTACH;FMTTYPE=image/jpeg:https://downtowntomsriver.com/wp-content/uploads/2025/08/Romantic-steak-or-salmon-dinner.jpg
ORGANIZER;CN="WWW.mathishouse600main.com":MAILTO:vweiss@mathishouse600main.com
END:VEVENT
END:VCALENDAR