BEGIN:VCALENDAR
VERSION:2.0
PRODID:-// - ECPv6.15.15//NONSGML v1.0//EN
CALSCALE:GREGORIAN
METHOD:PUBLISH
X-ORIGINAL-URL:https://downtowntomsriver.com
X-WR-CALDESC:Events for 
REFRESH-INTERVAL;VALUE=DURATION:PT1H
X-Robots-Tag:noindex
X-PUBLISHED-TTL:PT1H
BEGIN:VTIMEZONE
TZID:America/New_York
BEGIN:DAYLIGHT
TZOFFSETFROM:-0500
TZOFFSETTO:-0400
TZNAME:EDT
DTSTART:20200308T070000
END:DAYLIGHT
BEGIN:STANDARD
TZOFFSETFROM:-0400
TZOFFSETTO:-0500
TZNAME:EST
DTSTART:20201101T060000
END:STANDARD
BEGIN:DAYLIGHT
TZOFFSETFROM:-0500
TZOFFSETTO:-0400
TZNAME:EDT
DTSTART:20210314T070000
END:DAYLIGHT
BEGIN:STANDARD
TZOFFSETFROM:-0400
TZOFFSETTO:-0500
TZNAME:EST
DTSTART:20211107T060000
END:STANDARD
BEGIN:DAYLIGHT
TZOFFSETFROM:-0500
TZOFFSETTO:-0400
TZNAME:EDT
DTSTART:20220313T070000
END:DAYLIGHT
BEGIN:STANDARD
TZOFFSETFROM:-0400
TZOFFSETTO:-0500
TZNAME:EST
DTSTART:20221106T060000
END:STANDARD
BEGIN:DAYLIGHT
TZOFFSETFROM:-0500
TZOFFSETTO:-0400
TZNAME:EDT
DTSTART:20230312T070000
END:DAYLIGHT
BEGIN:STANDARD
TZOFFSETFROM:-0400
TZOFFSETTO:-0500
TZNAME:EST
DTSTART:20231105T060000
END:STANDARD
BEGIN:DAYLIGHT
TZOFFSETFROM:-0500
TZOFFSETTO:-0400
TZNAME:EDT
DTSTART:20240310T070000
END:DAYLIGHT
BEGIN:STANDARD
TZOFFSETFROM:-0400
TZOFFSETTO:-0500
TZNAME:EST
DTSTART:20241103T060000
END:STANDARD
BEGIN:DAYLIGHT
TZOFFSETFROM:-0500
TZOFFSETTO:-0400
TZNAME:EDT
DTSTART:20250309T070000
END:DAYLIGHT
BEGIN:STANDARD
TZOFFSETFROM:-0400
TZOFFSETTO:-0500
TZNAME:EST
DTSTART:20251102T060000
END:STANDARD
BEGIN:DAYLIGHT
TZOFFSETFROM:-0500
TZOFFSETTO:-0400
TZNAME:EDT
DTSTART:20260308T070000
END:DAYLIGHT
BEGIN:STANDARD
TZOFFSETFROM:-0400
TZOFFSETTO:-0500
TZNAME:EST
DTSTART:20261101T060000
END:STANDARD
END:VTIMEZONE
BEGIN:VEVENT
DTSTART;TZID=America/New_York:20250821T183000
DTEND;TZID=America/New_York:20250821T200000
DTSTAMP:20260423T064700
CREATED:20250603T151514Z
LAST-MODIFIED:20250603T151514Z
UID:10005503-1755801000-1755806400@downtowntomsriver.com
SUMMARY:Ice Cream Social and Magic Show
DESCRIPTION:Bring the family for a night of ice cream\, entertainment and fun. This family event will include a ice cream sundae building buffet with yummy candies\, cupcakes\, and mini scones. While eating the night away\, the kids will laugh and smile as a magician\, Mr. Ron Owens\, puts on a magic show.\nTickets are $20 for adults and $10 for children. Call 732-818-7580 for more information or visit www.mathishouse600main.com to buy online.\nWe hope to see you there and keep family traditions alive in small downtown USA on Main Street.
URL:https://downtowntomsriver.com/event/ice-cream-social-and-magic-show/
LOCATION:The Mathis House at 600 Main\, 600 Main St.\, Toms River\, NJ\, 08753\, United States
CATEGORIES:Downtown Toms River Events,Entertainment,Kids
ATTACH;FMTTYPE=image/png:https://downtowntomsriver.com/wp-content/uploads/2025/06/Ice-Cream-Social.png
ORGANIZER;CN="WWW.mathishouse600main.com":MAILTO:vweiss@mathishouse600main.com
END:VEVENT
BEGIN:VEVENT
DTSTART;TZID=America/New_York:20250821T080000
DTEND;TZID=America/New_York:20250821T170000
DTSTAMP:20260423T064700
CREATED:20250821T150627Z
LAST-MODIFIED:20250821T150631Z
UID:10005589-1755763200-1755795600@downtowntomsriver.com
SUMMARY:CAR WASH FUNDRAISER - Broadway on Main
DESCRIPTION:<p>Summer Carwash to help fundraise for the Broadway on Main Dancing Studios. </p> \n<p>Support young artists as they grow their skills and passion! </p> \n<p>Activities for kids available\, lemonade\, cotton candy\, face painting\, shaved ice and more! </p> \n<p>See the flyer or reach out to Broadway on Main for more details! </p>
URL:https://downtowntomsriver.com/event/car-wash-fundraiser-broadway-on-main/
LOCATION:Broadway On Main\, 806 N. Main Street\, Toms River\, 08753\, United States
CATEGORIES:Arts & Cluture,Fundraising,Kids,Other
ATTACH;FMTTYPE=image/jpeg:https://downtowntomsriver.com/wp-content/uploads/2025/08/BOM-Carwash.jpg
ORGANIZER;CN="Broadway On Main":MAILTO:broadwayonmaintrnj@gmail.com
END:VEVENT
BEGIN:VEVENT
DTSTART;TZID=America/New_York:20250818T090000
DTEND;TZID=America/New_York:20250822T120000
DTSTAMP:20260423T064700
CREATED:20250527T183422Z
LAST-MODIFIED:20250527T183422Z
UID:10004325-1755507600-1755864000@downtowntomsriver.com
SUMMARY:Summer Art Camp for Kids | Ages 5-12
DESCRIPTION:
URL:https://downtowntomsriver.com/event/summer-art-camp-for-kids-ages-5-12/
LOCATION:TRAC GALLERY\, 40 Main St\, Right Side\, TOMS RIVER\, NJ\, 08753\, United States
CATEGORIES:Arts & Cluture,Arts & Crafts,Kids
ORGANIZER;CN="TRAC":MAILTO:tomstiverartistcommunity732.com
END:VEVENT
BEGIN:VEVENT
DTSTART;TZID=America/New_York:20250816T100000
DTEND;TZID=America/New_York:20250816T120000
DTSTAMP:20260423T064700
CREATED:20250603T152932Z
LAST-MODIFIED:20250603T152932Z
UID:10005501-1755338400-1755345600@downtowntomsriver.com
SUMMARY:Breakfast at Tiffany's Buffet Brunch at the Historic Mathis House
DESCRIPTION:Gather the ladies and dress in your black dresses\, hats and gloves for a simply glamorous brunch. Spend time sipping tea\, enjoying delicious gourmet food\, and live piano music.\nThe Mathis House will be perfectly decorated in teal\, candles\, pearls\, and flowers.\nThis is the perfect day to celebrate birthdays and special occasions. The cost is $50 per person plus gratuity.\nBuffet and Butler Style Menu includes:\nVariety of tea sandwichesGlazed HamBacon and SausageBroccoli and Cheddar FrittataSpinach and Artichoke TartletsCharcuterie boardFresh fruitsCinnamon Raisin Scone BakeWarm delicious scones with clotted cream and lemon curdGarlic Mashed potatoes and toppings.Large mixed green saladDelicious petite dessertsNon- alcoholic sparkling tea\, gourmet hot\, orange juice\, coffee or iced tea.\nFor reservations call 732-818-7580 or visit Resy to make online reservations at www.mathishouse600main.com.
URL:https://downtowntomsriver.com/event/breakfast-at-tiffanys-buffet-brunch-at-the-historic-mathis-house/
LOCATION:The Mathis House at 600 Main\, 600 Main St.\, Toms River\, NJ\, 08753\, United States
CATEGORIES:Downtown Toms River Events,Entertainment,Kids
ATTACH;FMTTYPE=image/png:https://downtowntomsriver.com/wp-content/uploads/2025/06/Breakfast-at-Tiffanys.png
ORGANIZER;CN="WWW.mathishouse600main.com":MAILTO:vweiss@mathishouse600main.com
END:VEVENT
BEGIN:VEVENT
DTSTART;TZID=America/New_York:20250809T170000
DTEND;TZID=America/New_York:20250809T220000
DTSTAMP:20260423T064700
CREATED:20250725T174920Z
LAST-MODIFIED:20250725T174951Z
UID:10005542-1754758800-1754776800@downtowntomsriver.com
SUMMARY:Princess Party - Downtown Night Out Special Theme Night
DESCRIPTION:Join us for a very special Downtown Night Out. Dine in the street and bring your favorite prince\, pirate\, or princess to join!\nCostumes and gowns are encouraged for guests of all ages. \nYour favorite Ice Princess will be holding court to meet with all the lords and ladies of the land.  \nPhoto opportunities\, singing\, story time and more.  \nEnjoy face-painting.  \nYour prince or princess can design their own crown \nThemed desserts and drinks from district businesses.  \nThe Mathis house will be providing a tea-party table-scape to capture memories of your time in the royal court. \n \nOur princess will be joining as from 6-8PM\, don’t miss out!
URL:https://downtowntomsriver.com/event/princess-party-downtown-night-out-special-theme-night/
LOCATION:Downtown Toms River\, Washington St\,.\, Toms River\, NJ\, 08753\, United States
CATEGORIES:Arts & Crafts,Dining,Downtown Toms River Events,Entertainment,Kids,Live Music,Other,Sweets and Treats
ATTACH;FMTTYPE=image/png:https://downtowntomsriver.com/wp-content/uploads/2025/07/Downtown-Princess-Party-1250-x-1040-px-1.png
ORGANIZER;CN="Downtown Toms River BID":MAILTO:info@downtowntomsriver.com
END:VEVENT
BEGIN:VEVENT
DTSTART;TZID=America/New_York:20250729T180000
DTEND;TZID=America/New_York:20250729T180000
DTSTAMP:20260423T064700
CREATED:20250616T182717Z
LAST-MODIFIED:20250616T182838Z
UID:10005513-1753812000-1753812000@downtowntomsriver.com
SUMMARY:Juggling Workshop For Kids - Ocean County Library
DESCRIPTION:﻿ \nTOMS RIVER – Kids\, did you ever watch a juggler in action and wonder how it’s done? You can\nlearn this art of balance\, alertness and timing from a professional during our “Be a Juggler”\nsummer children’s workshops in two branches of the Ocean County Library \nWatch as Molly deftly maneuvers rings\, balls and a Chinese yo-yo\, and spins a plate. Then it’s\nyour turn! Learn how to juggle scarves\, balance a peacock feather and try your hand at spinning\nplates. \nChildren age 6 to 12 are welcome to sign up for our free juggling workshops. Please register at\ntinyurl.com/OCLJuggling to attend this program in either branch. For more information\, visit or call\nthe corresponding branch.
URL:https://downtowntomsriver.com/event/juggling-workshop-for-kids-ocean-county-library/
LOCATION:The Ocean County Library\, 101 Washington St\, Toms River\, NJ\, 08753\, United States
CATEGORIES:Arts & Cluture,Classes,Kids
ATTACH;FMTTYPE=image/jpeg:https://downtowntomsriver.com/wp-content/uploads/2025/06/Juggling.jpg
END:VEVENT
BEGIN:VEVENT
DTSTART;TZID=America/New_York:20250728T183000
DTEND;TZID=America/New_York:20250728T200000
DTSTAMP:20260423T064700
CREATED:20250807T180525Z
LAST-MODIFIED:20250807T180525Z
UID:10005546-1753727400-1753732800@downtowntomsriver.com
SUMMARY:Princess Tea with Cinderella
DESCRIPTION:Bring your little princess to join the Princess Cindy for a special tea time at the Historic Mathis House Victorian Tea Room. The tea time includes an appearance from our Princess that will sing songs\, read a story and take pictures with your children.\nEnjoy warm scones with clotted cream and homemade cupcakes with cold and hot tea. The mansion is perfectly decorated and a place that brings smiles and memories.\nTickets are $20 for adults and $10 for children. Please call 732-818-7580 for more information or visit www.mathishouse600main.com to buy direct online.\nLocated at 600 Main Street in Downtown Toms River. Parking located directly behind the Inn. Please no early birds. Feel free to come dressed in your princess outfits and bring your camera.
URL:https://downtowntomsriver.com/event/princess-tea-with-cinderella/
LOCATION:The Mathis House at 600 Main\, 600 Main St.\, Toms River\, NJ\, 08753\, United States
CATEGORIES:Arts & Crafts,Downtown Toms River Events,Entertainment,Kids
ATTACH;FMTTYPE=image/jpeg:https://downtowntomsriver.com/wp-content/uploads/2025/07/Princess-tea-w-cinderella.jpg
ORGANIZER;CN="WWW.mathishouse600main.com":MAILTO:vweiss@mathishouse600main.com
END:VEVENT
BEGIN:VEVENT
DTSTART;TZID=America/New_York:20250719T140000
DTEND;TZID=America/New_York:20250719T200000
DTSTAMP:20260423T064700
CREATED:20250416T161413Z
LAST-MODIFIED:20250718T174659Z
UID:10004228-1752933600-1752955200@downtowntomsriver.com
SUMMARY:Summer in The Street 2025
DESCRIPTION:Join us for the hottest event of the summer.. in the street! Come to Downtown Toms River to celebrate fun in the sun! – \nJuly 19th 2025 – 2PM – 8Pm  on Washington Street – \nLive bands\, demonstrations\, food\, cold drinks\, family fun\, activities\, crafts\, vendors and so much more! – \nNo entry fee! – \nFor more info and events follow us on Facebook www.facebook.com/downtowntomsriver and Instagram www.instagram.com/downtowntomsriver/
URL:https://downtowntomsriver.com/event/summer-in-the-street-2025/
LOCATION:Downtown Toms River\, Washington St\,.\, Toms River\, NJ\, 08753\, United States
CATEGORIES:Arts & Cluture,Arts & Crafts,Downtown Toms River Events,Entertainment,Kids,Live Music,Sweets and Treats,Toms River Artist Community
ATTACH;FMTTYPE=image/jpeg:https://downtowntomsriver.com/wp-content/uploads/2025/04/Summer-In-The-Street-Toms-River-Times-AD.jpg
END:VEVENT
BEGIN:VEVENT
DTSTART;TZID=America/New_York:20250714T130000
DTEND;TZID=America/New_York:20250718T150000
DTSTAMP:20260423T064700
CREATED:20250527T183024Z
LAST-MODIFIED:20250527T183024Z
UID:10004324-1752498000-1752850800@downtowntomsriver.com
SUMMARY:Summer Arts Camp | Ages 6-9 | Learn to Create Cartoons!
DESCRIPTION:
URL:https://downtowntomsriver.com/event/summer-arts-camp-ages-6-9-learn-to-create-cartoons/
LOCATION:TRAC- Toms River Artist Community\, 40 Main Street\, Toms River\, NJ\, 08753\, United States
CATEGORIES:Arts & Cluture,Arts & Crafts,Kids
ORGANIZER;CN="TRAC":MAILTO:tomstiverartistcommunity732.com
END:VEVENT
BEGIN:VEVENT
DTSTART;TZID=America/New_York:20250702T183000
DTEND;TZID=America/New_York:20250702T200000
DTSTAMP:20260423T064700
CREATED:20250529T192857Z
LAST-MODIFIED:20250529T200137Z
UID:10004714-1751481000-1751486400@downtowntomsriver.com
SUMMARY:Ice Cream Social and Magic Show is so Funny by Ron Owens @ The Mathis House
DESCRIPTION:Bring the family for a night of ice cream\, entertainment and fun. This family event will include a ice cream sundae building buffet with yummy candies\, cupcakes\, and mini scones. While eating the night away\, the kids will laugh and smile as a magician\, Mr. Ron Owens\, puts on a magic show.\nTickets are $20 for adults and $10 for children. Call 732-818-7580 for more information or visit www.mathishouse600main.com to buy online.\nWe hope to see you there and keep family traditions alive in small downtown USA on Main Street.
URL:https://downtowntomsriver.com/event/ice-cream-social-and-magic-show-is-so-funny-by-ron-owens/
LOCATION:The Mathis House at 600 Main\, 600 Main St.\, Toms River\, NJ\, 08753\, United States
CATEGORIES:Downtown Toms River Events,Kids
ATTACH;FMTTYPE=image/png:https://downtowntomsriver.com/wp-content/uploads/2025/05/Logo-Mathis-House.png
ORGANIZER;CN="WWW.mathishouse600main.com":MAILTO:vweiss@mathishouse600main.com
END:VEVENT
BEGIN:VEVENT
DTSTART;TZID=America/New_York:20250604T183000
DTEND;TZID=America/New_York:20250604T203000
DTSTAMP:20260423T064700
CREATED:20250529T184053Z
LAST-MODIFIED:20250529T201002Z
UID:10004326-1749061800-1749069000@downtowntomsriver.com
SUMMARY:Daddy Daughter Tea Party @ The Mathis House
DESCRIPTION:Daddy\, bring your little ones for a special Father’s Day Children’s Tea Party. Enjoy gourmet tea\, our delicious chocolate chip scones\, and bite sized desserts. While enjoying your tea party the kids will work with you to make a potted plant with flowers to celebrate their special day. Supplies are provided by the Mathis House. We will have live piano music and the kids will have a great time. Tickets are $20 per person and children are $10 each. Please call 732-818-7580 for your tickets or click here to purchase on RESY.
URL:https://downtowntomsriver.com/event/daddy-daughter-tea-party-the-mathis-house/
LOCATION:NJ
CATEGORIES:Kids
ATTACH;FMTTYPE=image/jpeg:https://downtowntomsriver.com/wp-content/uploads/2025/05/Daddy-Daughter.jpg
ORGANIZER;CN="WWW.mathishouse600main.com":MAILTO:vweiss@mathishouse600main.com
END:VEVENT
BEGIN:VEVENT
DTSTART;TZID=America/New_York:20250530T180000
DTEND;TZID=America/New_York:20250530T193000
DTSTAMP:20260423T064700
CREATED:20250527T181445Z
LAST-MODIFIED:20250527T181816Z
UID:10004321-1748628000-1748633400@downtowntomsriver.com
SUMMARY:"Stitch" Paint Party @ Toms River Artist Community
DESCRIPTION:
URL:https://downtowntomsriver.com/event/stitch-paint-party/
LOCATION:TRAC- Toms River Artist Community\, 40 Main Street\, Toms River\, NJ\, 08753\, United States
CATEGORIES:Arts & Cluture,Arts & Crafts,Kids
ORGANIZER;CN="TRAC":MAILTO:tomstiverartistcommunity732.com
END:VEVENT
BEGIN:VEVENT
DTSTART;TZID=America/New_York:20241207T100000
DTEND;TZID=America/New_York:20241207T120000
DTSTAMP:20260423T064700
CREATED:20241030T175841Z
LAST-MODIFIED:20241106T140634Z
UID:10004060-1733565600-1733572800@downtowntomsriver.com
SUMMARY:Pet/Family Photos with Santa Fundraiser
DESCRIPTION:Pet and Family Holiday Photos with Santa!  Fundraising efforts to benefit the mission of Ocean Partnership for Children\, Ocean County’s designated Care Mangement Organization.  OPC provides free\, confidential\, and strength-based care management services to youth up to age 21\, by creating child family teams\, implementing services\, and helping youth in crisis to find sustainable resources.  Additionally\, OPC runs 6 youth support groups\, also open to all Ocean County youth and held throughout the year. \n10am-12pm at the OCP office in Downtown Toms River: 36 Washington Street \nVendor shopping\, resource tables\, refreshments\, and giveaways! \nPlease reserve your spot now for the following with suggested donations: \nPet and Family Photos with Santa \nPhoto with Santa (includes entry into door prizes and refreshments) – $30 \nVendors (set up a table to set your craft or promote your business) – $25 \nSponsors (individual and corporate sponsors available) – $100 for event; $500 for event and 2025 youth groups
URL:https://downtowntomsriver.com/event/pet-family-photos-with-santa-fundraiser/
LOCATION:NJ
CATEGORIES:Kids
ATTACH;FMTTYPE=image/jpeg:https://downtowntomsriver.com/wp-content/uploads/2024/10/1.jpg
ORGANIZER;CN="Ocean Partnership for Children":MAILTO:jpepe@oceanpartnership.org
END:VEVENT
BEGIN:VEVENT
DTSTART;TZID=America/New_York:20241026T130000
DTEND;TZID=America/New_York:20241026T150000
DTSTAMP:20260423T064700
CREATED:20241008T154119Z
LAST-MODIFIED:20241008T154119Z
UID:10003937-1729947600-1729954800@downtowntomsriver.com
SUMMARY:Trunk or Treat at Aqua-Tots Swim School
DESCRIPTION:🎃 Join us for a spooktacular Trunk or Treat event at Aqua-Tots Swim School! 🎃 \n  \n🗓 Date: Saturday\, October 26 \n⏰ Time: 1:00 PM – 3:00 PM \n📍 Location: Aqua-Tots Swim School\, Toms River \n  \nBring the whole family for a fun afternoon of trick-or-treating from creatively decorated trunks and vehicles! Wear your costumes\, collect candy\, and enjoy some Halloween fun in a safe and festive environment. \n  \nIf you’d like to participate by decorating your trunk or vehicle\, please email us at tomsriverinfo@aqua-tots.com to reserve your spot! \n  \nWe can’t wait to celebrate with you!
URL:https://downtowntomsriver.com/event/trunk-or-treat-at-aqua-tots-swim-school/
LOCATION:Aqua-Tots Swim School\, 1358 Hooper Avenue\, Toms River\, NJ\, 08753\, United States
CATEGORIES:Entertainment,Kids
ORGANIZER;CN="Aqua-Tots Swim School Toms River":MAILTO:tomsriverinfo@aqua-tots.com
END:VEVENT
BEGIN:VEVENT
DTSTART;TZID=America/New_York:20241006T130000
DTEND;TZID=America/New_York:20241006T160000
DTSTAMP:20260423T064700
CREATED:20240920T150655Z
LAST-MODIFIED:20240920T150655Z
UID:10003927-1728219600-1728230400@downtowntomsriver.com
SUMMARY:Fire Prevention Experience
DESCRIPTION:Meet the volunteers of Toms River Fire Department at this family-friendly event! \n\nWatch exciting\, live demonstrations\nSee fire trucks and emergency vehicles\nLearn fire prevention tips
URL:https://downtowntomsriver.com/event/fire-prevention-experience/
LOCATION:Ocean County Mall\, 1201 Hooper Ave.\, Toms River\, 08753\, United States
CATEGORIES:Kids
ATTACH;FMTTYPE=image/png:https://downtowntomsriver.com/wp-content/uploads/2024/09/TOMS_RIVER_FIRE_PREV_FLYER-2024.png
END:VEVENT
BEGIN:VEVENT
DTSTART;TZID=America/New_York:20240921T120000
DTEND;TZID=America/New_York:20240921T180000
DTSTAMP:20260423T064700
CREATED:20240426T190251Z
LAST-MODIFIED:20240426T190413Z
UID:10002101-1726920000-1726941600@downtowntomsriver.com
SUMMARY:Comfort Food Festival
DESCRIPTION:Comfort Food Festival – September 21st from 12:00pm – 6:00pm\n\nPerformances by:\n – The Music Academy\n – Coastal Vibe\n – Jeff Fodor Band\n – The Dance Centre\n\nGood Eats from our local restaurants and TR Fire Co. # 1.\n– A Thyme for All Seasons– Battle River Brewing– Capones– Garden State Distillery– Mandoli’s\n– Mathis House– Mullers Creamery\n– Netty’s Sweets– Oi Sushi– Smokies BBQ– Tacotastic\n– Tommy Boy’s Cafe\nEnjoy yummy beer & drinks\nHandcraft vendors\, Food Trucks\, Family fun!\n\nStay and hang out with us for Downtown Night Out!
URL:https://downtowntomsriver.com/event/comfort-food-festival-3/
LOCATION:Washington Street\, Toms River NJ\, 33 Washington St.\, Toms River\, 08753\, United States
CATEGORIES:Arts & Cluture,Arts & Crafts,Downtown Toms River Events,Entertainment,Kids
ATTACH;FMTTYPE=image/png:https://downtowntomsriver.com/wp-content/uploads/2024/04/COMFORT-FOOD-FEST.png
ORGANIZER;CN="Downtown Toms River BID":MAILTO:info@downtowntomsriver.com
END:VEVENT
BEGIN:VEVENT
DTSTART;TZID=America/New_York:20240814T180000
DTEND;TZID=America/New_York:20240814T210000
DTSTAMP:20260423T064700
CREATED:20240522T182004Z
LAST-MODIFIED:20240522T182004Z
UID:10002794-1723658400-1723669200@downtowntomsriver.com
SUMMARY:Cruisin' Downtown
DESCRIPTION:June 12th\, July 10th\, August 14th \n\n\n\n\n\n\n\nJoin the Downtown Toms River Business Improvement District along with the Vintage Auto Club of Ocean County for a classic car show along Washington St.  DJ will entertain the crowd.  Downtown businesses and restaurants will be open for dinner\, drinks and shopping. \nCars that would like to participate need to line up on Hadley Ave. facing south towards Washington St. no earlier than 4:30pm.  Volunteers will be there to let you know when you can begin to pull your cars into the designated area.  No cars should be pulling directly onto Washington Street.  All cars must line up in the staging area on Hadley Avenue.  All cars manufactured prior to 1997 are welcome.
URL:https://downtowntomsriver.com/event/cruisin-downtown-4/2024-08-14/
LOCATION:Washington Street\, Toms River NJ\, 33 Washington St.\, Toms River\, 08753\, United States
CATEGORIES:Arts & Cluture,Downtown Toms River Events,Entertainment,Kids
ATTACH;FMTTYPE=image/png:https://downtowntomsriver.com/wp-content/uploads/2024/05/9.png
ORGANIZER;CN="Downtown Toms River BID":MAILTO:info@downtowntomsriver.com
END:VEVENT
BEGIN:VEVENT
DTSTART;TZID=America/New_York:20240720T140000
DTEND;TZID=America/New_York:20240720T200000
DTSTAMP:20260423T064700
CREATED:20240426T185644Z
LAST-MODIFIED:20240426T185738Z
UID:10002100-1721484000-1721505600@downtowntomsriver.com
SUMMARY:Summer in the Street Festival
DESCRIPTION:Summer in the Street Festival – July 20th from 2:00pm – 8:00pm\n\nPerformances by:\n – The Music Academy\n – OC Jukebox\n – Wrong Exit\n – The Dance Centre\n\nGood Eats from our local restaurants and TR Fire Co. # 1.\n– A Thyme for All Seasons– Battle River Brewing– Capones– Garden State Distillery– Mandoli’s\n– Mathis House– Mullers Creamery\n– Netty’s Sweets– Oi Sushi– Smokies BBQ– Tacotastic\n– Tommy Boy’s Cafe\nEnjoy yummy beer & drinks\nHandcraft vendors\, Food Trucks\, Family fun!\n\nStay and hang out with us for Downtown Night Out!\n 
URL:https://downtowntomsriver.com/event/summer-in-the-street-festival-2/
LOCATION:Washington Street\, Toms River NJ\, 33 Washington St.\, Toms River\, 08753\, United States
CATEGORIES:Arts & Cluture,Downtown Toms River Events,Entertainment,Kids
ATTACH;FMTTYPE=image/png:https://downtowntomsriver.com/wp-content/uploads/2024/04/SUMMER-IN-THE-STREET-FLYER_VENDOR.png
ORGANIZER;CN="Downtown Toms River BID":MAILTO:info@downtowntomsriver.com
END:VEVENT
BEGIN:VEVENT
DTSTART;TZID=America/New_York:20240710T180000
DTEND;TZID=America/New_York:20240710T210000
DTSTAMP:20260423T064700
CREATED:20240522T182004Z
LAST-MODIFIED:20240522T182004Z
UID:10002793-1720634400-1720645200@downtowntomsriver.com
SUMMARY:Cruisin' Downtown
DESCRIPTION:June 12th\, July 10th\, August 14th \n\n\n\n\n\n\n\nJoin the Downtown Toms River Business Improvement District along with the Vintage Auto Club of Ocean County for a classic car show along Washington St.  DJ will entertain the crowd.  Downtown businesses and restaurants will be open for dinner\, drinks and shopping. \nCars that would like to participate need to line up on Hadley Ave. facing south towards Washington St. no earlier than 4:30pm.  Volunteers will be there to let you know when you can begin to pull your cars into the designated area.  No cars should be pulling directly onto Washington Street.  All cars must line up in the staging area on Hadley Avenue.  All cars manufactured prior to 1997 are welcome.
URL:https://downtowntomsriver.com/event/cruisin-downtown-4/2024-07-10/
LOCATION:Washington Street\, Toms River NJ\, 33 Washington St.\, Toms River\, 08753\, United States
CATEGORIES:Arts & Cluture,Downtown Toms River Events,Entertainment,Kids
ATTACH;FMTTYPE=image/png:https://downtowntomsriver.com/wp-content/uploads/2024/05/9.png
ORGANIZER;CN="Downtown Toms River BID":MAILTO:info@downtowntomsriver.com
END:VEVENT
BEGIN:VEVENT
DTSTART;TZID=America/New_York:20240612T180000
DTEND;TZID=America/New_York:20240612T210000
DTSTAMP:20260423T064700
CREATED:20240522T182004Z
LAST-MODIFIED:20240522T182004Z
UID:10002792-1718215200-1718226000@downtowntomsriver.com
SUMMARY:Cruisin' Downtown
DESCRIPTION:June 12th\, July 10th\, August 14th \n\n\n\n\n\n\n\nJoin the Downtown Toms River Business Improvement District along with the Vintage Auto Club of Ocean County for a classic car show along Washington St.  DJ will entertain the crowd.  Downtown businesses and restaurants will be open for dinner\, drinks and shopping. \nCars that would like to participate need to line up on Hadley Ave. facing south towards Washington St. no earlier than 4:30pm.  Volunteers will be there to let you know when you can begin to pull your cars into the designated area.  No cars should be pulling directly onto Washington Street.  All cars must line up in the staging area on Hadley Avenue.  All cars manufactured prior to 1997 are welcome.
URL:https://downtowntomsriver.com/event/cruisin-downtown-4/2024-06-12/
LOCATION:Washington Street\, Toms River NJ\, 33 Washington St.\, Toms River\, 08753\, United States
CATEGORIES:Arts & Cluture,Downtown Toms River Events,Entertainment,Kids
ATTACH;FMTTYPE=image/png:https://downtowntomsriver.com/wp-content/uploads/2024/05/9.png
ORGANIZER;CN="Downtown Toms River BID":MAILTO:info@downtowntomsriver.com
END:VEVENT
BEGIN:VEVENT
DTSTART;TZID=America/New_York:20240330T140000
DTEND;TZID=America/New_York:20240330T160000
DTSTAMP:20260423T064700
CREATED:20240313T142144Z
LAST-MODIFIED:20240313T142144Z
UID:10002045-1711807200-1711814400@downtowntomsriver.com
SUMMARY:Open Swim & Egg Hunt/Activities at Aqua-Tots Swim Schools
DESCRIPTION:Join us for an exciting Easter Egg Hunt at Aqua-Tots Swim School Toms River on March 30th from 2-4pm! Dive into fun with a lineup that promises a splashing good time for everyone.\n\nFrom 2-3pm\, jump into Open Swim\, where parents MUST join their little ones in the water for some aquatic adventures. Then\, from 3-4pm\, get ready for the main event: our Egg Hunt! Kids can search high and low for eggs. Every participant will receive a treat bag to take home. BRING YOUR OWN BASKET\n\nBut the fun doesn’t stop there! We’ll also have coloring pages\, games\, snacks\, small crafts\, and even a raffle with exciting prizes. It’s an afternoon packed with entertainment for the whole family.\n\nThe cost is just $10 per child\, and spots are limited\, so be sure to secure your place by registering. You can sign up by calling (732) 917-4743 or simply stopping by the front desk. Don’t miss out on this egg-citing event!
URL:https://downtowntomsriver.com/event/open-swim-egg-hunt-activities-at-aqua-tots-swim-schools/
LOCATION:Aqua-Tots Swim School\, 1358 Hooper Avenue\, Toms River\, NJ\, 08753\, United States
CATEGORIES:Kids
ATTACH;FMTTYPE=image/png:https://downtowntomsriver.com/wp-content/uploads/2024/03/TR-Easter_Egg-Hunt_Flyer_8.5x11.png
ORGANIZER;CN="Aqua-Tots Swim School Toms River":MAILTO:tomsriverinfo@aqua-tots.com
END:VEVENT
BEGIN:VEVENT
DTSTART;TZID=America/New_York:20210612T100000
DTEND;TZID=America/New_York:20210612T170000
DTSTAMP:20260423T064700
CREATED:20210527T125839Z
LAST-MODIFIED:20210527T125839Z
UID:10000520-1623492000-1623517200@downtowntomsriver.com
SUMMARY:TR Fire Co. 1’s 125th Anniversary Event
DESCRIPTION:We will be having a parade down Hooper Ave to Water Street ending on Robbins St beginning at 10am to be followed by our Robbins Street Block Party 11am – 5pm.  Live Music\, Beer/Wine tent\, crafters\, Kids events / demonstrations. 50/50 Raffle\, TRFD 125th Anniversary items for sale\, etc.
URL:https://downtowntomsriver.com/event/tr-fire-co-1s-125th-anniversary-event/
LOCATION:Toms River FIre Co No. 1\, 26 Robbins St.\, Toms River\, NJ\, 08754\, United States
CATEGORIES:Kids
ATTACH;FMTTYPE=image/png:https://downtowntomsriver.com/wp-content/uploads/2021/05/TRFD-125-Years-logo-1.png
ORGANIZER;CN="TRFD #1":MAILTO:cweingroff@trfire.org
END:VEVENT
END:VCALENDAR