BEGIN:VCALENDAR
VERSION:2.0
PRODID:-// - ECPv6.15.15//NONSGML v1.0//EN
CALSCALE:GREGORIAN
METHOD:PUBLISH
X-ORIGINAL-URL:https://downtowntomsriver.com
X-WR-CALDESC:Events for 
REFRESH-INTERVAL;VALUE=DURATION:PT1H
X-Robots-Tag:noindex
X-PUBLISHED-TTL:PT1H
BEGIN:VTIMEZONE
TZID:America/New_York
BEGIN:DAYLIGHT
TZOFFSETFROM:-0500
TZOFFSETTO:-0400
TZNAME:EDT
DTSTART:20240310T070000
END:DAYLIGHT
BEGIN:STANDARD
TZOFFSETFROM:-0400
TZOFFSETTO:-0500
TZNAME:EST
DTSTART:20241103T060000
END:STANDARD
BEGIN:DAYLIGHT
TZOFFSETFROM:-0500
TZOFFSETTO:-0400
TZNAME:EDT
DTSTART:20250309T070000
END:DAYLIGHT
BEGIN:STANDARD
TZOFFSETFROM:-0400
TZOFFSETTO:-0500
TZNAME:EST
DTSTART:20251102T060000
END:STANDARD
BEGIN:DAYLIGHT
TZOFFSETFROM:-0500
TZOFFSETTO:-0400
TZNAME:EDT
DTSTART:20260308T070000
END:DAYLIGHT
BEGIN:STANDARD
TZOFFSETFROM:-0400
TZOFFSETTO:-0500
TZNAME:EST
DTSTART:20261101T060000
END:STANDARD
END:VTIMEZONE
BEGIN:VEVENT
DTSTART;VALUE=DATE:20251202
DTEND;VALUE=DATE:20260101
DTSTAMP:20260423T110444
CREATED:20250417T152604Z
LAST-MODIFIED:20250417T152604Z
UID:10004234-1764633600-1767225599@downtowntomsriver.com
SUMMARY:Wreath Walk 2025
DESCRIPTION:December 2nd – December 31st: Visit Downtown Toms River to experience the arts and Holiday cheer! – Our annual Wreath-Walk and competition is fun for the whole family. – \nGrab something hot to drink from one of our fabulous Downtown eateries. Take a stroll\, admire\, and choose your favorite wreath–be sure to vote! – \nAll wreaths are handcrafted. Registry is FREE.  – Drop off your ballots to The Downtown Shops @ 53 Main or Toms River Branch of the Ocean County Library. – \nCall or email the BID for more info: 732 – 341 – 8738 or info@downtowntomsriver.com \nFor more fun and events\, follow our Facebook: www.facebook.com/downtowntomsrive Instagram: www.instagram.com/downtowntomsriver/ for updates and info. \n 
URL:https://downtowntomsriver.com/event/wreath-walk-2025/
LOCATION:Downtown Toms River\, Washington St\,.\, Toms River\, NJ\, 08753\, United States
CATEGORIES:Arts & Cluture,Arts & Crafts,Downtown Toms River Events,Kids
ATTACH;FMTTYPE=image/png:https://downtowntomsriver.com/wp-content/uploads/2025/04/Wreath-Walk-2025.png
ORGANIZER;CN="Downtown Toms River BID":MAILTO:info@downtowntomsriver.com
END:VEVENT
END:VCALENDAR