BEGIN:VCALENDAR
VERSION:2.0
PRODID:-// - ECPv6.15.15//NONSGML v1.0//EN
CALSCALE:GREGORIAN
METHOD:PUBLISH
X-ORIGINAL-URL:https://downtowntomsriver.com
X-WR-CALDESC:Events for 
REFRESH-INTERVAL;VALUE=DURATION:PT1H
X-Robots-Tag:noindex
X-PUBLISHED-TTL:PT1H
BEGIN:VTIMEZONE
TZID:America/New_York
BEGIN:DAYLIGHT
TZOFFSETFROM:-0500
TZOFFSETTO:-0400
TZNAME:EDT
DTSTART:20250309T070000
END:DAYLIGHT
BEGIN:STANDARD
TZOFFSETFROM:-0400
TZOFFSETTO:-0500
TZNAME:EST
DTSTART:20251102T060000
END:STANDARD
BEGIN:DAYLIGHT
TZOFFSETFROM:-0500
TZOFFSETTO:-0400
TZNAME:EDT
DTSTART:20260308T070000
END:DAYLIGHT
BEGIN:STANDARD
TZOFFSETFROM:-0400
TZOFFSETTO:-0500
TZNAME:EST
DTSTART:20261101T060000
END:STANDARD
BEGIN:DAYLIGHT
TZOFFSETFROM:-0500
TZOFFSETTO:-0400
TZNAME:EDT
DTSTART:20270314T070000
END:DAYLIGHT
BEGIN:STANDARD
TZOFFSETFROM:-0400
TZOFFSETTO:-0500
TZNAME:EST
DTSTART:20271107T060000
END:STANDARD
END:VTIMEZONE
BEGIN:VEVENT
DTSTART;TZID=America/New_York:20260315T140000
DTEND;TZID=America/New_York:20260315T170000
DTSTAMP:20260423T085932
CREATED:20260109T152258Z
LAST-MODIFIED:20260109T152258Z
UID:10005638-1773583200-1773594000@downtowntomsriver.com
SUMMARY:"Gravesites of the Signers of the Declaration of Independence"
DESCRIPTION:“Gravesites of the Signers of the Declaration of Independence” presented by TJ Fallon \nSunday\, March 15\, 2026 – 2:00 PM \nTJ Fallon returns to the Ocean County Historical Society on Sunday\, March 15\, 2026\, with a PowerPoint presentation on the gravesites of the fifty-six signers of the Declaration of Independence. Back in 2020\, TJ was furloughed from work at the start of the coronavirus pandemic. He decided to spend that time traveling the nation\, visiting the gravesites of former presidents\, vice presidents\, signers of the Declaration of Independence and baseball Hall of Famers. To accomplish this feat\, he traveled more than 20\,000 miles through thirty-three states. His adventures are extremely entertaining and informative. \nThis event takes place at our museum at 26 Hadley Avenue in Toms River. There is no charge\, but donations are appreciated. To reserve your seat early please send your name\, zip code\, email address\, phone number\, and the name and date of the program (March 15\, 2026) to: oceancountyhistory.programs@gmail.com.
URL:https://downtowntomsriver.com/event/gravesites-of-the-signers-of-the-declaration-of-independence/
LOCATION:Ocean County Historical Society\, 26 Hadley Ave\, Toms River\, NJ\, 08753\, United States
CATEGORIES:History
END:VEVENT
BEGIN:VEVENT
DTSTART;TZID=America/New_York:20260328T123000
DTEND;TZID=America/New_York:20260328T160000
DTSTAMP:20260423T085932
CREATED:20260305T140640Z
LAST-MODIFIED:20260305T140640Z
UID:10007474-1774701000-1774713600@downtowntomsriver.com
SUMMARY:Rescheduled Celebration of the 75th Anniversary of the Ocean County Historical Society
DESCRIPTION:Rescheduled Celebration of the 75th Anniversary of the\nOcean County Historical Society \nLocation: 26 Hadley Avenue\, Toms River \nDate: Saturday\, March 28\, 2026 @12:30 PM \nPlease visit the Ocean County Historical Society on Saturday\, March 28\, 2026\, as we proudly celebrate our seventy-fifth anniversary. Our day will commence with a guided tour starting at 12:30 pm of our Elizabeth Sculthorp Force house and museum. You will be able to view our new display commemorating seventy-five years of OCHS history. Next\, starting at 2:00 pm we will have renowned musicians\, Anne and Ridley Enslow\, performing a concert of Revolutionary War music. This is part of OCHS’s commitment to celebrating the 250th Anniversary of American Independence. Cordially join us for coffee and a celebratory cake after the performance. \nThis event is free. To reserve your seat early please send your name\, zip code\, email address\, telephone number and the name and date of the program (March 28\, 2026) to: oceancountyhistory.programs@gmail.com. \n  \n  \n  \n  \n  \n 
URL:https://downtowntomsriver.com/event/rescheduled-celebration-of-the-75th-anniversary-of-the-ocean-county-historical-society-2/
LOCATION:Ocean County Historical Society\, 26 Hadley Ave\, Toms River\, NJ\, 08753\, United States
CATEGORIES:History
END:VEVENT
END:VCALENDAR